BEGIN:VCALENDAR
VERSION:2.0
PRODID:-//IEO Lemosin - ECPv4.9.9//NONSGML v1.0//EN
CALSCALE:GREGORIAN
METHOD:PUBLISH
X-WR-CALNAME:IEO Lemosin
X-ORIGINAL-URL:http://ieo-lemosin.org
X-WR-CALDESC:Events for IEO Lemosin
BEGIN:VTIMEZONE
TZID:Europe/Paris
BEGIN:DAYLIGHT
TZOFFSETFROM:+0100
TZOFFSETTO:+0200
TZNAME:CEST
DTSTART:20160327T010000
END:DAYLIGHT
BEGIN:STANDARD
TZOFFSETFROM:+0200
TZOFFSETTO:+0100
TZNAME:CET
DTSTART:20161030T010000
END:STANDARD
END:VTIMEZONE
BEGIN:VEVENT
DTSTART;VALUE=DATE:20160902
DTEND;VALUE=DATE:20160930
DTSTAMP:20260426T042112
CREATED:20160224T123612Z
LAST-MODIFIED:20160419T190329Z
UID:2856-1472774400-1475193599@ieo-lemosin.org
SUMMARY:[IEO Lem] Mòstra / Exposition « Una linga que fai parlar lu país / Une langue qui fait parler le pays »
DESCRIPTION:‘Na mòstra de fotòs e de tesmonhatges de gents dau Parc Perigòrd-Lemosin que parlen a lor biais de lor estachament a la cultura occitana.\nQuela mòstra fuguet farjada per lo PNR e l’IEO Lemosin. \nPer ne’n saubre mai – Renseignements\n05 53 62 28 22 / 05 53 55 12 50 \n \n
URL:http://ieo-lemosin.org/evenement/ieo-lem-mostra-exposition-una-linga-que-fai-parlar-lu-pais-une-langue-qui-fait-parler-le-pays-2-2-2
LOCATION:Maison daus Servicis – Maison des Services\, Tivier – Thiviers (24)
CATEGORIES:IEO Lemosin
END:VEVENT
BEGIN:VEVENT
DTSTART;TZID=Europe/Paris:20160917T143000
DTEND;TZID=Europe/Paris:20160917T153000
DTSTAMP:20260426T042112
CREATED:20160420T175641Z
LAST-MODIFIED:20160808T084634Z
UID:2893-1474122600-1474126200@ieo-lemosin.org
SUMMARY:[IEO Lem] « Çò que conten los noms dau país\, ce que racontent les noms du pays » : balade toponymique
DESCRIPTION:Dans le cadre des Journées européennes du Patrimoine 2016. \n \nUne petite balade\, aux alentours de Louignac\, pour partir en compagnie de Jean-François Vignaud à la découverte du témoignage que nous livrent les noms de lieux de la région. Leur interprétation historique\, culturelle\, humaine nous donne bien des clefs de compréhension de notre territoire et nous invite à un voyage sans fin que nous aurons plaisir et agrément à accomplir le nez au vent et le bâton à la main. \n> Rendez-vous Place de l’Église.\n> Gratuit. \nPer ne’n saubre mai / Renseignements\n05 55 25 11 21 \n
URL:http://ieo-lemosin.org/evenement/ieo-lem-co-que-conten-los-noms-dau-pais-ce-que-racontent-les-noms-du-pays-balade-toponymique
LOCATION:Lonhac – Louignac (19)
CATEGORIES:IEO Lemosin
END:VEVENT
BEGIN:VEVENT
DTSTART;TZID=Europe/Paris:20160917T150000
DTEND;TZID=Europe/Paris:20160917T150000
DTSTAMP:20260426T042112
CREATED:20160318T184251Z
LAST-MODIFIED:20160419T194213Z
UID:2764-1474124400-1474124400@ieo-lemosin.org
SUMMARY:Amusons-nous au musée !
DESCRIPTION: \nVisite costumée et théâtralisée de l’Atelier-musée des Tisserands et de la charentaise en français et en\noccitan suivi d’une collation. \n> Organisé par le CPIE.\n> En partenariat avec le PNR Périgord-Limousin.\n> Gratuit. \nPer ne’n saubre mai / Renseignements\n05 53 56 23 66 \n
URL:http://ieo-lemosin.org/evenement/amusons-nous-au-musee
LOCATION:Chasteu – Château\, Varanha – Varaignes (24)
END:VEVENT
BEGIN:VEVENT
DTSTART;TZID=Europe/Paris:20160917T183000
DTEND;TZID=Europe/Paris:20160917T183000
DTSTAMP:20260426T042112
CREATED:20160914T094622Z
LAST-MODIFIED:20160914T095327Z
UID:3100-1474137000-1474137000@ieo-lemosin.org
SUMMARY:« Ma langue maternelle va mourir et j'ai du mal à vous parler d'amour » par Yannick Jaulin
DESCRIPTION:Fotò : Olivier Soulié \nDe et par Yannick Jaulin\nAvec Alain Larribet (musicien) \n« Je continue à fouiller l’identité\, mon identité.\nIl y a urgence pour moi à parler de langue\, de langue maternelle.\nDe ce qui reste de la mienne\, comme outil poétique pour musser mes yeux dans les ailleurs du monde. \nDe notre monolinguisme français si spécifique\, de notre héritage de la révolution française qui fait des « autres » langues des outils de la contre révolution. \nDe notre incapacité à utiliser le savoir de l’autre comme une ressource. \nD’avoir fait de l’humiliation la norme pour imposer le français. \nDe Claude Duneton\, le regretté corrézien qui en écrivant son livre « Parler Croquant » parlait de la langue des rois\, véhicule des cours d’Europe\, cette langue épurée\, ce filtre imposant entre les élites du pays et le peuple. L’universalisme français n’a concerné pendant quelques siècles que ces élites. \nDes dégâts faits par l’éradication des « patois »\, l’incapacité par exemple à communiquer les émotions et la transmission de ces « tares » aux générations qui suivent. \nOui je parlerai à ma façon\nJe tenterai même de lessiver la langue avec des cendres de patois carbonisé\, de la savonner\, en rajoutant de la graisse à ce français liposucé depuis Rabelais. » \nYannick Jaulin \n> Tarifs : de 5 € à 14 €\n> Durée : 66 min et 3 secondes !\n> À partir de 8 ans\n> Production Le Beau Monde ? – Coproduction Les Treize Arches / Scène nationale de Brive la Gaillarde \nPer ne’n saubre mai – Renseignements\nLes Treize Arches – 05 55 24 62 22 – billetterie@lestreizearches.com \n
URL:http://ieo-lemosin.org/evenement/ma-langue-maternelle-va-mourir-et-jai-du-mal-a-vous-parler-damour-par-yannick-jaulin-2-2-2
LOCATION:Centre socio-culturau municipau Jacques Cartier\, Briva – Brive (19)
END:VEVENT
END:VCALENDAR