BEGIN:VCALENDAR
VERSION:2.0
PRODID:-//IEO Lemosin - ECPv4.9.9//NONSGML v1.0//EN
CALSCALE:GREGORIAN
METHOD:PUBLISH
X-WR-CALNAME:IEO Lemosin
X-ORIGINAL-URL:http://ieo-lemosin.org
X-WR-CALDESC:Events for IEO Lemosin
BEGIN:VTIMEZONE
TZID:Europe/Paris
BEGIN:DAYLIGHT
TZOFFSETFROM:+0100
TZOFFSETTO:+0200
TZNAME:CEST
DTSTART:20160327T010000
END:DAYLIGHT
BEGIN:STANDARD
TZOFFSETFROM:+0200
TZOFFSETTO:+0100
TZNAME:CET
DTSTART:20161030T010000
END:STANDARD
END:VTIMEZONE
BEGIN:VEVENT
DTSTART;VALUE=DATE:20160902
DTEND;VALUE=DATE:20160930
DTSTAMP:20260425T165715
CREATED:20160224T123612Z
LAST-MODIFIED:20160419T190329Z
UID:2856-1472774400-1475193599@ieo-lemosin.org
SUMMARY:[IEO Lem] Mòstra / Exposition « Una linga que fai parlar lu país / Une langue qui fait parler le pays »
DESCRIPTION:‘Na mòstra de fotòs e de tesmonhatges de gents dau Parc Perigòrd-Lemosin que parlen a lor biais de lor estachament a la cultura occitana.\nQuela mòstra fuguet farjada per lo PNR e l’IEO Lemosin. \nPer ne’n saubre mai – Renseignements\n05 53 62 28 22 / 05 53 55 12 50 \n \n
URL:http://ieo-lemosin.org/evenement/ieo-lem-mostra-exposition-una-linga-que-fai-parlar-lu-pais-une-langue-qui-fait-parler-le-pays-2-2-2
LOCATION:Maison daus Servicis – Maison des Services\, Tivier – Thiviers (24)
CATEGORIES:IEO Lemosin
END:VEVENT
BEGIN:VEVENT
DTSTART;TZID=Europe/Paris:20160923T170000
DTEND;TZID=Europe/Paris:20160925T190000
DTSTAMP:20260425T165715
CREATED:20160914T160507Z
LAST-MODIFIED:20160914T160507Z
UID:3104-1474650000-1474830000@ieo-lemosin.org
SUMMARY:[IEO Lem] Festa de la Montanha lemosina
DESCRIPTION:Clicatz sus l’imatge per conéisser lo pre-programa ! \nLa Libraria occitana l’i aurá son banc a la merariá (los 24 e 25) e ‘na collecta de la memòria occitana daus « montanhiers » es prevuda tot dau long de la festa. \n \nPer ne’n saubre mai – Renseignements\nhttp://www.montagnelimousine.net/ \n
URL:http://ieo-lemosin.org/evenement/ieo-lem-festa-de-la-montanha-lemosina-2
LOCATION:La Noalha – La Nouaille (23)
CATEGORIES:IEO Lemosin
END:VEVENT
END:VCALENDAR