BEGIN:VCALENDAR
VERSION:2.0
PRODID:-//IEO Lemosin - ECPv4.9.9//NONSGML v1.0//EN
CALSCALE:GREGORIAN
METHOD:PUBLISH
X-WR-CALNAME:IEO Lemosin
X-ORIGINAL-URL:http://ieo-lemosin.org
X-WR-CALDESC:Events for IEO Lemosin
BEGIN:VTIMEZONE
TZID:Europe/Paris
BEGIN:DAYLIGHT
TZOFFSETFROM:+0100
TZOFFSETTO:+0200
TZNAME:CEST
DTSTART:20160327T010000
END:DAYLIGHT
BEGIN:STANDARD
TZOFFSETFROM:+0200
TZOFFSETTO:+0100
TZNAME:CET
DTSTART:20161030T010000
END:STANDARD
END:VTIMEZONE
BEGIN:VEVENT
DTSTART;TZID=Europe/Paris:20160930T143000
DTEND;TZID=Europe/Paris:20160930T143000
DTSTAMP:20260425T111201
CREATED:20160914T094622Z
LAST-MODIFIED:20160914T100309Z
UID:3103-1475245800-1475245800@ieo-lemosin.org
SUMMARY:« Ma langue maternelle va mourir et j'ai du mal à vous parler d'amour » par Yannick Jaulin
DESCRIPTION:Fotò : Olivier Soulié \nDe et par Yannick Jaulin\nAvec Alain Larribet (musicien) \n« Je continue à fouiller l’identité\, mon identité.\nIl y a urgence pour moi à parler de langue\, de langue maternelle.\nDe ce qui reste de la mienne\, comme outil poétique pour musser mes yeux dans les ailleurs du monde. \nDe notre monolinguisme français si spécifique\, de notre héritage de la révolution française qui fait des « autres » langues des outils de la contre révolution. \nDe notre incapacité à utiliser le savoir de l’autre comme une ressource. \nD’avoir fait de l’humiliation la norme pour imposer le français. \nDe Claude Duneton\, le regretté corrézien qui en écrivant son livre « Parler Croquant » parlait de la langue des rois\, véhicule des cours d’Europe\, cette langue épurée\, ce filtre imposant entre les élites du pays et le peuple. L’universalisme français n’a concerné pendant quelques siècles que ces élites. \nDes dégâts faits par l’éradication des « patois »\, l’incapacité par exemple à communiquer les émotions et la transmission de ces « tares » aux générations qui suivent. \nOui je parlerai à ma façon\nJe tenterai même de lessiver la langue avec des cendres de patois carbonisé\, de la savonner\, en rajoutant de la graisse à ce français liposucé depuis Rabelais. » \nYannick Jaulin \n> Gratuit\n> Durée : 66 min et 3 secondes !\n> À partir de 8 ans\n> Dans le cadre des Francophonies en Limousin \nPer ne’n saubre mai – Renseignements\nLes Francophonies en Limousin – 05 55 32 44 20 – www.lesfrancophonies.fr \n
URL:http://ieo-lemosin.org/evenement/ma-langue-maternelle-va-mourir-et-jai-du-mal-a-vous-parler-damour-par-yannick-jaulin-2-2-3
LOCATION:Biblioteca Francofòna Multimedia – Bfm\, Limòtges – Limoges (87)
END:VEVENT
BEGIN:VEVENT
DTSTART;TZID=Europe/Paris:20160930T210000
DTEND;TZID=Europe/Paris:20160930T210000
DTSTAMP:20260425T111201
CREATED:20160927T180414Z
LAST-MODIFIED:20160927T180645Z
UID:3143-1475269200-1475269200@ieo-lemosin.org
SUMMARY:Ti'bal tribal avec André Minvielle
DESCRIPTION:Dans le cadre des Journées du Parc (PNR Périgord-Limousin) du 30 septembre au 16 octobre 2016 et en partenariat avec les Guitares vertes. \n \nLes accents du bal pour faire danser la mémoire. Ti’bal tribal c’est le bal de tous les accents. En langues d’ici ou de là-bas. On mixe. C’est joyeux\, ludique\, pour faire danser la vie. Seule à seul ou en couple\, en cercle circassien\, en ronde instantanée\, en petits moments de liberté. De la tête aux pieds ! \nChanteur\, batteur\, scatteur\, rappeur\, rime-ailleurs qui bouscule les mots et les conventions\, André Minvielle nous vient de Gascogne où il pratique\, outre le chant gascon\, un art nouveau nommé “Vocalchimie”\, qu’il a expérimenté avec ses compères de la Compagnie Lubat de Gasconha. \nSon univers est fait d’humour\, d’”improvis’action”. Il mélange tradition et modernisme\, vieux porte-voix et sampleurs. Tout y passe : un traditionnel gascon\, une biguine “gasconcubine”\, un thème de Monk\, un petit blues en passant\, un hommage aux chants pygmées… autant de styles qui font son originalité sans oublier l’univers du musette de ses débuts. \nDu jamais entendu\, du tout sauf banal\, qui allume le sourire et fait circuler les frissons. Il explore bouscule et réinvente les traditions populaires ou savantes\, avec un sens peu commun du direct (dans la communication\, dans l’émotion\, dans l’expression). \nCe grand pourfendeur de mots saisit l’air du temps avec un incomparable sens de la langue et de l’improvise. Seul\, ou avec ses compagnons de route Lionel Suarez\, Denis Charolles\, Didier Petit\, Marc Perrone pour ne citer qu’eux\, André Minvielle vous convie à une fête du chant dans tous ses éclats. L’enfance de l’art et l’art de l’enfance en même temps\, sur tous les tempos. Du blues au patois\, de la gaîté au déchirement… \nAvec ce troubadour vocalchimiste\, le jazz cogne\, valse\, virevolte\, chaloupe et s’encanaille. \n> Tarif : 8 € plein tarif / 5€ tarif réduit \nPer ne’n saubre mai – Renseignements\nPNR Périgord-Limousin – 05 53 55 36 00 – http://www.pnr-perigord-limousin.fr/ \n
URL:http://ieo-lemosin.org/evenement/tibal-tribal-andre-minvielle
LOCATION:Sala culturala – Salle culturelle\, La Coquilha – La Coquille (24)
END:VEVENT
END:VCALENDAR