BEGIN:VCALENDAR
VERSION:2.0
PRODID:-//IEO Lemosin - ECPv4.9.9//NONSGML v1.0//EN
CALSCALE:GREGORIAN
METHOD:PUBLISH
X-WR-CALNAME:IEO Lemosin
X-ORIGINAL-URL:http://ieo-lemosin.org
X-WR-CALDESC:Events for IEO Lemosin
BEGIN:VTIMEZONE
TZID:Europe/Paris
BEGIN:DAYLIGHT
TZOFFSETFROM:+0100
TZOFFSETTO:+0200
TZNAME:CEST
DTSTART:20160327T010000
END:DAYLIGHT
BEGIN:STANDARD
TZOFFSETFROM:+0200
TZOFFSETTO:+0100
TZNAME:CET
DTSTART:20161030T010000
END:STANDARD
END:VTIMEZONE
BEGIN:VEVENT
DTSTART;TZID=Europe/Paris:20161011T180000
DTEND;TZID=Europe/Paris:20161011T200000
DTSTAMP:20260424T185148
CREATED:20160922T162653Z
LAST-MODIFIED:20160922T173423Z
UID:3136-1476208800-1476216000@ieo-lemosin.org
SUMMARY:[IEO Lem] Monica Sarrasin presenta son noveu libre
DESCRIPTION: \nLo libre\nAprès La Lison dau Peirat que\, a las Edicions dau chamin de sent Jaume\, dreibia la colleccion « Nòstre monde » en 2005 e La Setmana de la Lison dos ans tardier\, l-i a ’gut per la Monica Sarrasin nòu ans de silenci literari.\nMas que fasia donc d’aqueu temps dich ?\nÒ ! ’Quo era n’es gran un silenci deleser. Estudiava a l’Universitat d’a Montpelhier l’occitan e sa literatura\, de long de temps (dau segle XII au segle XX)\, d’eslarg d’espaci (de Provença a Lemosin).\nNos ne’n tornet emb la licencia e los dos masters dins la biaça.\nUn voiatge intellectuau\, iniciatic\, que li era de neciera\, probable.\nE a nòstra sabenta\, per nòstre bonaür\, l’enveja d’escriure tornet. \n’Quò nos balha uei uech retrachs publijats jos lo titol « D’Entre tant\, quauques uns » que\, de la colleccion « Nòstre monde » n’es lo n°8.\nTotas las qualitats qu’aviatz aimadas dins los dos prumiers libres\, las tornaretz ’quí trobar. Monica Sarrasin sap campar lo monde dins lor veritat\, los sap far viure\, parlar\, los sap menar de cencena d’istòria\, en granda justessa e libertat de ton.\nLa lenga era plan bona\, es ’quí enguera mai richa.\nUn bon libre ente\, coma dins la vita\, òm passa dau rire a las gremas\, aquí leugier\, aquí greu… La vita. \nPer ne’n saubre mai\nLibraria occitana – 05 55 32 06 44 – libraria.occitana@ieo-lemosin.org \n
URL:http://ieo-lemosin.org/evenement/ieo-lem-monica-sarrasin-presenta-son-noveu-libre
LOCATION:Libraria occitana\, 26\, rua Viena-Nauta – rue Haute-Vienne\, Limòtges – Limoges (87)
CATEGORIES:IEO Lemosin
END:VEVENT
END:VCALENDAR