BEGIN:VCALENDAR
VERSION:2.0
PRODID:-//IEO Lemosin - ECPv4.9.9//NONSGML v1.0//EN
CALSCALE:GREGORIAN
METHOD:PUBLISH
X-WR-CALNAME:IEO Lemosin
X-ORIGINAL-URL:http://ieo-lemosin.org
X-WR-CALDESC:Events for IEO Lemosin
BEGIN:VTIMEZONE
TZID:Europe/Paris
BEGIN:DAYLIGHT
TZOFFSETFROM:+0100
TZOFFSETTO:+0200
TZNAME:CEST
DTSTART:20160327T010000
END:DAYLIGHT
BEGIN:STANDARD
TZOFFSETFROM:+0200
TZOFFSETTO:+0100
TZNAME:CET
DTSTART:20161030T010000
END:STANDARD
END:VTIMEZONE
BEGIN:VEVENT
DTSTART;TZID=Europe/Paris:20161013T203000
DTEND;TZID=Europe/Paris:20161013T203000
DTSTAMP:20260424T155341
CREATED:20160419T165339Z
LAST-MODIFIED:20160419T181821Z
UID:2837-1476390600-1476390600@ieo-lemosin.org
SUMMARY:Soirée chants et dialecte occitan-limousin
DESCRIPTION:> Gratuit \nPer ne’n saubre mai / Renseignements\n05 55 00 30 68 \n
URL:http://ieo-lemosin.org/evenement/soiree-chants-et-dialecte-occitan-limousin-2-2-2-2-2-2-2-2-2-2-2
LOCATION:Sala de las festas – Salle des fêtes\, Las Salas La Vau Guion – Les Salles-Lavauguyon (87)
END:VEVENT
END:VCALENDAR