BEGIN:VCALENDAR
VERSION:2.0
PRODID:-//IEO Lemosin - ECPv4.9.9//NONSGML v1.0//EN
CALSCALE:GREGORIAN
METHOD:PUBLISH
X-WR-CALNAME:IEO Lemosin
X-ORIGINAL-URL:http://ieo-lemosin.org
X-WR-CALDESC:Events for IEO Lemosin
BEGIN:VTIMEZONE
TZID:Europe/Paris
BEGIN:DAYLIGHT
TZOFFSETFROM:+0100
TZOFFSETTO:+0200
TZNAME:CEST
DTSTART:20160327T010000
END:DAYLIGHT
BEGIN:STANDARD
TZOFFSETFROM:+0200
TZOFFSETTO:+0100
TZNAME:CET
DTSTART:20161030T010000
END:STANDARD
END:VTIMEZONE
BEGIN:VEVENT
DTSTART;VALUE=DATE:20161015
DTEND;VALUE=DATE:20161113
DTSTAMP:20260424T112456
CREATED:20161025T204815Z
LAST-MODIFIED:20161025T210315Z
UID:3206-1476489600-1478995199@ieo-lemosin.org
SUMMARY:Mòstra Marcela Delpastre
DESCRIPTION: \nUne exposition qui retrace\, en 14 panneaux\, la vie et l’œuvre de Marcelle Delpastre\, écrivaine et poète limousine de langue occitane. \n> Exposition prêtée par la Bfm de Limoges\n> Visible dans les horaires d’ouverture de la Médiathèque \n→ Projection « Marcelle Delpastre\, à fleur de vie » jeudi 10 novembre à 18h30 \nPer ne’n saubre mai – Renseignements\nMédiathèque (4\, avenue Jean Vinatier – 19700 Seilhac) – 05 55 27 98 41 – mediatheque@ville-seilhac.com \n
URL:http://ieo-lemosin.org/evenement/mostra-marcela-delpastre
LOCATION:Sala – Salle Marguerite Cerou\, Selhac – Seilhac (19)
END:VEVENT
BEGIN:VEVENT
DTSTART;TZID=Europe/Paris:20161016T143000
DTEND;TZID=Europe/Paris:20161016T143000
DTSTAMP:20260424T112456
CREATED:20160927T101022Z
LAST-MODIFIED:20161007T144928Z
UID:3139-1476628200-1476628200@ieo-lemosin.org
SUMMARY:[IEO Lem] Vélo-ciné occitan !
DESCRIPTION:Dans le cadre de LA Journée du Parc (PNR Périgord-Limousin) dimanche 16 octobre 2016. \nUn vélo-ciné occitan ? Qu’es aquò un còp de mai ? Vous vous souvenez de la pub de Contrex où le public pédalait pour dévoiler des hommes projetés à l’écran ? Eh bien\, c’est cela que nous vous proposons mais pour mettre à nu la culture occitane ! Saurez-vous relever le défi ? \n> Organisé par le Parc Périgord-Limousin\, en partenariat avec l’Institut d’Études Occitanes du Limousin.\n> Et aussi lors de cette journée : « As-tu bladat ? » : jeu grandeur nature sur l’agriculture\, « Raconte-nous Rochechouart » : contes à la demande en occitan ou en français\,… \n→ Retrouvez le programme complet des Journées du Parc du 30 septembre au 16 octobre \nPer ne’n saubre mai – Renseignements\nPNR Périgord-Limousin – 05 53 55 36 00 – http://www.pnr-perigord-limousin.fr/ \n \n
URL:http://ieo-lemosin.org/evenement/ieo-lem-velo-cine-occitan
LOCATION:Aléias dau chasteu – Allées du château\, Rechoard – Rochechouart (87)
CATEGORIES:IEO Lemosin
END:VEVENT
END:VCALENDAR