BEGIN:VCALENDAR
VERSION:2.0
PRODID:-//IEO Lemosin - ECPv4.9.9//NONSGML v1.0//EN
CALSCALE:GREGORIAN
METHOD:PUBLISH
X-WR-CALNAME:IEO Lemosin
X-ORIGINAL-URL:http://ieo-lemosin.org
X-WR-CALDESC:Events for IEO Lemosin
BEGIN:VTIMEZONE
TZID:Europe/Paris
BEGIN:DAYLIGHT
TZOFFSETFROM:+0100
TZOFFSETTO:+0200
TZNAME:CEST
DTSTART:20160327T010000
END:DAYLIGHT
BEGIN:STANDARD
TZOFFSETFROM:+0200
TZOFFSETTO:+0100
TZNAME:CET
DTSTART:20161030T010000
END:STANDARD
END:VTIMEZONE
BEGIN:VEVENT
DTSTART;VALUE=DATE:20161015
DTEND;VALUE=DATE:20161113
DTSTAMP:20260424T014255
CREATED:20161025T204815Z
LAST-MODIFIED:20161025T210315Z
UID:3206-1476489600-1478995199@ieo-lemosin.org
SUMMARY:Mòstra Marcela Delpastre
DESCRIPTION: \nUne exposition qui retrace\, en 14 panneaux\, la vie et l’œuvre de Marcelle Delpastre\, écrivaine et poète limousine de langue occitane. \n> Exposition prêtée par la Bfm de Limoges\n> Visible dans les horaires d’ouverture de la Médiathèque \n→ Projection « Marcelle Delpastre\, à fleur de vie » jeudi 10 novembre à 18h30 \nPer ne’n saubre mai – Renseignements\nMédiathèque (4\, avenue Jean Vinatier – 19700 Seilhac) – 05 55 27 98 41 – mediatheque@ville-seilhac.com \n
URL:http://ieo-lemosin.org/evenement/mostra-marcela-delpastre
LOCATION:Sala – Salle Marguerite Cerou\, Selhac – Seilhac (19)
END:VEVENT
BEGIN:VEVENT
DTSTART;TZID=Europe/Paris:20161022T140000
DTEND;TZID=Europe/Paris:20161022T140000
DTSTAMP:20260424T014255
CREATED:20160419T182638Z
LAST-MODIFIED:20161007T150834Z
UID:2838-1477144800-1477144800@ieo-lemosin.org
SUMMARY:[IEO Lem] « Chas los Craunha-chastanhas - Chez les mangeurs de châtaignes »
DESCRIPTION:Programmation Parc Naturel Régional Périgord-Limousin. \nLa châtaigne dans l’alimentation traditionnelle du Périgord-Limousin\, ‘talier a l’entorn dau chastanh. \n \nSuivez l’itinéraire des châtaignes\, daus picons daus pelons\, des épines de leurs bogues à l’estomac des paysans qu’elles venaient sustenter. L’occasion d’arpenter\, le panier à la main\, ces châtaigneraies\, de découvrir le « clédier » où le fruit était séché et de se retrouver au coin du feu\, pour préparer nos châtaignes en « boursées »\, en « chauvets » ou « blanchies » avant de les déguster. \n> Animé par l’Institut d’Études Occitanes du Limousin. \nPer ne’n saubre mai / Renseignements\nParc Naturel Régional Périgord-Limousin – 05 53 55 36 00 – http://www.pnr-perigord-limousin.fr/ \n
URL:http://ieo-lemosin.org/evenement/ieo-lem-chas-los-craunha-chastanhas-chez-les-mangeurs-de-chataignes
LOCATION:Plaça de la Merariá – Place de la Mairie\, Cussac (87)
CATEGORIES:IEO Lemosin
END:VEVENT
BEGIN:VEVENT
DTSTART;TZID=Europe/Paris:20161022T203000
DTEND;TZID=Europe/Paris:20161022T203000
DTSTAMP:20260424T014255
CREATED:20160916T095614Z
LAST-MODIFIED:20160916T113828Z
UID:3112-1477168200-1477168200@ieo-lemosin.org
SUMMARY:Velhada-conte coma Micheu Chapduelh
DESCRIPTION:© Photo Archives J. H. \nMicheu Chapduelh est à la fois écrivain et conteur.\nNé entre prés et bois dans ce Périgord où il vit toujours\, Michel Chadeuil (Micheu Chapduelh en occitan) écrit depuis l’adolescence dans sa langue maternelle\, l’occitan\, dans sa variante limousine. Son œuvre est riche d’ouvrages divers toujours teintés de pointes d’un humour mordant. Fondateur avec Marcelle Delpastre et Jan dau Melhau de la revue Lo Leberaubre\, il est un inclassable poète (Lo còr e las dents\, L’Òme\, pas mai\, L’emplumat)\, romancier (De temps en temps\, La segonda luna\, etc…)\, créateur de chansons (Chançons) et écrivain de chroniques (Colèras\, Darreir los uelhs)\, d’études et de textes de fiction profondément influencés par ses recherches ethnographiques (Cuisine paysanne en Périgord\, Expressions et dictons du Périgord et du Limousin\, Grizzly John\, etc…). S’intéressant à tout ce qui touche la culture populaire de tradition orale\, il est lui-même conteur. \n> Tarif : Participation libre\n> Le Cour Jean Jaurès se situe dans la vieille ville\, derrière l’église. \nPer ne’n saubre mai\nLa P’tite Fabrique solidaire (Cour Jean Jaurès – 19140 Uzerche) – 07 83 93 71 48 – 05 55 73 47 98 – fabriquesolidaire@gmail.com \n
URL:http://ieo-lemosin.org/evenement/velhada-conte-coma-micheu-chapduelh
LOCATION:La P’tite Fabrique solidaire\, Cour Jean Jaurès\, Usercha – Uzerche (19)
END:VEVENT
END:VCALENDAR