BEGIN:VCALENDAR
VERSION:2.0
PRODID:-//IEO Lemosin - ECPv4.9.9//NONSGML v1.0//EN
CALSCALE:GREGORIAN
METHOD:PUBLISH
X-WR-CALNAME:IEO Lemosin
X-ORIGINAL-URL:http://ieo-lemosin.org
X-WR-CALDESC:Events for IEO Lemosin
BEGIN:VTIMEZONE
TZID:Europe/Paris
BEGIN:DAYLIGHT
TZOFFSETFROM:+0100
TZOFFSETTO:+0200
TZNAME:CEST
DTSTART:20160327T010000
END:DAYLIGHT
BEGIN:STANDARD
TZOFFSETFROM:+0200
TZOFFSETTO:+0100
TZNAME:CET
DTSTART:20161030T010000
END:STANDARD
END:VTIMEZONE
BEGIN:VEVENT
DTSTART;VALUE=DATE:20161015
DTEND;VALUE=DATE:20161113
DTSTAMP:20260423T153247
CREATED:20161025T204815Z
LAST-MODIFIED:20161025T210315Z
UID:3206-1476489600-1478995199@ieo-lemosin.org
SUMMARY:Mòstra Marcela Delpastre
DESCRIPTION: \nUne exposition qui retrace\, en 14 panneaux\, la vie et l’œuvre de Marcelle Delpastre\, écrivaine et poète limousine de langue occitane. \n> Exposition prêtée par la Bfm de Limoges\n> Visible dans les horaires d’ouverture de la Médiathèque \n→ Projection « Marcelle Delpastre\, à fleur de vie » jeudi 10 novembre à 18h30 \nPer ne’n saubre mai – Renseignements\nMédiathèque (4\, avenue Jean Vinatier – 19700 Seilhac) – 05 55 27 98 41 – mediatheque@ville-seilhac.com \n
URL:http://ieo-lemosin.org/evenement/mostra-marcela-delpastre
LOCATION:Sala – Salle Marguerite Cerou\, Selhac – Seilhac (19)
END:VEVENT
BEGIN:VEVENT
DTSTART;VALUE=DATE:20161028
DTEND;VALUE=DATE:20161031
DTSTAMP:20260423T153247
CREATED:20161025T213629Z
LAST-MODIFIED:20161025T213819Z
UID:3214-1477612800-1477871999@ieo-lemosin.org
SUMMARY:[IEO Lem] Jan-Glaudi Jarric + la Libraria occitana a las Jornadas de la chastanha
DESCRIPTION:Vendredi 28\n– 20h30\, salle des fêtes de Dournazac : Contes et musiques en Périgord Limousin avec Jean-Claude Jarry \nSamedi 29\n– Concours de desserts à base de châtaignes ouvert à tous. \n– 15h00 : Conférence sur l’évolution du cynips dans notre région\n– 18h00 : Remise des prix du concours de desserts.\n– 19h30 : Concert en l’église de Dournazac avec la chorale Cantarella (gratuit). \nDimanche 30 : Fête populaire\n– Vente artisanale autour de la châtaigne et du châtaigner\, dégustation de produits régionaux : cidre\, châtaignes blanchies\, boudins\, gâteaux\, beignets aux châtaignes.\n– Concours primés\, de marron et de châtaignes et de la plus grosse châtaigne.\n– Décoration florale de l’église du XIIème siècle.\n– Plus d’une centaine de stands marchands dont la Libraria occitana.\n– Exposition à la salle des fêtes.\n– À midi sous abri : repas gastronomique autour de la châtaigne / réservation au 05 55 78 48 13 ou 05 55 78 65 10 \n> Entrée payante : 2€ \nPer ne’n saubre mai – Renseignements\n06 81 23 14 97 \n
URL:http://ieo-lemosin.org/evenement/ieo-lem-jan-glaudi-jarric-la-libraria-occitana-a-las-jornadas-de-la-chastanha
LOCATION:Dornasac – Dournazac (87)
CATEGORIES:IEO Lemosin
END:VEVENT
BEGIN:VEVENT
DTSTART;TZID=Europe/Paris:20161028T190000
DTEND;TZID=Europe/Paris:20161028T190000
DTSTAMP:20260423T153247
CREATED:20160908T120450Z
LAST-MODIFIED:20161016T182214Z
UID:3081-1477681200-1477681200@ieo-lemosin.org
SUMMARY:« La littérature limousine d'expression occitane d'aujourd'hui » : causerie\, lecture\, débat
DESCRIPTION:Avec Monica Sarrasin\, Joan-Peire Lacomba\, Joan Ganhaire et Crestian Bonet.\nAnimé par Jan dau Melhau et Tiston Crestian. \n« Depuis la glorieuse époque des troubadours (XIIe-XIIIe siècles)\, le limousin\, un des grands dialectes occitans parlés dans la Marche\, le Haut Limousin\, le Bas Limousin et les deux tiers nord du Périgord\, avec plus ou moins de bonheur n’a jamais cessé de littérairement s’écrire. \nDepuis la création du félibrige et son implantation dans notre région à la fin du XIXe siècle\, il est riche d’une soixantaine d’auteurs. Aujourd’hui\, une vingtaine d’auteurs font œuvre dans cette langue. Nous parlons de ceux ayant publié au moins un livre conséquent. Les genres cultivés sont de tout ordre. Poésie\, prose poétique\, roman\, théâtre\, chronique\, mémoires\, témoignage\, aphorisme\, mais aussi les genres revisités ou détournés\, les genres crées\, avec la liberté que permet une langue non encombrée par les grands ancêtres. \nPour une langue non enseignée et que beaucoup pensent orale à qui l’on dénie son nom et qu’on continue souvent à appeler patois\, pour une langue qu’on pense sur sa fin\, ce n’est pas si mal\, c’est même étonnant\, extraordinaire. \nEt c’est un paradoxe : moins la langue est parlée\, plus elle est écrite. \nAura-t-elle le destin du latin ? \nEn compagnie de quelques auteurs et d’un universitaire\, nous dresserons un état de cette littérature limousine d’expression occitane\, des problèmes qu’elle pose\, des questions qu’elle se pose. » \nJan dau Melhau \nPer ne’n saubre mai\nBfm (2\, place Aimé-Césaire – 87000 Limoges) – 05 55 45 96 00 – http://www.bm-limoges.fr/ \n \n
URL:http://ieo-lemosin.org/evenement/la-litterature-limousine-dexpression-occitane-daujourdhui-causerie-lecture-debat
LOCATION:Auditorium Clancier\, Biblioteca francofòna multimedia – Bfm\, Limòtges – Limoges (87)
END:VEVENT
BEGIN:VEVENT
DTSTART;TZID=Europe/Paris:20161028T210000
DTEND;TZID=Europe/Paris:20161028T210000
DTSTAMP:20260423T153247
CREATED:20161019T143551Z
LAST-MODIFIED:20161019T143551Z
UID:3193-1477688400-1477688400@ieo-lemosin.org
SUMMARY:Concert « Saique... benlèu ! » d'Arnaud Cance
DESCRIPTION: \nExpression occitane\, « Saique benlèu » pourrait se traduire par « certainement que… peut-être ». Une pirouette linguistique comme les affectionne Arnaud Cance ! Mêlant compositions personnelles en français et en langue d’oc à des reprises de la chanson occitane\, son répertoire dévoile un univers tendre\, espiègle et plein de poésie. Musicien touche-à-tout\, il colore chaque morceau d’une large palette de rythmes et de sonorités en s’accompagnant à la guitare\, aux percussions corporelles et à la loop station. Arnaud Cance\, c’est aussi une voix chaleureuse et envoûtante\, qui sait aussi bien transmettre une émotion que réveiller l’envie de danser ! \n> Tarif : 10 € – gratuit pour les – de 16 ans \nPer ne’n saubre mai – Renseignements\nCondat Animations\, Hélène Lasternas – 06 32 72 59 44 \n
URL:http://ieo-lemosin.org/evenement/concert-saique-benleu-darnaud-cance
LOCATION:Sala de las festas – Salle des fêtes\, Condat – Condat-sur-Vézère (24)
END:VEVENT
END:VCALENDAR