BEGIN:VCALENDAR
VERSION:2.0
PRODID:-//IEO Lemosin - ECPv4.9.9//NONSGML v1.0//EN
CALSCALE:GREGORIAN
METHOD:PUBLISH
X-WR-CALNAME:IEO Lemosin
X-ORIGINAL-URL:http://ieo-lemosin.org
X-WR-CALDESC:Events for IEO Lemosin
BEGIN:VTIMEZONE
TZID:Europe/Paris
BEGIN:DAYLIGHT
TZOFFSETFROM:+0100
TZOFFSETTO:+0200
TZNAME:CEST
DTSTART:20160327T010000
END:DAYLIGHT
BEGIN:STANDARD
TZOFFSETFROM:+0200
TZOFFSETTO:+0100
TZNAME:CET
DTSTART:20161030T010000
END:STANDARD
END:VTIMEZONE
BEGIN:VEVENT
DTSTART;VALUE=DATE:20161015
DTEND;VALUE=DATE:20161113
DTSTAMP:20260422T194441
CREATED:20161025T204815Z
LAST-MODIFIED:20161025T210315Z
UID:3206-1476489600-1478995199@ieo-lemosin.org
SUMMARY:Mòstra Marcela Delpastre
DESCRIPTION: \nUne exposition qui retrace\, en 14 panneaux\, la vie et l’œuvre de Marcelle Delpastre\, écrivaine et poète limousine de langue occitane. \n> Exposition prêtée par la Bfm de Limoges\n> Visible dans les horaires d’ouverture de la Médiathèque \n→ Projection « Marcelle Delpastre\, à fleur de vie » jeudi 10 novembre à 18h30 \nPer ne’n saubre mai – Renseignements\nMédiathèque (4\, avenue Jean Vinatier – 19700 Seilhac) – 05 55 27 98 41 – mediatheque@ville-seilhac.com \n
URL:http://ieo-lemosin.org/evenement/mostra-marcela-delpastre
LOCATION:Sala – Salle Marguerite Cerou\, Selhac – Seilhac (19)
END:VEVENT
BEGIN:VEVENT
DTSTART;TZID=Europe/Paris:20161110T183000
DTEND;TZID=Europe/Paris:20161110T183000
DTSTAMP:20260422T194441
CREATED:20161025T204815Z
LAST-MODIFIED:20161025T210115Z
UID:3209-1478802600-1478802600@ieo-lemosin.org
SUMMARY:Projeccion « Marcelle Delpastre à fleur de vie » + lecturas
DESCRIPTION: \nÀ l’occasion de la présence de l’exposition Marcelle Delpastre à Seilhac\, le documentaire réalisé par Patrick Cazals\, « Marcelle Delpastre à fleur de vie »\, sera projeté\, suivi de lectures des textes de l’auteur. \n→ Exposition « Marcelle Delpastre »  à la salle Cerou du 15 octobre au 12 novembre \nPer ne’n saubre mai – Renseignements\nMédiathèque (4\, avenue Jean Vinatier – 19700 Seilhac) – 05 55 27 98 41 – mediatheque@ville-seilhac.com \n
URL:http://ieo-lemosin.org/evenement/mostra-marcela-delpastre-2
LOCATION:Sala – Salle Marguerite Cerou\, Selhac – Seilhac (19)
END:VEVENT
BEGIN:VEVENT
DTSTART;TZID=Europe/Paris:20161110T203000
DTEND;TZID=Europe/Paris:20161110T203000
DTSTAMP:20260422T194441
CREATED:20160419T165339Z
LAST-MODIFIED:20160419T182953Z
UID:2843-1478809800-1478809800@ieo-lemosin.org
SUMMARY:Soirée chants et dialecte occitan-limousin
DESCRIPTION:> Gratuit \nPer ne’n saubre mai / Renseignements\n05 55 00 30 68 \n
URL:http://ieo-lemosin.org/evenement/soiree-chants-et-dialecte-occitan-limousin-2-2-2-2-2-2-2-2-2-2-2-2
LOCATION:Sala de las festas – Salle des fêtes\, Las Salas La Vau Guion – Les Salles-Lavauguyon (87)
END:VEVENT
END:VCALENDAR