BEGIN:VCALENDAR
VERSION:2.0
PRODID:-//IEO Lemosin - ECPv4.9.9//NONSGML v1.0//EN
CALSCALE:GREGORIAN
METHOD:PUBLISH
X-WR-CALNAME:IEO Lemosin
X-ORIGINAL-URL:http://ieo-lemosin.org
X-WR-CALDESC:Events for IEO Lemosin
BEGIN:VTIMEZONE
TZID:Europe/Paris
BEGIN:DAYLIGHT
TZOFFSETFROM:+0100
TZOFFSETTO:+0200
TZNAME:CEST
DTSTART:20160327T010000
END:DAYLIGHT
BEGIN:STANDARD
TZOFFSETFROM:+0200
TZOFFSETTO:+0100
TZNAME:CET
DTSTART:20161030T010000
END:STANDARD
END:VTIMEZONE
BEGIN:VEVENT
DTSTART;TZID=Europe/Paris:20161119T140000
DTEND;TZID=Europe/Paris:20161119T140000
DTSTAMP:20260422T071007
CREATED:20160419T184226Z
LAST-MODIFIED:20161016T211228Z
UID:2847-1479564000-1479564000@ieo-lemosin.org
SUMMARY:[IEO Lem] « Lu farcit de Carnavar » : Découverte et préparation du « farci de Carnaval »
DESCRIPTION:Programmation Parc Naturel Régional Périgord-Limousin. \n \nAssocié à la fête et aux réjouissances dans bien des familles du Périgord-Limousin\, le fameux farci cuit dans la soupe revenait immanquablement sur toutes les tables pour le Carnaval. Nous vous invitons à la préparation de ce plat étonnant et à l’évocation des rituels qui guidaient la cuisine du pays en compagnie de Claude Pauliat et de Jean-François Vignaud de l’IEO Limousin. \n> En partenariat avec l’association « Culture en tête ».\n> Gratuit.\n> Ingrédients fournis.\n> Sur inscription avant le 10 novembre (12 pers. max.). \nPer ne’n saubre mai / Renseignements\nParc Naturel Régional Périgord-Limousin – 05 53 55 36 00 – http://www.pnr-perigord-limousin.fr/ \n
URL:http://ieo-lemosin.org/evenement/ieo-lem-lu-farcit-de-carnavar-decouverte-et-preparation-du-farci-de-carnaval
LOCATION:Sala- Salle Gabriel Marceau\, Sant Matia – Saint-Mathieu (87)
CATEGORIES:IEO Lemosin
END:VEVENT
BEGIN:VEVENT
DTSTART;TZID=Europe/Paris:20161119T150000
DTEND;TZID=Europe/Paris:20161119T150000
DTSTAMP:20260422T071007
CREATED:20161019T152917Z
LAST-MODIFIED:20161019T152917Z
UID:3195-1479567600-1479567600@ieo-lemosin.org
SUMMARY:Trésors de la Bfm : Jan-Marc Simeonin
DESCRIPTION: \nNé en 1950 à Limoges\, Jean-Marc Simeonin est peintre\, dessinateur graveur et depuis quelque temps émailleur. Œuvre singulière d’un illustrateur limousin.\nIl illustre notamment\, depuis l’origine\, les Edicions dau Chamin de Sent Jaume dirigées par Jan Dau Melhau. En 2013\, il a fait le choix de verser régulièrement ses gravures et dessins à la Bfm. \nL’occasion de découvrir l’œuvre d’un homme discret\, dont le style est très reconnaissable\, marqué par l’imaginaire limousin\, à la fois sombre et léger\, rieur et torturé. \nPer ne’n saubre mai / Renseignements\nBfm (2\, place Aimé-Césaire – 87000 Limoges) – 05 55 45 96 00 – http://www.bm-limoges.fr/ \n
URL:http://ieo-lemosin.org/evenement/tresors-de-la-bfm-jan-marc-simeonin
LOCATION:Pòle Lemosin – Pôle Limousin\, Biblioteca Francofòna Multimedia – Bfm\, Limòtges – Limoges (87)
END:VEVENT
BEGIN:VEVENT
DTSTART;TZID=Europe/Paris:20161119T193000
DTEND;TZID=Europe/Paris:20161119T193000
DTSTAMP:20260422T071007
CREATED:20160419T183429Z
LAST-MODIFIED:20161103T130101Z
UID:2844-1479583800-1479583800@ieo-lemosin.org
SUMMARY:[IEO Lem] Veillée « pot-au-feu » & contes du Limousin
DESCRIPTION: \nContes en occitan et en français avec Jean-François Vignaud.\nRepas limousin (potage vermicelle / pot-au-feu / dessert / un verre de vin rouge). \n> Tarifs : 12 € (plein)\, 10 € (adhérents)\, 6 € (5 à 12 ans).\n> Réservations avant le 11 novembre.\n> Organisé par la Maison de païs de Saint-Auvent.\n> En partenariat avec le PNR Périgord-Limousin et la Communauté de Communes de la vallée de la Gorre. \nPer ne’n saubre mai e se marcar – Renseignements et réservations\n05 55 02 50 36 / 09 66 90 25 94 / 05 55 48 20 18 \n
URL:http://ieo-lemosin.org/evenement/soiree-contes-du-limousin
LOCATION:Sala de las festas – Salle des fêtes\, Sent Auvenç – Saint-Auvent (87)
CATEGORIES:IEO Lemosin
END:VEVENT
BEGIN:VEVENT
DTSTART;TZID=Europe/Paris:20161119T203000
DTEND;TZID=Europe/Paris:20161119T203000
DTSTAMP:20260422T071007
CREATED:20160916T104951Z
LAST-MODIFIED:20160916T104951Z
UID:3123-1479587400-1479587400@ieo-lemosin.org
SUMMARY:Velhada-conte sus lo lop per Joan-Peire Lacomba
DESCRIPTION:Per ne’n saubre mai – Renseignements\nAssociation Silva – http://www.festivalsignenature.com/contact/ \n
URL:http://ieo-lemosin.org/evenement/velhada-conte-sus-lo-lop-per-joan-peire-lacomba
LOCATION:Sala de las festas – Salle des fêtes\, Saint-Étienne-aux-Clos (19)
END:VEVENT
END:VCALENDAR