BEGIN:VCALENDAR
VERSION:2.0
PRODID:-//IEO Lemosin - ECPv4.9.9//NONSGML v1.0//EN
CALSCALE:GREGORIAN
METHOD:PUBLISH
X-WR-CALNAME:IEO Lemosin
X-ORIGINAL-URL:http://ieo-lemosin.org
X-WR-CALDESC:Events for IEO Lemosin
BEGIN:VTIMEZONE
TZID:Europe/Paris
BEGIN:DAYLIGHT
TZOFFSETFROM:+0100
TZOFFSETTO:+0200
TZNAME:CEST
DTSTART:20160327T010000
END:DAYLIGHT
BEGIN:STANDARD
TZOFFSETFROM:+0200
TZOFFSETTO:+0100
TZNAME:CET
DTSTART:20161030T010000
END:STANDARD
END:VTIMEZONE
BEGIN:VEVENT
DTSTART;TZID=Europe/Paris:20161124T180000
DTEND;TZID=Europe/Paris:20161124T180000
DTSTAMP:20260421T214545
CREATED:20161122T121459Z
LAST-MODIFIED:20161122T124501Z
UID:3240-1480010400-1480010400@ieo-lemosin.org
SUMMARY:[IEO Lem] Soirée contes avec Jean-François Vignaud
DESCRIPTION: \n– 18h00 : Contes en occitan par Jean-François Vignaud de l’IEO Lemosin. Accompagnement musical de Nicolas Rouzier.\n– 19h00 : Apéro sorti du panier (chacun apporte quelque chose à partager).\n– Vente de livres par la Libraria occitana. \nPer ne’n saubre mai – Renseignements\nCalandreta lemosina (8\, rue Émile Zola – 87100 Limoges) – 05 55 06 37 90 – http://www.calandreta-lemosina.fr/ \n
URL:http://ieo-lemosin.org/evenement/ieo-lem-soiree-contes-du-limousin-avec-jean-francois-vignaud
LOCATION:Calandreta lemosina\, 8\, rua Émile Zola\, Limòtges – Limoges (87)
CATEGORIES:IEO Lemosin
END:VEVENT
BEGIN:VEVENT
DTSTART;TZID=Europe/Paris:20161124T203000
DTEND;TZID=Europe/Paris:20161124T203000
DTSTAMP:20260421T214545
CREATED:20160419T165339Z
LAST-MODIFIED:20160419T183540Z
UID:2846-1480019400-1480019400@ieo-lemosin.org
SUMMARY:Soirée chants et dialecte occitan-limousin
DESCRIPTION:> Gratuit \nPer ne’n saubre mai / Renseignements\n05 55 00 30 68 \n
URL:http://ieo-lemosin.org/evenement/soiree-chants-et-dialecte-occitan-limousin-2-2-2-2-2-2-2-2-2-2-2-2-2
LOCATION:Sala de las festas – Salle des fêtes\, Las Salas La Vau Guion – Les Salles-Lavauguyon (87)
END:VEVENT
END:VCALENDAR