BEGIN:VCALENDAR
VERSION:2.0
PRODID:-//IEO Lemosin - ECPv4.9.9//NONSGML v1.0//EN
CALSCALE:GREGORIAN
METHOD:PUBLISH
X-WR-CALNAME:IEO Lemosin
X-ORIGINAL-URL:http://ieo-lemosin.org
X-WR-CALDESC:Events for IEO Lemosin
BEGIN:VTIMEZONE
TZID:Europe/Paris
BEGIN:DAYLIGHT
TZOFFSETFROM:+0100
TZOFFSETTO:+0200
TZNAME:CEST
DTSTART:20160327T010000
END:DAYLIGHT
BEGIN:STANDARD
TZOFFSETFROM:+0200
TZOFFSETTO:+0100
TZNAME:CET
DTSTART:20161030T010000
END:STANDARD
END:VTIMEZONE
BEGIN:VEVENT
DTSTART;TZID=Europe/Paris:20161126T203000
DTEND;TZID=Europe/Paris:20161126T203000
DTSTAMP:20260421T185015
CREATED:20161108T092751Z
LAST-MODIFIED:20161122T120950Z
UID:3228-1480192200-1480192200@ieo-lemosin.org
SUMMARY:Velhada-conte « Dernier sillon et fleurs de cimetière » - Monica Burg
DESCRIPTION:Soirée contes en français et occitan avec Monica Burg. \n \nLa fin de la vieillesse a été déclarée. La nuit\, les vieux qui ne peuvent pas dormir se lèvent et se rencontrent. Et un jour\, alors qu’on veut montrer des vieux au public avant qu’il n’y en ait plus\, on s’aperçoit qu’ils ont tous disparu… \nMonique Burg\, comédienne et conteuse originaire du Périgord Noir\, nous parle de notre rapport au vieillissement et à la mort dans une création personnelle ponctuée de contes traditionnels et de son chant à voix nue. \n> Public : À partir de 11 ans\n> Durée : 1h15 sans entracte\n> Tarif : 5 €\, gratuit jusqu’à 18 ans\n> Réservation recommandée \nPer ne’n saubre mai – Renseignements\nÉlizabeth Dravet\, Musée du Pays d’Ussel (12\, rue Michelet – 19200 Ussel) – 05 55 72 54 69 \n
URL:http://ieo-lemosin.org/evenement/velhada-conte-derniers-sillons-et-fleurs-de-cimetiere-monica-burg
LOCATION:Museom dau País d’Ussel – Musée du Pays d’Ussel\, Ussel (19)
END:VEVENT
END:VCALENDAR