BEGIN:VCALENDAR
VERSION:2.0
PRODID:-//IEO Lemosin - ECPv4.9.9//NONSGML v1.0//EN
CALSCALE:GREGORIAN
METHOD:PUBLISH
X-WR-CALNAME:IEO Lemosin
X-ORIGINAL-URL:http://ieo-lemosin.org
X-WR-CALDESC:Events for IEO Lemosin
BEGIN:VTIMEZONE
TZID:Europe/Paris
BEGIN:DAYLIGHT
TZOFFSETFROM:+0100
TZOFFSETTO:+0200
TZNAME:CEST
DTSTART:20160327T010000
END:DAYLIGHT
BEGIN:STANDARD
TZOFFSETFROM:+0200
TZOFFSETTO:+0100
TZNAME:CET
DTSTART:20161030T010000
END:STANDARD
END:VTIMEZONE
BEGIN:VEVENT
DTSTART;TZID=Europe/Paris:20161201T203000
DTEND;TZID=Europe/Paris:20161201T203000
DTSTAMP:20260421T111553
CREATED:20161004T171439Z
LAST-MODIFIED:20161004T172855Z
UID:3169-1480624200-1480624200@ieo-lemosin.org
SUMMARY:LENGA : La guerre des natures par le GdRA
DESCRIPTION:Création / Coproduction Les Treize Arches \n \nDes récits de vie\, de perte\, de transmission et d’invention\, des danses\, des rites\, des contextes politiques et naturels\, des musiques et des multilinguismes. \n« En 1983\, à huit ans\, j’ai enregistré mon grand-père dans une langue rare qui me plaisait. Son occitan\, il l’appelait la lenga nostra ». Christophe Rulhes \nÀ partir de ce document\, le GdRA invite au plateau pour sa pièce LENGA\, les performeurs Maheriniaina Ranaivoson\, acrobate de rue Merina de Madagascar\, Lizo James\, initié Xhosa d’Afrique du Sud\, Julien Cassier\, comédien Toulousain et Christophe Rulhes\, musicien occitan jouant cabrette et platines.\nLa pièce traite de la diversité et de la disparition des langues et s’appuie sur des temps d’enquête menés dans les familles des performeurs.\nCes derniers mettent en jeu sur scène leurs arts de faire\, au fil des témoignages de leurs grandsmères\, filmées en 2015 à Tananarive\, à Amparibe et au Cap dans les townships de Khayelitsha.\nSe dévoilent ainsi des récits de vie\, de perte\, de transmission et d’invention\, des danses\, des rites\, des contextes politiques et naturels\, des musiques et des multilinguismes.\nMadagascar et l’Afrique du Sud font partie des lieux hyper-divers en langues\, faunes et flores\, qui existent encore sur Terre. En pleine guerre des natures\, ces espaces tendent à disparaître.\nEn France\, les langues endémiques dont l’occitan perdent toujours des locuteurs.\nÀ partir d’un théâtre de la personne\, avec l’énergie de l’acrobatie ou des gumboots\, Lenga livre des fragments de ces lieux\, de ces gens\, de ces résistances et de ces innovations. Avec en prime\, un cours jubilatoire et libre de langue à clic Xhosa ! \nConception\, texte et mise en scène Christophe Rulhes\nChorégraphie Julien Cassier\nAvec Lizo James\, Maheriniaina Pierre Ranaivoson\, Julien Cassier & Christophe Rulhes\nScénographie le GdRA\nMusique Christophe Rulhes et Lizo James\nImages le GdRA\, Edmond Carrère\nCréation numérique Ludovic Burczykowski\nCostumes Céline Sathal\nDirection technique David Løchen\nLumière Adèle Grepinet\nSon Pedro Theuriet \n> Placement libre\n> Durée : 1h30\n> À partir de 11 ans\n> Tarifs : de 5 à 20€ \nPer ne’n saubre mai – Renseignements\nLes Treize Arches – 05 55 24 62 22 – http://www.lestreizearches.com/ \n
URL:http://ieo-lemosin.org/evenement/lenga-la-guerre-des-natures-par-le-gdra
LOCATION:Grande salle du théâtre\, Les Treize Arches\, Place Aristide Briand\, Briva – Brive (19)
END:VEVENT
END:VCALENDAR