BEGIN:VCALENDAR
VERSION:2.0
PRODID:-//IEO Lemosin - ECPv4.9.9//NONSGML v1.0//EN
CALSCALE:GREGORIAN
METHOD:PUBLISH
X-WR-CALNAME:IEO Lemosin
X-ORIGINAL-URL:http://ieo-lemosin.org
X-WR-CALDESC:Events for IEO Lemosin
BEGIN:VTIMEZONE
TZID:Europe/Paris
BEGIN:DAYLIGHT
TZOFFSETFROM:+0100
TZOFFSETTO:+0200
TZNAME:CEST
DTSTART:20160327T010000
END:DAYLIGHT
BEGIN:STANDARD
TZOFFSETFROM:+0200
TZOFFSETTO:+0100
TZNAME:CET
DTSTART:20161030T010000
END:STANDARD
END:VTIMEZONE
BEGIN:VEVENT
DTSTART;TZID=Europe/Paris:20161203T180000
DTEND;TZID=Europe/Paris:20161203T180000
DTSTAMP:20260421T074839
CREATED:20161025T162151Z
LAST-MODIFIED:20161115T125929Z
UID:3202-1480788000-1480788000@ieo-lemosin.org
SUMMARY:Concert « La traversée de Noël\, chants et mélodies au fil des siècles » par des élèves du Conservatoire de Limoges
DESCRIPTION: \nTout l’après-midi\, les Musée et Jardins Cécile Sabourdy proposeront des animations et ateliers dont les recettes iront en intégralité au profit du Téléthon. \n\n14h30 : Présentation des instruments.\n15h00 à 17h00 : Atelier origami\, décorations de Noël\, tous niveaux.\n17h00 : Visite de la crèche.\n18h00 : Concert à l’église. Venez entendre les chants\, chabrettes\, flûtes\, clavecins\, violes\, luths dans un répertoire riche et varié composé de noëls populaires et noëls anciens.\nVente de gâteaux et de sachets de lavande.\n\nRenseignements et réservations\nMusée & Jardins Cécile Sabourdy – 05 55 00 67 73 \n
URL:http://ieo-lemosin.org/evenement/concert-de-nadaus
LOCATION:Egleisa – Église\, Vic – Vicq-sur-Breuilh (87)
END:VEVENT
BEGIN:VEVENT
DTSTART;TZID=Europe/Paris:20161203T203000
DTEND;TZID=Europe/Paris:20161203T203000
DTSTAMP:20260421T074839
CREATED:20160916T103901Z
LAST-MODIFIED:20161128T183131Z
UID:3119-1480797000-1480797000@ieo-lemosin.org
SUMMARY:Lecturas poeticas per Joan-Peire Lacomba
DESCRIPTION:Lectures en occitan de Jean-pierre Lacombe\, version française par Hélène Debar. \n> Présenté par Matteo Rezco dans le cadre de Poète vos papiers !\n> Entrée libre et gratuite \n \n  \nPer ne’n saubre mai – Renseignements\nMuseu dau País d’Ussel (19200 Ussel) – 05 55 72 54 69 – musee@ussel19.fr \n
URL:http://ieo-lemosin.org/evenement/lecturas-poeticas-per-joan-peire-lacomba
LOCATION:Museom dau País d’Ussel – Musée du Pays d’Ussel\, Ussel (19)
END:VEVENT
END:VCALENDAR