BEGIN:VCALENDAR
VERSION:2.0
PRODID:-//IEO Lemosin - ECPv4.9.9//NONSGML v1.0//EN
CALSCALE:GREGORIAN
METHOD:PUBLISH
X-WR-CALNAME:IEO Lemosin
X-ORIGINAL-URL:http://ieo-lemosin.org
X-WR-CALDESC:Events for IEO Lemosin
BEGIN:VTIMEZONE
TZID:Europe/Paris
BEGIN:DAYLIGHT
TZOFFSETFROM:+0100
TZOFFSETTO:+0200
TZNAME:CEST
DTSTART:20160327T010000
END:DAYLIGHT
BEGIN:STANDARD
TZOFFSETFROM:+0200
TZOFFSETTO:+0100
TZNAME:CET
DTSTART:20161030T010000
END:STANDARD
END:VTIMEZONE
BEGIN:VEVENT
DTSTART;VALUE=DATE:20161210
DTEND;VALUE=DATE:20161211
DTSTAMP:20260420T201403
CREATED:20160419T184740Z
LAST-MODIFIED:20161209T175515Z
UID:2849-1481328000-1481414399@ieo-lemosin.org
SUMMARY:[IEO Lem] Fèsta de la trufa\, dau terraire e de la linga occitana
DESCRIPTION:\nDès 9h00 : Marché aux truffes officiel\, Marché de producteurs de Pays. Découverte de la trufficulture avec le Groupement Terre de Truffes\, vente de plants\, permanence du Technicien truffe de la Dordogne. Stand de la société mycologique du Périgord. Librairie occitane\, animations proposées par le Parc Naturel Régional Périgord Limousin.\n9h30 : Inauguration.\n10h00 : Le chien\, la truffe et l’homme : La recherche de la truffe du Périgord (cavage) visites de truffières\, déplacement en car (dans la limite des places disponibles).\n12h00 : Dégustation gratuite d’une brouillade aux truffes.\n14h30 : De la plantation à la production\, recherche de la truffe au cochon.\n17h00 : Concentration de chiens truffiers\, contrôle des acquis par le club canin du Périgord vert.\n20h00 : Repas aux trois truffes (43 €) uniquement sur réservation avant le 1er décembre au 05 53 56 93 83.\n\n> Partenaire de la manifestation\, le PNR Périgord-Limousin donnera à cette journée la note occitane.\n> Gratuit. \nPer ne’n saubre mai / Renseignements\nTerre de truffe – 05 53 56 90 04 / 05 53 53 93 83 \n
URL:http://ieo-lemosin.org/evenement/festa-de-la-trufa-dau-terraire-e-de-la-linga-occitana
LOCATION:Sala de las festas – Salle des fêtes\, Senta Crotz de Maruelh – Sainte-Croix-de-Mareuil  (24)
CATEGORIES:IEO Lemosin
END:VEVENT
BEGIN:VEVENT
DTSTART;TZID=Europe/Paris:20161210T150000
DTEND;TZID=Europe/Paris:20161210T150000
DTSTAMP:20260420T201403
CREATED:20160629T103044Z
LAST-MODIFIED:20161005T171816Z
UID:3182-1481382000-1481382000@ieo-lemosin.org
SUMMARY:Yemgui\, rap occitan
DESCRIPTION:Dans le cadre des mini-concerts de la Bfm 2016. \n \nLa particularité de ce groupe de rap limougeaud est d’écrire une partie de ses textes en occitan et d’utiliser des instruments de la région. Leur musique est aussi un mix entre musique électronique et traditionnelle\, en intégrant dans ses morceaux (retirer la virgule !) des instruments comme la chabrette\, la flûte ou le hautbois du Poitou. \n> Concert-découverte\n> Gratuit \nPer ne’n saubre mai / Renseignements\nBfm (2\, place Aimé-Césaire – 87000 Limoges) – 05 55 45 96 00 – http://www.bm-limoges.fr/ \n
URL:http://ieo-lemosin.org/evenement/yemgui-et-les-saboteurs-5-autres-groupes-2
LOCATION:Pòle Lemosin – Pôle Limousin\, Biblioteca Francofòna Multimedia – Bfm\, Limòtges – Limoges (87)
END:VEVENT
BEGIN:VEVENT
DTSTART;TZID=Europe/Paris:20161210T203000
DTEND;TZID=Europe/Paris:20161210T203000
DTSTAMP:20260420T201403
CREATED:20161128T182628Z
LAST-MODIFIED:20161128T182628Z
UID:3271-1481401800-1481401800@ieo-lemosin.org
SUMMARY:Velhada-conte « Loup y es-tu ? » coma Joan-Peire Lacomba
DESCRIPTION: \n
URL:http://ieo-lemosin.org/evenement/velhada-conte-loup-y-es-tu-coma-joan-peire-lacomba
LOCATION:Sala – Salle Marcel Bredèche\, Saint-Julien-près-Bort (19)
END:VEVENT
END:VCALENDAR