BEGIN:VCALENDAR
VERSION:2.0
PRODID:-//IEO Lemosin - ECPv4.9.9//NONSGML v1.0//EN
CALSCALE:GREGORIAN
METHOD:PUBLISH
X-WR-CALNAME:IEO Lemosin
X-ORIGINAL-URL:http://ieo-lemosin.org
X-WR-CALDESC:Events for IEO Lemosin
BEGIN:VTIMEZONE
TZID:Europe/Paris
BEGIN:DAYLIGHT
TZOFFSETFROM:+0100
TZOFFSETTO:+0200
TZNAME:CEST
DTSTART:20170326T010000
END:DAYLIGHT
BEGIN:STANDARD
TZOFFSETFROM:+0200
TZOFFSETTO:+0100
TZNAME:CET
DTSTART:20171029T010000
END:STANDARD
BEGIN:DAYLIGHT
TZOFFSETFROM:+0100
TZOFFSETTO:+0200
TZNAME:CEST
DTSTART:20180325T010000
END:DAYLIGHT
BEGIN:STANDARD
TZOFFSETFROM:+0200
TZOFFSETTO:+0100
TZNAME:CET
DTSTART:20181028T010000
END:STANDARD
END:VTIMEZONE
BEGIN:VEVENT
DTSTART;VALUE=DATE:20170215
DTEND;VALUE=DATE:20180107
DTSTAMP:20260421T153341
CREATED:20170228T192515Z
LAST-MODIFIED:20170522T100009Z
UID:3470-1487116800-1515283199@ieo-lemosin.org
SUMMARY:Mòstra Gaston Vuillier : « Chez les magiciens et sorciers de la Corrèze »
DESCRIPTION:Le musée du Cloître conserve un fonds important lié à Gaston Vuiller\, artiste peintre\, dessinateur et voyageur\, dont l’œuvre et le nom restent intimement mêlés à la Corrèze et au village de Gimel-les-Cascades. \nCe fonds est aujourd’hui constitué de trente-sept dessins\, trois gravures\, un autoportrait (peinture à l’huile sur bois)\, deux grands tableaux de paysages (dépôts du Centre National des Arts Plastiques) et cinq livres illustrés. En 1900\, la ville de Tulle acquiert un premier ensemble de dessins parus en 1899 dans trois épisodes de la revue Le Tour du Monde dans un article intitulé « Chez les magiciens et les sorciers de la Corrèze ». Restaurés en 2012\, ces œuvres sur papier restent néanmoins fragiles et particulièrement sensibles à la lumière\, et pour cette raison ne peuvent être exposées de manière permanente. Ce nouvel accrochage est l’occasion de les découvrir une nouvelle fois et de partir à la rencontre des figures que Gaston Vuillier appelle les magiciens et sorciers de la Corrèze… \nExposition illustrée par des films\, dont 2 de l’Institut d’Estudis Occitans dau Lemosin (A la font l’ermita\, Las bonas fonts). \n> Gratuit\n> Le musée du Cloître est ouvert tous les jours sauf les dimanche et lundi.\n> Du 1er octobre au 14 juin : ouvert de 14h à 18h.\n> Du 15 juin au 30 septembre : ouvert de 10h30 à 12h30 et de 14h à 18h. \nPer ne’n saubre mai / Renseignements\nMusée du cloître de Tulle (Place Berteaud) – 05 55 26 91 05 \n \n
URL:http://ieo-lemosin.org/evenement/ieo-lem-mostra-gaston-vuillier-chez-les-magiciens-et-sorciers-de-la-correze
LOCATION:Musée du Cloître\, Tula – Tulle (19)
CATEGORIES:IEO Lemosin
END:VEVENT
BEGIN:VEVENT
DTSTART;VALUE=DATE:20170331
DTEND;VALUE=DATE:20170528
DTSTAMP:20260421T153341
CREATED:20170325T102605Z
LAST-MODIFIED:20170522T095429Z
UID:3545-1490918400-1495929599@ieo-lemosin.org
SUMMARY:Mòstra/Exposition « Marcela Delpastre photographiée par Charles Camberoque »
DESCRIPTION:À l’occasion de la venue de Miquèla Stenta au salon Lire à Limoges 2017. \nMarcelle Delpastre\, sa mère et le chouLimousin 1978Photographie © Copyright Charles Camberoque \nMarcelle Delpastre (1925-1998) est un auteur majeur de la littérature occitane contemporaine.\nEn occitan comme en français\, elle s’est illustrée dans tous les genres : poésie\, contes\, mémoires\, ethnographie…\nNée et morte à Germont\, commune de Chamberet en Corrèze\, c’est aussi là qu’elle a vécu\, sur la ferme familiale\, menant une double vie de paysanne et d’écrivain. \nCette exposition présentera des photos issues d’un reportage photographique\, véritable portrait en images réalisé chez elle à la fin des années Soixante-dix par le photographe Charles Camberoque. \nCertaines figurent dans l’ouvrage récemment paru Marcelle Delpastre\, à fleur de l’âme\, d’autres n’ont pas été éditées. \n« C’était en 1978. […]\nAvec Yves Rouquette nous étions  “montés” en juillet dans le Limousin rencontrer Marcelle Delpastre dans sa ferme de Germont\, sur la commune de Chamberet\, loin de la rumeur du monde.\nAvec près de quarante années de recul\, je pense que ce jour-là\, cette rencontre avec Marcelle Delpastre et ses parents m’avaient particulièrement inspiré\, photographiquement parlant. \nJ’ai essayé de saisir l’atmosphère de leur petite maison. De cette ferme modeste et banale qui devait ressembler à celle de beaucoup de paysans du Limousin. Au-delà du portrait\, d’une petite tranche de vie de la famille Delpastre\, mes images évoquent également cette vie rurale en Limousin vers la fin du XXème siècle. \nMarcelle allait sur la cinquantaine\, accompagnée de son rire et d’une joie comme enfantine qui faisait plaisir à voir. \nJ’ai été fasciné par les relations entre fille\, mère et père\, que j’ai essayé de capter dans mes photos. » \nCharles Camberoque\nExtrait de Miquèla Stenta\, Marcelle Delpastre à fleur de l’âme\,\nPhotographies Charles Camberoque\, Ed. Vent Terral\, 2016. \nCharles Camberoque\, photographe internationalement reconnu\, né à Carcassonne et professeur de photographie à l’École des Beaux-Arts de Montpellier\, porte un regard sur l’homme et ses identités\, en quête de l’universel dans le particulier. \nhttp://www.camberoque.net/ \n> Visible aux heures d’ouverture de la librairie\n> Entrée libre\n> En partenariat avec les éditions Vent terral \nPer ne’n saubre mai – Renseignements\nLibraria occitana – 05 55 32 06 44 \n
URL:http://ieo-lemosin.org/evenement/ieo-lem-mostraexposition-marcela-delpastre-photographiee-par-charles-camberoque
LOCATION:Librariá occitana\, 26\, rua Viena-Nauta – rue Haute-Vienne\, Limòtges – Limoges (87)
CATEGORIES:Libraria Occitana
END:VEVENT
BEGIN:VEVENT
DTSTART;TZID=Europe/Paris:20170511T103000
DTEND;TZID=Europe/Paris:20170511T103000
DTSTAMP:20260421T153341
CREATED:20170325T143302Z
LAST-MODIFIED:20170522T094915Z
UID:3562-1494498600-1494498600@ieo-lemosin.org
SUMMARY:« Contes du Pays de nulle part » - Florant Mercadier
DESCRIPTION:Dans le cadre du festival Coquelicontes\, du 8 au 21 mai 2017. \n \nLe conteur\nPuisant dans ses racines occitanes et dans ses voyages à travers le monde\, Florant Mercadier invente des histoires à l’imaginaire métissé et à l’humour irrésistible…\nTirés « du placard »\, issus « du pays de nulle part » ou dormant « entre deux eaux »\, ses contes donnent vie à de savoureux personnages. Sur scène\, Florant se fait aussi musicien\, s’accompagnant à la vielle à roue\, à la cornemuse\, à l’harmonica ou au carémère… \nContes du Pays de nulle part\nDans ce pays fabuleux\, le grillon défie le lion\, le dragon cherche des pierres qui parlent et un forgeron se joue du diable en musique. Quelque part entre le griot et le grand-père au coin du feu\, Florant Mercadier nous invite à un voyage au gré des murmures du vent et de ses musiques. \n> Tout public à partir de 3 ans.\n> Durée : 40 mn.\n> Tarif : 3\,00€ ; -12 ans 1\,50€. \nPer ne’n saubre mai – Renseignements\nSéverine Marsaud – 06 23 55 36 81 \n
URL:http://ieo-lemosin.org/evenement/conte-loccitanie-pour-les-nuls-florant-mercadier-2
LOCATION:Salle du temps libre\, Saint-Agnant-de-Versillat (23)
CATEGORIES:Monde Occitan
END:VEVENT
BEGIN:VEVENT
DTSTART;TZID=Europe/Paris:20170511T203000
DTEND;TZID=Europe/Paris:20170511T213000
DTSTAMP:20260421T153341
CREATED:20170325T143302Z
LAST-MODIFIED:20170522T094902Z
UID:3563-1494534600-1494538200@ieo-lemosin.org
SUMMARY:« L’Occitanie pour les nuls » - Florant Mercadier
DESCRIPTION:Dans le cadre du festival Coquelicontes\, du 8 au 21 mai 2017. \n \nLe conteur\nPuisant dans ses racines occitanes et dans ses voyages à travers le monde\, Florant Mercadier invente des histoires à l’imaginaire métissé et à l’humour irrésistible…\nTirés « du placard »\, issus « du pays de nulle part » ou dormant « entre deux eaux »\, ses contes donnent vie à de savoureux personnages. Sur scène\, Florant se fait aussi musicien\, s’accompagnant à la vielle à roue\, à la cornemuse\, à l’harmonica ou au carémère… \nL’Occitanie pour les nuls\n[oc] Sabiatz que los Trobadors avián inventat lo rap ? Sabiatz que lo vilatge de Marzàs foguèt destruit per un boc e una poma ? Sabiatz que l’autor del « Se canta » èra un serial killer ? E subretot\, sabiatz que tot çò que venèm de dire es vertadièr !? Amb sa musica\, son umor (e una bona dòsi de marrida Fe)\, lo Florant Mercadier conta l’istòria d’Occitania\, la pichona e la granda. Mas promés\, jurat\, tot es autentic. Veiretz pas mai los vòstres manuals d’istòria del meteis biais ! \n[fr] Saviez-vous que les Troubadours avaient inventé le rap ? Saviez-vous que le village de Marzas fut détruit par un bouc et une pomme ? Saviez-vous que l’auteur du « Se Canta » était un serial killer ? Et surtout\, saviez-vous que tout ce qui précède est vrai !? Avec sa musique\, son humour (et une bonne dose de mauvaise Foi)\, Florant Mercadier raconte l’histoire de l’Occitanie\, la petite et la grande. Mais promis\, juré\, tout est authentique. Vous ne verrez plus vos manuels d’histoire de la même façon ! \n> Tout public à partir de 9 ans.\n> Durée : 1h.\n> Tarifs : 3\,00€ ; -12 ans 1\,50€. \nPer ne’n saubre mai – Renseignements\nJosiane Vigroux-Aufort – 05 55 63 76 61 \n
URL:http://ieo-lemosin.org/evenement/conte-loccitanie-pour-les-nuls-florant-mercadier
LOCATION:Sala de las festas – Salle des fêtes\, Saint-Priest-la-Feuille (23)
CATEGORIES:Monde Occitan
END:VEVENT
BEGIN:VEVENT
DTSTART;TZID=Europe/Paris:20170511T203000
DTEND;TZID=Europe/Paris:20170511T220000
DTSTAMP:20260421T153341
CREATED:20170413T084505Z
LAST-MODIFIED:20170522T094852Z
UID:3618-1494534600-1494540000@ieo-lemosin.org
SUMMARY:« Contes et histoires du Quercy » - Clément Bouscarel
DESCRIPTION:Dans le cadre du festival Coquelicontes\, du 8 au 21 mai 2017. \n \nLe conteur\n« Conteur paysan\, je raconte des histoires et des légendes merveilleuses que je tiens de mes aïeux qu’ils tenaient eux-mêmes de très loin dans un décor quercynois. Au gré de mes improvisations\, les histoires prennent vie\, assaisonnées de mots occitans.\nDes histoires d’hier pour demain… » \nContes et histoires du Quercy\nUne succession de légendes quercynoises dans un décor très pittoresque et authentique.\nTerre de croyances et Rivière Espérance sont à l’honneur. \n> Tout public à partir de 7 ans.\n> Durée : 1h30.\n> Tarifs : 5 € ; jeunes gratuit. \nPer ne’n saubre mai – Renseignements\nCatherine Palade – 06 82 18 04 12 \n
URL:http://ieo-lemosin.org/evenement/contes-et-histoires-du-quercy-clement-bouscarel
LOCATION:Château Robert\, Aus Gletons – Égletons (19)
CATEGORIES:Monde Occitan
END:VEVENT
END:VCALENDAR