BEGIN:VCALENDAR
VERSION:2.0
PRODID:-//IEO Lemosin - ECPv4.9.9//NONSGML v1.0//EN
CALSCALE:GREGORIAN
METHOD:PUBLISH
X-WR-CALNAME:IEO Lemosin
X-ORIGINAL-URL:http://ieo-lemosin.org
X-WR-CALDESC:Events for IEO Lemosin
BEGIN:VTIMEZONE
TZID:Europe/Paris
BEGIN:DAYLIGHT
TZOFFSETFROM:+0100
TZOFFSETTO:+0200
TZNAME:CEST
DTSTART:20170326T010000
END:DAYLIGHT
BEGIN:STANDARD
TZOFFSETFROM:+0200
TZOFFSETTO:+0100
TZNAME:CET
DTSTART:20171029T010000
END:STANDARD
BEGIN:DAYLIGHT
TZOFFSETFROM:+0100
TZOFFSETTO:+0200
TZNAME:CEST
DTSTART:20180325T010000
END:DAYLIGHT
BEGIN:STANDARD
TZOFFSETFROM:+0200
TZOFFSETTO:+0100
TZNAME:CET
DTSTART:20181028T010000
END:STANDARD
END:VTIMEZONE
BEGIN:VEVENT
DTSTART;VALUE=DATE:20170215
DTEND;VALUE=DATE:20180107
DTSTAMP:20260424T054911
CREATED:20170228T192515Z
LAST-MODIFIED:20170522T100009Z
UID:3470-1487116800-1515283199@ieo-lemosin.org
SUMMARY:Mòstra Gaston Vuillier : « Chez les magiciens et sorciers de la Corrèze »
DESCRIPTION:Le musée du Cloître conserve un fonds important lié à Gaston Vuiller\, artiste peintre\, dessinateur et voyageur\, dont l’œuvre et le nom restent intimement mêlés à la Corrèze et au village de Gimel-les-Cascades. \nCe fonds est aujourd’hui constitué de trente-sept dessins\, trois gravures\, un autoportrait (peinture à l’huile sur bois)\, deux grands tableaux de paysages (dépôts du Centre National des Arts Plastiques) et cinq livres illustrés. En 1900\, la ville de Tulle acquiert un premier ensemble de dessins parus en 1899 dans trois épisodes de la revue Le Tour du Monde dans un article intitulé « Chez les magiciens et les sorciers de la Corrèze ». Restaurés en 2012\, ces œuvres sur papier restent néanmoins fragiles et particulièrement sensibles à la lumière\, et pour cette raison ne peuvent être exposées de manière permanente. Ce nouvel accrochage est l’occasion de les découvrir une nouvelle fois et de partir à la rencontre des figures que Gaston Vuillier appelle les magiciens et sorciers de la Corrèze… \nExposition illustrée par des films\, dont 2 de l’Institut d’Estudis Occitans dau Lemosin (A la font l’ermita\, Las bonas fonts). \n> Gratuit\n> Le musée du Cloître est ouvert tous les jours sauf les dimanche et lundi.\n> Du 1er octobre au 14 juin : ouvert de 14h à 18h.\n> Du 15 juin au 30 septembre : ouvert de 10h30 à 12h30 et de 14h à 18h. \nPer ne’n saubre mai / Renseignements\nMusée du cloître de Tulle (Place Berteaud) – 05 55 26 91 05 \n \n
URL:http://ieo-lemosin.org/evenement/ieo-lem-mostra-gaston-vuillier-chez-les-magiciens-et-sorciers-de-la-correze
LOCATION:Musée du Cloître\, Tula – Tulle (19)
CATEGORIES:IEO Lemosin
END:VEVENT
BEGIN:VEVENT
DTSTART;VALUE=DATE:20170603
DTEND;VALUE=DATE:20170709
DTSTAMP:20260424T054911
CREATED:20170629T213224Z
LAST-MODIFIED:20170629T213735Z
UID:4070-1496448000-1499558399@ieo-lemosin.org
SUMMARY:Mòstra sus la chabreta lemosina
DESCRIPTION: \nPer ne’n saubre mai – Renseignements\nAmitiés Généalogiques Historiques et Patrimoniales de Saint-Victurnien\, Alain Mouly (Président) – 05 55 03 89 95 \n
URL:http://ieo-lemosin.org/evenement/mostra-sus-la-chabreta-lemosina
LOCATION:Merariá – Mairie\, Sent Vertunian – Saint-Victurnien (87)
CATEGORIES:Occitan World
END:VEVENT
BEGIN:VEVENT
DTSTART;TZID=Europe/Paris:20170621T150000
DTEND;TZID=Europe/Paris:20170621T163000
DTSTAMP:20260424T054911
CREATED:20170602T090522Z
LAST-MODIFIED:20170602T090522Z
UID:3993-1498057200-1498062600@ieo-lemosin.org
SUMMARY:Contes sur couverture : fabrication de petits jouets rustiques
DESCRIPTION:Dans le cadre du festival Urbaka du 21 au 24 juin 2017. \nIl suffit d’un peu d’observation et d’avoir un couteau calé au fond de sa poche pour partir à la découverte du savoir-faire champêtre des enfants d’autrefois. Alors\, au gré de la cueillette\, les rejets de châtaignier\, les joncs et le sureau viendront vous rappeler le temps\, pas si lointain\, où la nature était le terrain de jeux des petits campagnards. \n \nPer ne’n saubre mai – Renseignements\nAssociation Urbaka – 05 55 32 08 42 – http://www.urbaka.com/ \n
URL:http://ieo-lemosin.org/evenement/contes-sur-couverture-fabrication-de-petits-jouets-rustiques
LOCATION:Vargiers de l’Eveschat – Jardins de l’Évêché\, Limòtges – Limoges (87)
CATEGORIES:IEO Lemosin
END:VEVENT
BEGIN:VEVENT
DTSTART;TZID=Europe/Paris:20170621T163000
DTEND;TZID=Europe/Paris:20170621T180000
DTSTAMP:20260424T054911
CREATED:20170602T090522Z
LAST-MODIFIED:20170602T090740Z
UID:4005-1498062600-1498068000@ieo-lemosin.org
SUMMARY:Contes sur couverture : fabrication de petits jouets rustiques
DESCRIPTION:Dans le cadre du festival Urbaka du 21 au 24 juin 2017. \nIl suffit d’un peu d’observation et d’avoir un couteau calé au fond de sa poche pour partir à la découverte du savoir-faire champêtre des enfants d’autrefois. Alors\, au gré de la cueillette\, les rejets de châtaignier\, les joncs et le sureau viendront vous rappeler le temps\, pas si lointain\, où la nature était le terrain de jeux des petits campagnards. \n \nPer ne’n saubre mai – Renseignements\nAssociation Urbaka – 05 55 32 08 42 – http://www.urbaka.com/ \n
URL:http://ieo-lemosin.org/evenement/contes-sur-couverture-fabrication-de-petits-jouets-rustiques-2
LOCATION:Vargiers de l’Eveschat – Jardins de l’Évêché\, Limòtges – Limoges (87)
CATEGORIES:IEO Lemosin
END:VEVENT
BEGIN:VEVENT
DTSTART;TZID=Europe/Paris:20170621T180000
DTEND;TZID=Europe/Paris:20170621T180000
DTSTAMP:20260424T054911
CREATED:20170113T144235Z
LAST-MODIFIED:20170522T093524Z
UID:3385-1498068000-1498068000@ieo-lemosin.org
SUMMARY:Festa de la musica emb « La Tireta Duberta »
DESCRIPTION: \nLa Tireta Duberta est un groupe vocal occitan. Son objectif est de proposer des concerts vocaux permettant de faire découvrir à tous les publics un répertoire traditionnel mêlé de chants contemporains éclectiques et exigeants\, où se mêlent convivialité et humour\, toujours portés par le souci de créer un échange chaleureux avec le public. \nPer ne’n saubre mai – Renseignements\nUnion Occitana « Camille Chabaneau » – 05 53 56 61 89 – union.occitana@yahoo.fr \n
URL:http://ieo-lemosin.org/evenement/festa-de-la-musica-emb-la-tireta-duberta
LOCATION:Egleisa – Église\, Marvau – Marval (87)
CATEGORIES:Occitan World
END:VEVENT
END:VCALENDAR