BEGIN:VCALENDAR
VERSION:2.0
PRODID:-//IEO Lemosin - ECPv4.9.9//NONSGML v1.0//EN
CALSCALE:GREGORIAN
METHOD:PUBLISH
X-WR-CALNAME:IEO Lemosin
X-ORIGINAL-URL:http://ieo-lemosin.org
X-WR-CALDESC:Events for IEO Lemosin
BEGIN:VTIMEZONE
TZID:Europe/Paris
BEGIN:DAYLIGHT
TZOFFSETFROM:+0100
TZOFFSETTO:+0200
TZNAME:CEST
DTSTART:20170326T010000
END:DAYLIGHT
BEGIN:STANDARD
TZOFFSETFROM:+0200
TZOFFSETTO:+0100
TZNAME:CET
DTSTART:20171029T010000
END:STANDARD
BEGIN:DAYLIGHT
TZOFFSETFROM:+0100
TZOFFSETTO:+0200
TZNAME:CEST
DTSTART:20180325T010000
END:DAYLIGHT
BEGIN:STANDARD
TZOFFSETFROM:+0200
TZOFFSETTO:+0100
TZNAME:CET
DTSTART:20181028T010000
END:STANDARD
END:VTIMEZONE
BEGIN:VEVENT
DTSTART;VALUE=DATE:20170215
DTEND;VALUE=DATE:20180107
DTSTAMP:20260426T014909
CREATED:20170228T192515Z
LAST-MODIFIED:20170522T100009Z
UID:3470-1487116800-1515283199@ieo-lemosin.org
SUMMARY:Mòstra Gaston Vuillier : « Chez les magiciens et sorciers de la Corrèze »
DESCRIPTION:Le musée du Cloître conserve un fonds important lié à Gaston Vuiller\, artiste peintre\, dessinateur et voyageur\, dont l’œuvre et le nom restent intimement mêlés à la Corrèze et au village de Gimel-les-Cascades. \nCe fonds est aujourd’hui constitué de trente-sept dessins\, trois gravures\, un autoportrait (peinture à l’huile sur bois)\, deux grands tableaux de paysages (dépôts du Centre National des Arts Plastiques) et cinq livres illustrés. En 1900\, la ville de Tulle acquiert un premier ensemble de dessins parus en 1899 dans trois épisodes de la revue Le Tour du Monde dans un article intitulé « Chez les magiciens et les sorciers de la Corrèze ». Restaurés en 2012\, ces œuvres sur papier restent néanmoins fragiles et particulièrement sensibles à la lumière\, et pour cette raison ne peuvent être exposées de manière permanente. Ce nouvel accrochage est l’occasion de les découvrir une nouvelle fois et de partir à la rencontre des figures que Gaston Vuillier appelle les magiciens et sorciers de la Corrèze… \nExposition illustrée par des films\, dont 2 de l’Institut d’Estudis Occitans dau Lemosin (A la font l’ermita\, Las bonas fonts). \n> Gratuit\n> Le musée du Cloître est ouvert tous les jours sauf les dimanche et lundi.\n> Du 1er octobre au 14 juin : ouvert de 14h à 18h.\n> Du 15 juin au 30 septembre : ouvert de 10h30 à 12h30 et de 14h à 18h. \nPer ne’n saubre mai / Renseignements\nMusée du cloître de Tulle (Place Berteaud) – 05 55 26 91 05 \n \n
URL:http://ieo-lemosin.org/evenement/ieo-lem-mostra-gaston-vuillier-chez-les-magiciens-et-sorciers-de-la-correze
LOCATION:Musée du Cloître\, Tula – Tulle (19)
CATEGORIES:IEO Lemosin
END:VEVENT
BEGIN:VEVENT
DTSTART;VALUE=DATE:20170701
DTEND;VALUE=DATE:20170818
DTSTAMP:20260426T014909
CREATED:20170704T181915Z
LAST-MODIFIED:20170704T181915Z
UID:4101-1498867200-1503014399@ieo-lemosin.org
SUMMARY:Mòstra – Jean Estaque\, Pavel Macek\, Jan-Marc Simeonin\, Marianne Tixeuil...
DESCRIPTION:\n \n\n
URL:http://ieo-lemosin.org/evenement/mostra-jean-estaque-pavel-macek-jan-marc-simeonin-marianne-tixeuil
LOCATION:Le Petit Lavoir\, 6 Rue de l’Ancien Chateau\, Sent Perdos – Saint-Pardoux (87)
CATEGORIES:Occitan World
END:VEVENT
BEGIN:VEVENT
DTSTART;VALUE=DATE:20170809
DTEND;VALUE=DATE:20170810
DTSTAMP:20260426T014909
CREATED:20160302T163848Z
LAST-MODIFIED:20170522T092139Z
UID:3279-1502236800-1502323199@ieo-lemosin.org
SUMMARY:60e Festenau de Confolent : Jornada de l'Occitània
DESCRIPTION: \n \n
URL:http://ieo-lemosin.org/evenement/concert-nadau-2-2
LOCATION:Confolent – Confolens (16)
CATEGORIES:Libraria Occitana,Occitan World
END:VEVENT
BEGIN:VEVENT
DTSTART;TZID=Europe/Paris:20170809T143000
DTEND;TZID=Europe/Paris:20170809T143000
DTSTAMP:20260426T014909
CREATED:20170328T182210Z
LAST-MODIFIED:20170522T092100Z
UID:3576-1502289000-1502289000@ieo-lemosin.org
SUMMARY:Sur les traces des Fontaines Miraculeuses du Mont Ceix
DESCRIPTION:Dans le cadre des « Mercredis des Monédières ». \n« Las bonas fonts » en occitan\, 200 sources miraculeuses ont été vénérées dans le Limousin. Elles étaient fréquentées car leurs eaux étaient réputées pour avoir des vertus curatives.\nSur la commune de Chamberet\, on retrouve 7 sources au Mont Ceix\, sept étant un nombre symbolique. \nEn compagnie de Marie-France Houdart\, ethnologue\, et de Fanny Couegnas\, chargée de mission Patrimoine bâti au PNR de Millevaches\, partez à leur découverte au rythme des légendes et récits de Marcelle Delpastre écrivaine limousine. \n> Prévoir chaussures de marche\, chapeau\, eau.\n> Rdv au Parking de la Maison de l’arbre à Chamberet (pour un départ en covoiturage sur le site). \nPer ne’n saubre mai e se marcar – Renseignements et réservations\nOffice de tourisme Vézère Monédières – 05 55 98 15 04 \n
URL:http://ieo-lemosin.org/evenement/sur-les-traces-des-fontaines-miraculeuses-du-mont-ceix
LOCATION:Maison de l’Arbre et de la Nature\, Chambaret – Chamberet (19)
CATEGORIES:Occitan World
END:VEVENT
END:VCALENDAR