BEGIN:VCALENDAR
VERSION:2.0
PRODID:-//IEO Lemosin - ECPv4.9.9//NONSGML v1.0//EN
CALSCALE:GREGORIAN
METHOD:PUBLISH
X-WR-CALNAME:IEO Lemosin
X-ORIGINAL-URL:http://ieo-lemosin.org
X-WR-CALDESC:Events for IEO Lemosin
BEGIN:VTIMEZONE
TZID:Europe/Paris
BEGIN:DAYLIGHT
TZOFFSETFROM:+0100
TZOFFSETTO:+0200
TZNAME:CEST
DTSTART:20170326T010000
END:DAYLIGHT
BEGIN:STANDARD
TZOFFSETFROM:+0200
TZOFFSETTO:+0100
TZNAME:CET
DTSTART:20171029T010000
END:STANDARD
BEGIN:DAYLIGHT
TZOFFSETFROM:+0100
TZOFFSETTO:+0200
TZNAME:CEST
DTSTART:20180325T010000
END:DAYLIGHT
BEGIN:STANDARD
TZOFFSETFROM:+0200
TZOFFSETTO:+0100
TZNAME:CET
DTSTART:20181028T010000
END:STANDARD
END:VTIMEZONE
BEGIN:VEVENT
DTSTART;VALUE=DATE:20170215
DTEND;VALUE=DATE:20180107
DTSTAMP:20260426T014808
CREATED:20170228T192515Z
LAST-MODIFIED:20170522T100009Z
UID:3470-1487116800-1515283199@ieo-lemosin.org
SUMMARY:Exposition Gaston Vuillier : « Chez les magiciens et sorciers de la Corrèze »
DESCRIPTION:Le musée du Cloître conserve un fonds important lié à Gaston Vuiller\, artiste peintre\, dessinateur et voyageur\, dont l’œuvre et le nom restent intimement mêlés à la Corrèze et au village de Gimel-les-Cascades. \nCe fonds est aujourd’hui constitué de trente-sept dessins\, trois gravures\, un autoportrait (peinture à l’huile sur bois)\, deux grands tableaux de paysages (dépôts du Centre National des Arts Plastiques) et cinq livres illustrés. En 1900\, la ville de Tulle acquiert un premier ensemble de dessins parus en 1899 dans trois épisodes de la revue Le Tour du Monde dans un article intitulé « Chez les magiciens et les sorciers de la Corrèze ». Restaurés en 2012\, ces œuvres sur papier restent néanmoins fragiles et particulièrement sensibles à la lumière\, et pour cette raison ne peuvent être exposées de manière permanente. Ce nouvel accrochage est l’occasion de les découvrir une nouvelle fois et de partir à la rencontre des figures que Gaston Vuillier appelle les magiciens et sorciers de la Corrèze… \nExposition illustrée par des films\, dont 2 de l’Institut d’Estudis Occitans dau Lemosin (A la font l’ermita\, Las bonas fonts). \n> Gratuit\n> Le musée du Cloître est ouvert tous les jours sauf les dimanche et lundi.\n> Du 1er octobre au 14 juin : ouvert de 14h à 18h.\n> Du 15 juin au 30 septembre : ouvert de 10h30 à 12h30 et de 14h à 18h. \nPer ne’n saubre mai / Renseignements\nMusée du cloître de Tulle (Place Berteaud) – 05 55 26 91 05 \n \n
URL:http://ieo-lemosin.org/evenement/ieo-lem-mostra-gaston-vuillier-chez-les-magiciens-et-sorciers-de-la-correze
LOCATION:Musée du Cloître\, Tula – Tulle (19)
CATEGORIES:IEO Lemosin
END:VEVENT
BEGIN:VEVENT
DTSTART;VALUE=DATE:20170701
DTEND;VALUE=DATE:20170818
DTSTAMP:20260426T014808
CREATED:20170704T181915Z
LAST-MODIFIED:20170704T181915Z
UID:4101-1498867200-1503014399@ieo-lemosin.org
SUMMARY:Exposition – Jean Estaque\, Pavel Macek\, Jan-Marc Simeonin\, Marianne Tixeuil...
DESCRIPTION:\n \n\n
URL:http://ieo-lemosin.org/evenement/mostra-jean-estaque-pavel-macek-jan-marc-simeonin-marianne-tixeuil
LOCATION:Le Petit Lavoir\, 6 Rue de l’Ancien Chateau\, Sent Perdos – Saint-Pardoux (87)
CATEGORIES:Monde Occitan
END:VEVENT
BEGIN:VEVENT
DTSTART;VALUE=DATE:20170811
DTEND;VALUE=DATE:20170816
DTSTAMP:20260426T014808
CREATED:20170623T132440Z
LAST-MODIFIED:20170623T132659Z
UID:4047-1502409600-1502841599@ieo-lemosin.org
SUMMARY:52ème Festival du Mont-Gargan
DESCRIPTION:Programme soumis à d’éventuelles modifications. \nVendredi 11 août\, Sommet du Mont-Gargan\n\n19h30 : Contes & Légendes du Mont-Gargan\n Balade contée animée par l’Office de Tourisme Briance-Combade de Châteauneuf la Forêt et l’association Arts & Culture en Limousin.\n Durée : 1h30 environ.  Rdv sur le parking du Mont-Gargan.\n\nSamedi 12 août\, Saint-Gilles-les-Forêts\n\n8h30 : « Marche de la Résistance » commentée par Michèle Guingouin\, départ de la Mairie.\n10h00 : Marché artisanal.\n12h00 : Repas champêtre\, sur réservation.\nRencontre avec les jeunes folkloristes de la Fédération Limousin-Marche.\n15h30 : Spectacle place de la mairie.\nRepas grillades le soir\, sur réservation.\n20h30 : « Bal Clandestin ».\n23h00 : Bal Disco.\n\n\nToute la journée :\n\nPrésence de l’ANACR et de l’association du Musée de la Résistance de Peyrat-le-Château pour 2 expositions commentées : 1944\, Georges Guingouin & ses hommes\, du maquis au combat / Les parachutages et les femmes pendant la guerre.\nPrésence de la traction des maquisards.\nAnimations.\n\n\n\nDimanche 13 août\, Châteauneuf-la-Forêt : « Bufa & Chanta »\n\n17h30 : Concert en l’église de Châteauneuf-la-Forêt\n\n1ère partie : Hommage à Louis Jarraud avec Cabrette & co\,\n2ème partie : Chant’oc greu\, chants polyphoniques occitans.\n Entrée 5 €.\n\n\n\nLundi 14 août\, La Croisille-sur-Briance\n\n18h00\, place de l’église : « Lo Merchat d’aquí »\, marché de producteurs locaux.\n20h30 : Bal trad\n\n1ère partie : « Les Jeunes Talents du Trad »\, avec le Conservatoire de Musique Traditionnelle de Limoges sous la direction de Françoise Étay.\n2ème partie : Duo Rivaud-Lacouchie.\n\n\n\nMardi 15 août\, La Croisille-sur-Briance\, Châteauneuf-la-Forêt et sommet du Mont-Gargan\nLe festival célèbre la paix & l’amitié entre les peuples ! \n\n10h00 : Défilé dans les rues de La Croisille-sur-Briance\,\n10h30 : Messe animée par les groupes invités :\n\nThe Jewish Ensemble (Haïfa en Israël)\,\nThe Arab Ensemble (Nazareth en Israël)\,\nEl Salitre del Faycan (Espagne – Îles Canaries)\,\nLe Groupe d’Arts & Traditions Populaires du Limousin de l’Escòla dau Mont-Gargan (France – Limousin).\n\n\n11h30 : Aubade des groupes\, place de l’église.\n12h00 : Pique-nique au sommet du Mont-Gargan.\n15h00 : Spectacle avec les groupes\, au sommet du Mont-Gargan.\n21h00 : Projection du film-documentaire « Dancing in Jaffa » suivi d’un débat\, au cinéma Le Colisée à Châteauneuf-la-Forêt.\n\n\nToute la journée :\n\nPrésence de l’ANACR et de l’association du Musée de la Résistance de Peyrat-le-Château pour 2 expositions commentées : 1944\, Georges Guingouin et ses hommes\, du maquis au combat / Les parachutages et les femmes pendant la guerre.\nPrésence de la traction des maquisards.\n\n\n\nPer ne’n saubre mai – Renseignements\nEscòla dau Mont-Gargan\, Philippe Pradeau (Président) – 06 10 18 55 47 (après 16h30) – https://www.ecoledumontgargan.com/ \n
URL:http://ieo-lemosin.org/evenement/52eme-festival-du-mont-gargan
LOCATION:Pueg Gerjant e alentorn – Mont Gargan et ses environs (87)
CATEGORIES:Monde Occitan
END:VEVENT
END:VCALENDAR