BEGIN:VCALENDAR
VERSION:2.0
PRODID:-//IEO Lemosin - ECPv4.9.9//NONSGML v1.0//EN
CALSCALE:GREGORIAN
METHOD:PUBLISH
X-WR-CALNAME:IEO Lemosin
X-ORIGINAL-URL:http://ieo-lemosin.org
X-WR-CALDESC:Events for IEO Lemosin
BEGIN:VTIMEZONE
TZID:Europe/Paris
BEGIN:DAYLIGHT
TZOFFSETFROM:+0100
TZOFFSETTO:+0200
TZNAME:CEST
DTSTART:20170326T010000
END:DAYLIGHT
BEGIN:STANDARD
TZOFFSETFROM:+0200
TZOFFSETTO:+0100
TZNAME:CET
DTSTART:20171029T010000
END:STANDARD
BEGIN:DAYLIGHT
TZOFFSETFROM:+0100
TZOFFSETTO:+0200
TZNAME:CEST
DTSTART:20180325T010000
END:DAYLIGHT
BEGIN:STANDARD
TZOFFSETFROM:+0200
TZOFFSETTO:+0100
TZNAME:CET
DTSTART:20181028T010000
END:STANDARD
END:VTIMEZONE
BEGIN:VEVENT
DTSTART;VALUE=DATE:20170215
DTEND;VALUE=DATE:20180107
DTSTAMP:20260426T014810
CREATED:20170228T192515Z
LAST-MODIFIED:20170522T100009Z
UID:3470-1487116800-1515283199@ieo-lemosin.org
SUMMARY:Exposition Gaston Vuillier : « Chez les magiciens et sorciers de la Corrèze »
DESCRIPTION:Le musée du Cloître conserve un fonds important lié à Gaston Vuiller\, artiste peintre\, dessinateur et voyageur\, dont l’œuvre et le nom restent intimement mêlés à la Corrèze et au village de Gimel-les-Cascades. \nCe fonds est aujourd’hui constitué de trente-sept dessins\, trois gravures\, un autoportrait (peinture à l’huile sur bois)\, deux grands tableaux de paysages (dépôts du Centre National des Arts Plastiques) et cinq livres illustrés. En 1900\, la ville de Tulle acquiert un premier ensemble de dessins parus en 1899 dans trois épisodes de la revue Le Tour du Monde dans un article intitulé « Chez les magiciens et les sorciers de la Corrèze ». Restaurés en 2012\, ces œuvres sur papier restent néanmoins fragiles et particulièrement sensibles à la lumière\, et pour cette raison ne peuvent être exposées de manière permanente. Ce nouvel accrochage est l’occasion de les découvrir une nouvelle fois et de partir à la rencontre des figures que Gaston Vuillier appelle les magiciens et sorciers de la Corrèze… \nExposition illustrée par des films\, dont 2 de l’Institut d’Estudis Occitans dau Lemosin (A la font l’ermita\, Las bonas fonts). \n> Gratuit\n> Le musée du Cloître est ouvert tous les jours sauf les dimanche et lundi.\n> Du 1er octobre au 14 juin : ouvert de 14h à 18h.\n> Du 15 juin au 30 septembre : ouvert de 10h30 à 12h30 et de 14h à 18h. \nPer ne’n saubre mai / Renseignements\nMusée du cloître de Tulle (Place Berteaud) – 05 55 26 91 05 \n \n
URL:http://ieo-lemosin.org/evenement/ieo-lem-mostra-gaston-vuillier-chez-les-magiciens-et-sorciers-de-la-correze
LOCATION:Musée du Cloître\, Tula – Tulle (19)
CATEGORIES:IEO Lemosin
END:VEVENT
BEGIN:VEVENT
DTSTART;VALUE=DATE:20170813
DTEND;VALUE=DATE:20170820
DTSTAMP:20260426T014810
CREATED:20170531T155633Z
LAST-MODIFIED:20170531T155633Z
UID:3986-1502582400-1503187199@ieo-lemosin.org
SUMMARY:43e École Occitane d'Été
DESCRIPTION:Cliquez sur l’image pour découvrir le programme (cours d’occitan limousin) ! \n \n
URL:http://ieo-lemosin.org/evenement/43a-escola-occitana-destiu
LOCATION:Vilanuèva d’Òut – Villeneuve-sur-Lot (47)
CATEGORIES:Monde Occitan
END:VEVENT
BEGIN:VEVENT
DTSTART;VALUE=DATE:20170817
DTEND;VALUE=DATE:20170820
DTSTAMP:20260426T014810
CREATED:20170710T165217Z
LAST-MODIFIED:20170710T165217Z
UID:4113-1502928000-1503187199@ieo-lemosin.org
SUMMARY:Festival de la langue d'Oc limousine
DESCRIPTION:Des stages de langue d’oc (3 niveaux) sont proposés : \n\ndébutants avec Janine Bachellerie ;\nconfirmants avec Paul Raynal ;\ninitiation aux auteurs limousins avec Jean-Michel Monteil.\n\n> Organisé par l’Escola ‘Chabatz d’Entrar. \nPer ne’n saubre mai e se marcar – Renseignements et inscriptions\n04 72 18 96 84 / en août : 06 77 79 96 65 ou 05 55 93 25 83 \n
URL:http://ieo-lemosin.org/evenement/festival-de-la-langue-doc-limousine
LOCATION:Sala – Salle Saint-Martial\, Navas – Naves (19)
CATEGORIES:Monde Occitan
END:VEVENT
BEGIN:VEVENT
DTSTART;TZID=Europe/Paris:20170818T203000
DTEND;TZID=Europe/Paris:20170818T203000
DTSTAMP:20260426T014810
CREATED:20161220T114113Z
LAST-MODIFIED:20170522T091945Z
UID:3327-1503088200-1503088200@ieo-lemosin.org
SUMMARY:Concert du groupe polyphonique Chant'Oc Greu
DESCRIPTION: \nChant’Oc Greu\, atelier chant de l’association « la Sendarela lemosina » de Saint Auvent\, a pour volonté d’introduire la technique du chant polyphonique en Limousin telle qu’elle se pratique dans d’autres régions du sud de la France. \nNotre « Greu »\, sorti de son trou en novembre 2011\, regroupe une douzaine de chanteurs venus de St Auvent\, des alentours mais aussi de plus loin. S’il chante aujourd’hui\, ce Grillon\, c’est qu’il a été apprivoisé par un jeune\, talentueux et passionné musicien et chanteur\, Benoît Ribière. \nLes chants polyphoniques d’Occitanie (Limousin\, Béarn\, Gascogne\, Provence\, entre autres) regorgent de situations idéales pour aborder cette technique de chant dans toute sa magie. C’est d’ailleurs pourquoi le groupe chante en cercle\, pour le partage des voix et des émotions et c’est aussi et surtout pour mieux faire partager ces vibrations aux spectateurs. \nAlors\, quand vous serez des nôtres\, fermez les yeux et suivez-nous… « Chabatz d’Entrar » dins nòstra ronda… \n
URL:http://ieo-lemosin.org/evenement/concert-du-groupe-polyphonique-chantoc-greu-2
LOCATION:Egleisa – Église\, Sent Marçau – Saint-Martial-sur-Isop (87)
CATEGORIES:Monde Occitan
END:VEVENT
END:VCALENDAR