BEGIN:VCALENDAR
VERSION:2.0
PRODID:-//IEO Lemosin - ECPv4.9.9//NONSGML v1.0//EN
CALSCALE:GREGORIAN
METHOD:PUBLISH
X-WR-CALNAME:IEO Lemosin
X-ORIGINAL-URL:http://ieo-lemosin.org
X-WR-CALDESC:Events for IEO Lemosin
BEGIN:VTIMEZONE
TZID:Europe/Paris
BEGIN:DAYLIGHT
TZOFFSETFROM:+0100
TZOFFSETTO:+0200
TZNAME:CEST
DTSTART:20170326T010000
END:DAYLIGHT
BEGIN:STANDARD
TZOFFSETFROM:+0200
TZOFFSETTO:+0100
TZNAME:CET
DTSTART:20171029T010000
END:STANDARD
BEGIN:DAYLIGHT
TZOFFSETFROM:+0100
TZOFFSETTO:+0200
TZNAME:CEST
DTSTART:20180325T010000
END:DAYLIGHT
BEGIN:STANDARD
TZOFFSETFROM:+0200
TZOFFSETTO:+0100
TZNAME:CET
DTSTART:20181028T010000
END:STANDARD
END:VTIMEZONE
BEGIN:VEVENT
DTSTART;VALUE=DATE:20170215
DTEND;VALUE=DATE:20180107
DTSTAMP:20260426T002509
CREATED:20170228T192515Z
LAST-MODIFIED:20170522T100009Z
UID:3470-1487116800-1515283199@ieo-lemosin.org
SUMMARY:Mòstra Gaston Vuillier : « Chez les magiciens et sorciers de la Corrèze »
DESCRIPTION:Le musée du Cloître conserve un fonds important lié à Gaston Vuiller\, artiste peintre\, dessinateur et voyageur\, dont l’œuvre et le nom restent intimement mêlés à la Corrèze et au village de Gimel-les-Cascades. \nCe fonds est aujourd’hui constitué de trente-sept dessins\, trois gravures\, un autoportrait (peinture à l’huile sur bois)\, deux grands tableaux de paysages (dépôts du Centre National des Arts Plastiques) et cinq livres illustrés. En 1900\, la ville de Tulle acquiert un premier ensemble de dessins parus en 1899 dans trois épisodes de la revue Le Tour du Monde dans un article intitulé « Chez les magiciens et les sorciers de la Corrèze ». Restaurés en 2012\, ces œuvres sur papier restent néanmoins fragiles et particulièrement sensibles à la lumière\, et pour cette raison ne peuvent être exposées de manière permanente. Ce nouvel accrochage est l’occasion de les découvrir une nouvelle fois et de partir à la rencontre des figures que Gaston Vuillier appelle les magiciens et sorciers de la Corrèze… \nExposition illustrée par des films\, dont 2 de l’Institut d’Estudis Occitans dau Lemosin (A la font l’ermita\, Las bonas fonts). \n> Gratuit\n> Le musée du Cloître est ouvert tous les jours sauf les dimanche et lundi.\n> Du 1er octobre au 14 juin : ouvert de 14h à 18h.\n> Du 15 juin au 30 septembre : ouvert de 10h30 à 12h30 et de 14h à 18h. \nPer ne’n saubre mai / Renseignements\nMusée du cloître de Tulle (Place Berteaud) – 05 55 26 91 05 \n \n
URL:http://ieo-lemosin.org/evenement/ieo-lem-mostra-gaston-vuillier-chez-les-magiciens-et-sorciers-de-la-correze
LOCATION:Musée du Cloître\, Tula – Tulle (19)
CATEGORIES:IEO Lemosin
END:VEVENT
BEGIN:VEVENT
DTSTART;VALUE=DATE:20170914
DTEND;VALUE=DATE:20170917
DTSTAMP:20260426T002509
CREATED:20170623T105346Z
LAST-MODIFIED:20170623T105835Z
UID:4034-1505347200-1505606399@ieo-lemosin.org
SUMMARY:30e Nuits de Nacre : Triptype – Brotto-Lopez – Erms...
DESCRIPTION:Jeudi 14 septembre\n– 19h45\, Quai Baluze : Bal avec Triptype (gratuit) \n– 23h30\, Quai Baluze : Bal avec le duo Brotto-Lopez (gratuit) \nVendredi 15 septembre\n– 20h00\, Place Gambetta : Concert de Erms \n> Retrouvez la programmation complète sur http://www.accordeon.org/ \nPer ne’n saubre mai – Renseignements\n05 55 20 28 75 \n
URL:http://ieo-lemosin.org/evenement/30e-nuits-de-nacre-triptype-brotto-lopez-erms
LOCATION:Tula – Tulle (19)
CATEGORIES:Monde Occitan
END:VEVENT
BEGIN:VEVENT
DTSTART;VALUE=DATE:20170916
DTEND;VALUE=DATE:20170917
DTSTAMP:20260426T002509
CREATED:20170623T124613Z
LAST-MODIFIED:20170623T124628Z
UID:4044-1505520000-1505606399@ieo-lemosin.org
SUMMARY:17èmes Rencontres Musicales de Nedde... à Faux-la-Montagne
DESCRIPTION:\n8h45 : Rendez-vous à la mairie de Faux-la-Montagne (23).\n9h00 : Départ de la balade-découverte-conférence entre le bourg de Faux et le hameau de Chatain (8-9 km). Découverte de la faune et de la flore du site des Rochers de Clamouzat\, animée par le Conservatoire des Espaces Naturels (CEN).\n12h30 : Arrivée à Chatain – apéritif musical. Repas grillades.\n14h30 : Balade retour vers Faux (6-7 km)\, animations musicales et diverses.\n16h30 : Arrivée à Faux-la-Montagne.\n16h30 – 18H45 : Découverte des initiatives d’économie locale.\n Visites et rencontres avec les différents porteurs de projets : Volubilis\, la biscuiterie du Plateau ; L’Arban\, atelier permanent d’urbanisme et d’habitat ; l’association Pivoine\, organisme de formation à la gestion et à la comptabilité associative ; le Constance Social Club\, bistrot associatif à vocation sociale et culturelle ; l’association TAF\, Travailler À Faux\, espace de cotravail.\n18h45 : Apéritif musical.\n19h15 : Repas à l’Auberge de la Feuillade (le repas n’est possible que dans la formule repas+concert).\n Potage\, pâté de pommes de terre\, salade\, fromage\, crumble aux myrtilles\, café. Vin non compris.\n21h00 : Concert + Bal Folk à la Salle des fêtes.\n Jac Lavergne en concert\, « Morceaux choisis »\n « Il m’arrive souvent de prendre des extraits de divers spectacles de la Compagnie Léon Larchet et d’en faire un montage de l’instant\, d’essayer des assemblages nouveaux. Je ne cherche pas particulièrement un fil conducteur car j’écris la totalité des musiques et textes que je joue\, ainsi ma vie est un kaléidoscope poétique que je propose pour un soir avec accordéon\, violon et voix. »\n Nòu en bal\, le Bal Trad « made in Nouvelle-Aquitaine »\n Benoit Roblin\, Gille de Becdelièvre et Arnaud Bibonne\, voilà trois excellents musiciens qui ont eu l’envie de faire se rencontrer leurs compositions et mélodies traditionnelles de la nouvelle région Aquitaine pour proposer un bal riche de variétés de danses et d’influences. Les timbres des instruments se mélangent parfaitement\, le groove est posé\, le bal peut commencer !\n Le Plancher Tremble\, groupe de musique du Limousin.\n Quinze musiciens en acoustique pour entrer dans le bal.\n\nPer ne’n saubre mai – Renseignements\nhttp://www.rencontresdenedde.org/ \n
URL:http://ieo-lemosin.org/evenement/17emes-rencontres-musicales-de-nedde-a-faux-la-montagne
LOCATION:Faus – Faux-la-Montagne (23)
CATEGORIES:Monde Occitan
END:VEVENT
BEGIN:VEVENT
DTSTART;TZID=Europe/Paris:20170916T180000
DTEND;TZID=Europe/Paris:20170916T180000
DTSTAMP:20260426T002509
CREATED:20170913T181712Z
LAST-MODIFIED:20170913T181712Z
UID:4262-1505584800-1505584800@ieo-lemosin.org
SUMMARY:Causerie sur l'auteur Jean-Baptiste Chèze – Jean-Michel Monteil
DESCRIPTION:Jean-Michel Monteil nous fera découvrir la personnalité attachante et l’œuvre de cet auteur limousin\, né à Corrèze en 1870 et mort à Tulle en 1935\, qui a écrit en occitan et en français. \nLa conférence sera suivie d’un encas\, une occasion de se retrouver de façon conviviale autour d’un casse-croûte corrézien préparé par les bénévoles (assiette tourtous garnis / crêpe / cidre). \n
URL:http://ieo-lemosin.org/evenement/causerie-sur-lauteur-jean-baptiste-cheze-jean-michel-monteil
LOCATION:Sala de las festas – Salle des fêtes\, Champanhac – Champagnac-la-Noaille (19)
CATEGORIES:Monde Occitan
END:VEVENT
END:VCALENDAR