BEGIN:VCALENDAR
VERSION:2.0
PRODID:-//IEO Lemosin - ECPv4.9.9//NONSGML v1.0//EN
CALSCALE:GREGORIAN
METHOD:PUBLISH
X-WR-CALNAME:IEO Lemosin
X-ORIGINAL-URL:http://ieo-lemosin.org
X-WR-CALDESC:Events for IEO Lemosin
BEGIN:VTIMEZONE
TZID:Europe/Paris
BEGIN:DAYLIGHT
TZOFFSETFROM:+0100
TZOFFSETTO:+0200
TZNAME:CEST
DTSTART:20170326T010000
END:DAYLIGHT
BEGIN:STANDARD
TZOFFSETFROM:+0200
TZOFFSETTO:+0100
TZNAME:CET
DTSTART:20171029T010000
END:STANDARD
BEGIN:DAYLIGHT
TZOFFSETFROM:+0100
TZOFFSETTO:+0200
TZNAME:CEST
DTSTART:20180325T010000
END:DAYLIGHT
BEGIN:STANDARD
TZOFFSETFROM:+0200
TZOFFSETTO:+0100
TZNAME:CET
DTSTART:20181028T010000
END:STANDARD
END:VTIMEZONE
BEGIN:VEVENT
DTSTART;VALUE=DATE:20170215
DTEND;VALUE=DATE:20180107
DTSTAMP:20260426T002355
CREATED:20170228T192515Z
LAST-MODIFIED:20170522T100009Z
UID:3470-1487116800-1515283199@ieo-lemosin.org
SUMMARY:Mòstra Gaston Vuillier : « Chez les magiciens et sorciers de la Corrèze »
DESCRIPTION:Le musée du Cloître conserve un fonds important lié à Gaston Vuiller\, artiste peintre\, dessinateur et voyageur\, dont l’œuvre et le nom restent intimement mêlés à la Corrèze et au village de Gimel-les-Cascades. \nCe fonds est aujourd’hui constitué de trente-sept dessins\, trois gravures\, un autoportrait (peinture à l’huile sur bois)\, deux grands tableaux de paysages (dépôts du Centre National des Arts Plastiques) et cinq livres illustrés. En 1900\, la ville de Tulle acquiert un premier ensemble de dessins parus en 1899 dans trois épisodes de la revue Le Tour du Monde dans un article intitulé « Chez les magiciens et les sorciers de la Corrèze ». Restaurés en 2012\, ces œuvres sur papier restent néanmoins fragiles et particulièrement sensibles à la lumière\, et pour cette raison ne peuvent être exposées de manière permanente. Ce nouvel accrochage est l’occasion de les découvrir une nouvelle fois et de partir à la rencontre des figures que Gaston Vuillier appelle les magiciens et sorciers de la Corrèze… \nExposition illustrée par des films\, dont 2 de l’Institut d’Estudis Occitans dau Lemosin (A la font l’ermita\, Las bonas fonts). \n> Gratuit\n> Le musée du Cloître est ouvert tous les jours sauf les dimanche et lundi.\n> Du 1er octobre au 14 juin : ouvert de 14h à 18h.\n> Du 15 juin au 30 septembre : ouvert de 10h30 à 12h30 et de 14h à 18h. \nPer ne’n saubre mai / Renseignements\nMusée du cloître de Tulle (Place Berteaud) – 05 55 26 91 05 \n \n
URL:http://ieo-lemosin.org/evenement/ieo-lem-mostra-gaston-vuillier-chez-les-magiciens-et-sorciers-de-la-correze
LOCATION:Musée du Cloître\, Tula – Tulle (19)
CATEGORIES:IEO Lemosin
END:VEVENT
BEGIN:VEVENT
DTSTART;TZID=Europe/Paris:20170921T180000
DTEND;TZID=Europe/Paris:20170921T180000
DTSTAMP:20260426T002355
CREATED:20170113T150113Z
LAST-MODIFIED:20170522T091616Z
UID:3387-1506016800-1506016800@ieo-lemosin.org
SUMMARY:Contes de pays avec Odette Marcilllaud
DESCRIPTION:Dans le cadre des ateliers d’initiation à la langue occitane de Patrick Ratineaud. \nPer ne’n saubre mai – Renseignements\nUnion Occitana « Camille Chabaneau » – 05 53 56 61 89 – union.occitana@yahoo.fr \n
URL:http://ieo-lemosin.org/evenement/contes-de-pays-avec-odette-marcilllaud
LOCATION:Sala – Salle Gambetta\, Nontron (24)
CATEGORIES:Monde Occitan
END:VEVENT
BEGIN:VEVENT
DTSTART;TZID=Europe/Paris:20170921T203000
DTEND;TZID=Europe/Paris:20170921T203000
DTSTAMP:20260426T002355
CREATED:20170811T100936Z
LAST-MODIFIED:20170811T101152Z
UID:4184-1506025800-1506025800@ieo-lemosin.org
SUMMARY:Spectacle « Le berger des sons »
DESCRIPTION: \nAlain Larribet\, compositeur\, multi-instrumentiste et chanteur\, distille dans ce spectacle tout en poésie et en émotion des récits de son enfance\, des histoires de montagne\, d’ici et d’ailleurs\, en français et en occitan.\nPersonnalité singulière et multiple\, il chante et transmet avec force son amour pour la nature\, sa passion pour le voyage\, et esquisse une carte du monde à travers la magie des sons de ses instruments. \n\n Mise en scène : Yannick Jaulin\n Textes : Serge Mauhourat\n Musiques et chants : Alain Larribet \n> Tarif : De 5 à 15 € \nPer ne’n saubre mai e se marcar / Renseignements et réservations\nLes Treize Arches (Place Aristide Briand – BP 70013 – Brive Cedex) – 05 55 24 62 22 (billetterie) – billetterie@lestreizearches.com – www.lestreizearches.com \n
URL:http://ieo-lemosin.org/evenement/spectacle-le-berger-des-sons-2
LOCATION:Sala de las festas – Salle des fêtes\, Aiént – Ayen (19)
CATEGORIES:Monde Occitan
END:VEVENT
END:VCALENDAR