BEGIN:VCALENDAR
VERSION:2.0
PRODID:-//IEO Lemosin - ECPv4.9.9//NONSGML v1.0//EN
CALSCALE:GREGORIAN
METHOD:PUBLISH
X-WR-CALNAME:IEO Lemosin
X-ORIGINAL-URL:http://ieo-lemosin.org
X-WR-CALDESC:Events for IEO Lemosin
BEGIN:VTIMEZONE
TZID:Europe/Paris
BEGIN:DAYLIGHT
TZOFFSETFROM:+0100
TZOFFSETTO:+0200
TZNAME:CEST
DTSTART:20170326T010000
END:DAYLIGHT
BEGIN:STANDARD
TZOFFSETFROM:+0200
TZOFFSETTO:+0100
TZNAME:CET
DTSTART:20171029T010000
END:STANDARD
BEGIN:DAYLIGHT
TZOFFSETFROM:+0100
TZOFFSETTO:+0200
TZNAME:CEST
DTSTART:20180325T010000
END:DAYLIGHT
BEGIN:STANDARD
TZOFFSETFROM:+0200
TZOFFSETTO:+0100
TZNAME:CET
DTSTART:20181028T010000
END:STANDARD
END:VTIMEZONE
BEGIN:VEVENT
DTSTART;VALUE=DATE:20170215
DTEND;VALUE=DATE:20180107
DTSTAMP:20260425T230110
CREATED:20170228T192515Z
LAST-MODIFIED:20170522T100009Z
UID:3470-1487116800-1515283199@ieo-lemosin.org
SUMMARY:Mòstra Gaston Vuillier : « Chez les magiciens et sorciers de la Corrèze »
DESCRIPTION:Le musée du Cloître conserve un fonds important lié à Gaston Vuiller\, artiste peintre\, dessinateur et voyageur\, dont l’œuvre et le nom restent intimement mêlés à la Corrèze et au village de Gimel-les-Cascades. \nCe fonds est aujourd’hui constitué de trente-sept dessins\, trois gravures\, un autoportrait (peinture à l’huile sur bois)\, deux grands tableaux de paysages (dépôts du Centre National des Arts Plastiques) et cinq livres illustrés. En 1900\, la ville de Tulle acquiert un premier ensemble de dessins parus en 1899 dans trois épisodes de la revue Le Tour du Monde dans un article intitulé « Chez les magiciens et les sorciers de la Corrèze ». Restaurés en 2012\, ces œuvres sur papier restent néanmoins fragiles et particulièrement sensibles à la lumière\, et pour cette raison ne peuvent être exposées de manière permanente. Ce nouvel accrochage est l’occasion de les découvrir une nouvelle fois et de partir à la rencontre des figures que Gaston Vuillier appelle les magiciens et sorciers de la Corrèze… \nExposition illustrée par des films\, dont 2 de l’Institut d’Estudis Occitans dau Lemosin (A la font l’ermita\, Las bonas fonts). \n> Gratuit\n> Le musée du Cloître est ouvert tous les jours sauf les dimanche et lundi.\n> Du 1er octobre au 14 juin : ouvert de 14h à 18h.\n> Du 15 juin au 30 septembre : ouvert de 10h30 à 12h30 et de 14h à 18h. \nPer ne’n saubre mai / Renseignements\nMusée du cloître de Tulle (Place Berteaud) – 05 55 26 91 05 \n \n
URL:http://ieo-lemosin.org/evenement/ieo-lem-mostra-gaston-vuillier-chez-les-magiciens-et-sorciers-de-la-correze
LOCATION:Musée du Cloître\, Tula – Tulle (19)
CATEGORIES:IEO Lemosin
END:VEVENT
BEGIN:VEVENT
DTSTART;VALUE=DATE:20171007
DTEND;VALUE=DATE:20171023
DTSTAMP:20260425T230110
CREATED:20170414T172503Z
LAST-MODIFIED:20170912T155831Z
UID:3672-1507334400-1508716799@ieo-lemosin.org
SUMMARY:Mòstra / Exposition « Jojo\, petit Limousin » + « Gens d'ici\, années 50 »
DESCRIPTION: \nDans le cadre de la quinzaine « Souvenirs en tête » du 7 au 22 octobre 2017. \n– « Jojo\, petit Limousin »\, gravures de Marianne Tixeuil.\n – « Gens d’ici\, années 50 »\, photos de Claudie Lagarde.\n Visites écoles\, collège\, associations sur demande (voir téléphone ci-dessous). \n> Gratuit. \nPer ne’n saubre mai – Renseignements\nAssociation Culture en tête – 05 53 53 43 23 \n
URL:http://ieo-lemosin.org/evenement/mostra-exposition-jojo-petit-limousin-gravures-de-marianne-tixeuil
LOCATION:Sala de las festas – Salle des fêtes\, Sant Matiá – Saint-Mathieu (87)
CATEGORIES:Monde Occitan
END:VEVENT
BEGIN:VEVENT
DTSTART;TZID=Europe/Paris:20171021T180000
DTEND;TZID=Europe/Paris:20171021T180000
DTSTAMP:20260425T230110
CREATED:20170912T154738Z
LAST-MODIFIED:20170912T155912Z
UID:4216-1508608800-1508608800@ieo-lemosin.org
SUMMARY:Rencontre avec 2 écrivains : Françoise Dudognon et Jean-Pierre Reydy
DESCRIPTION:Dans le cadre de la quinzaine « Souvenirs en tête » du 7 au 22 octobre 2017. \n> Gratuit. \nPer ne’n saubre mai – Renseignements\nAssociation Culture en tête – 05 53 53 43 23 \n
URL:http://ieo-lemosin.org/evenement/rencontre-avec-2-ecrivains-francoise-dudognon-et-jean-pierre-reydy
LOCATION:Sala de las festas – Salle des fêtes\, Sant Matiá – Saint-Mathieu (87)
CATEGORIES:Monde Occitan
END:VEVENT
BEGIN:VEVENT
DTSTART;TZID=Europe/Paris:20171021T203000
DTEND;TZID=Europe/Paris:20171021T203000
DTSTAMP:20260425T230110
CREATED:20171018T162846Z
LAST-MODIFIED:20171018T162846Z
UID:4309-1508617800-1508617800@ieo-lemosin.org
SUMMARY:Sernada teatre emb la tropa daus Cars
DESCRIPTION:La troupe des Cars vous invite à son spectacle 2017\, deux pièces dont une avec de l’occitan. \n\nAppelle-moi papa\nL’amour est dans la grange\n\n> Tarif : 8 €\n > Buvette \nPer ne’n saubre mai – Renseignements\nAmicale du 3e Age : 06 85 12 99 60 \n
URL:http://ieo-lemosin.org/evenement/sernada-teatre-emb-la-tropa-daus-cars
LOCATION:Sala – Salle Georges Mélies\, Neiçon – Nexon (87)
CATEGORIES:Monde Occitan
END:VEVENT
BEGIN:VEVENT
DTSTART;TZID=Europe/Paris:20171021T203000
DTEND;TZID=Europe/Paris:20171021T203000
DTSTAMP:20260425T230110
CREATED:20171018T164149Z
LAST-MODIFIED:20171018T164531Z
UID:4311-1508617800-1508617800@ieo-lemosin.org
SUMMARY:Sernada teatre emb la tropa Bat-de-l'Aile
DESCRIPTION: \nSera interprété le spectacle intérieur 2017-2018 composé de 2 pièces comiques\, voire burlesques : \n\nLibérées d’« entre ciel et terre » : Jackie et Lulu sont retenues contre leur volonté dans un lieu qui ne leur convient pas. Malgré ça elles ne vont pas s’ennuyer ! Pour celles et ceux qui ne les connaissent pas : ne les manquez pas dans cette nouvelle aventure !\nLe mystère de la statue : Une statue du 17ème siècle a mystérieusement disparue. Tout le village est mobilisé ! Cette comédie mêle agilement le français et la langue limousine. Langue notamment parlée par un personnage VRAIMENT inattendu !\n\n> Spectacle entièrement écrit et mis en scène par la Troupe Bat de l’Aile\, création et prestation son et lumière : Média Son Evénementiel. \n > Organisé par le “Petit Théâtre de Feytiat”.\n > Il est préférable de réserver vos places. \nPer ne’n saubre mai e se marcar – Renseignements et réservations\n06 72 08 18 01 \n
URL:http://ieo-lemosin.org/evenement/sernada-teatre-emb-la-tropa-bat-de-laile
LOCATION:Espace Georges Brassens\, Festiac – Feytiat (87)
CATEGORIES:Monde Occitan
END:VEVENT
END:VCALENDAR