BEGIN:VCALENDAR
VERSION:2.0
PRODID:-//IEO Lemosin - ECPv4.9.9//NONSGML v1.0//EN
CALSCALE:GREGORIAN
METHOD:PUBLISH
X-WR-CALNAME:IEO Lemosin
X-ORIGINAL-URL:http://ieo-lemosin.org
X-WR-CALDESC:Events for IEO Lemosin
BEGIN:VTIMEZONE
TZID:Europe/Paris
BEGIN:DAYLIGHT
TZOFFSETFROM:+0100
TZOFFSETTO:+0200
TZNAME:CEST
DTSTART:20170326T010000
END:DAYLIGHT
BEGIN:STANDARD
TZOFFSETFROM:+0200
TZOFFSETTO:+0100
TZNAME:CET
DTSTART:20171029T010000
END:STANDARD
BEGIN:DAYLIGHT
TZOFFSETFROM:+0100
TZOFFSETTO:+0200
TZNAME:CEST
DTSTART:20180325T010000
END:DAYLIGHT
BEGIN:STANDARD
TZOFFSETFROM:+0200
TZOFFSETTO:+0100
TZNAME:CET
DTSTART:20181028T010000
END:STANDARD
END:VTIMEZONE
BEGIN:VEVENT
DTSTART;VALUE=DATE:20170215
DTEND;VALUE=DATE:20180107
DTSTAMP:20260425T201718
CREATED:20170228T192515Z
LAST-MODIFIED:20170522T100009Z
UID:3470-1487116800-1515283199@ieo-lemosin.org
SUMMARY:Mòstra Gaston Vuillier : « Chez les magiciens et sorciers de la Corrèze »
DESCRIPTION:Le musée du Cloître conserve un fonds important lié à Gaston Vuiller\, artiste peintre\, dessinateur et voyageur\, dont l’œuvre et le nom restent intimement mêlés à la Corrèze et au village de Gimel-les-Cascades. \nCe fonds est aujourd’hui constitué de trente-sept dessins\, trois gravures\, un autoportrait (peinture à l’huile sur bois)\, deux grands tableaux de paysages (dépôts du Centre National des Arts Plastiques) et cinq livres illustrés. En 1900\, la ville de Tulle acquiert un premier ensemble de dessins parus en 1899 dans trois épisodes de la revue Le Tour du Monde dans un article intitulé « Chez les magiciens et les sorciers de la Corrèze ». Restaurés en 2012\, ces œuvres sur papier restent néanmoins fragiles et particulièrement sensibles à la lumière\, et pour cette raison ne peuvent être exposées de manière permanente. Ce nouvel accrochage est l’occasion de les découvrir une nouvelle fois et de partir à la rencontre des figures que Gaston Vuillier appelle les magiciens et sorciers de la Corrèze… \nExposition illustrée par des films\, dont 2 de l’Institut d’Estudis Occitans dau Lemosin (A la font l’ermita\, Las bonas fonts). \n> Gratuit\n> Le musée du Cloître est ouvert tous les jours sauf les dimanche et lundi.\n> Du 1er octobre au 14 juin : ouvert de 14h à 18h.\n> Du 15 juin au 30 septembre : ouvert de 10h30 à 12h30 et de 14h à 18h. \nPer ne’n saubre mai / Renseignements\nMusée du cloître de Tulle (Place Berteaud) – 05 55 26 91 05 \n \n
URL:http://ieo-lemosin.org/evenement/ieo-lem-mostra-gaston-vuillier-chez-les-magiciens-et-sorciers-de-la-correze
LOCATION:Musée du Cloître\, Tula – Tulle (19)
CATEGORIES:IEO Lemosin
END:VEVENT
BEGIN:VEVENT
DTSTART;VALUE=DATE:20171118
DTEND;VALUE=DATE:20171210
DTSTAMP:20260425T201718
CREATED:20170414T172503Z
LAST-MODIFIED:20171004T200713Z
UID:4280-1510963200-1512863999@ieo-lemosin.org
SUMMARY:Mòstra / Exposition « Jojo\, petit Limousin »
DESCRIPTION: \nGravures et textes en français de Marianne Tixeuil\, traduction occitane de Jan dau Melhau. \nUn beau livre est paru aux éditions dau Chamin de sent Jaume.\nDédicace samedi 25 novembre à 15h00\, en présence des deux auteurs.  \nPer ne’n saubre mai – Renseignements\nBfm (2\, place Aimé-Césaire – 87000 Limoges) – 05 55 45 96 00 – http://www.bm-limoges.fr/ \n
URL:http://ieo-lemosin.org/evenement/mostra-exposition-jojo-petit-limousin-gravures-de-marianne-tixeuil-2
LOCATION:Pòle Lemosin – Pôle Limousin\, Biblioteca francofòna multimedia – Bfm\, Limòtges – Limoges (87)
CATEGORIES:Monde Occitan
END:VEVENT
BEGIN:VEVENT
DTSTART;VALUE=DATE:20171202
DTEND;VALUE=DATE:20171223
DTSTAMP:20260425T201718
CREATED:20171110T180157Z
LAST-MODIFIED:20171110T180157Z
UID:4364-1512172800-1513987199@ieo-lemosin.org
SUMMARY:Mòstra « Le loup en Corrèze »
DESCRIPTION: \n« Qui n’a écouté\, à la veillée\, des « récits du temps jadis » où des loups rôdaient dans des contrées pas si lointaines ? Loin du Petit Chaperon rouge\, cette exposition replace la présence du loup en Corrèze dans son contexte historique\, et révèle les traces qu’il a laissées dans notre département\, aussi bien dans les mentalités (croyances et légendes) que dans le paysage. Au fil des siècles\, l’histoire de l’homme et celle du loup se sont enchevêtrées : venez la découvrir au musée du Pays d’Ussel ! » \nExposition réalisée par les Archives départementales de la Corrèze. \n> Exposition visible du lundi au vendredi de 14h à 18h.\n > Ouverture exceptionnelle le samedi 2 et 16 décembre de 14h à 18h.\n > Entrée libre. \nAnimations\nSamedi 2 décembre : « Prends garde au loup ! » \nSpectacle de chants et contes sur le thème du loup\, accompagné de vielle à roue.\n 15h – Galerie du musée\, 18 rue Michelet.\n Spectacle tout public. Durée : 1h10.\n Réservation obligatoire. Tarif 5€\, gratuit – 18 ans. \nMercredi 6 décembre : visite-atelier enfants « Le loup en Corrèze : de l’histoire à la légende » \nDepuis des siècles\, le loup est le héros malheureux de nombreux contes et traditions populaires. Après avoir découvert l’exposition\, les enfants font revivre un de ces contes à travers des réalisations en ombres chinoises.\n 14h30 – Hôtel Bonnot de Bay\, 12 rue Michelet.\n Pour les 6/12 ans. Durée : 1h30.\n Réservation obligatoire. Gratuit. \n Par le Musée du Pays d’Ussel et le Pays d’art et d’histoire des Hautes Terres Corréziennes et de Ventadour \nPer ne’n saubre mai e se marcar – Contact et réservations\nMusée du Pays d’Ussel – 05 55 72 54 69 – musee@ussel19.fr \n
URL:http://ieo-lemosin.org/evenement/mostra-le-loup-en-correze
LOCATION:Museom dau País d’Ussel – Musée du Pays d’Ussel\, Ussel (19)
CATEGORIES:Monde Occitan
END:VEVENT
BEGIN:VEVENT
DTSTART;VALUE=DATE:20171205
DTEND;VALUE=DATE:20171217
DTSTAMP:20260425T201718
CREATED:20171124T213655Z
LAST-MODIFIED:20171124T213655Z
UID:4401-1512432000-1513468799@ieo-lemosin.org
SUMMARY:Mòstra : « Par 4 chemins » emb Em Bryant\, Jan-Marc Simeonin\, Marianne Tixeuil e Anne-Françoise Boutte
DESCRIPTION: \n
URL:http://ieo-lemosin.org/evenement/mostra-par-4-chemins-emb-em-bryant-jan-marc-simeonin-marianne-tixeuil-e-anne-francoise-boutte
LOCATION:Maison des Consuls\, Sent Junian – Saint-Junien (87)
CATEGORIES:Monde Occitan
END:VEVENT
BEGIN:VEVENT
DTSTART;TZID=Europe/Paris:20171208T200000
DTEND;TZID=Europe/Paris:20171208T200000
DTSTAMP:20260425T201718
CREATED:20171018T161827Z
LAST-MODIFIED:20171018T161827Z
UID:4306-1512763200-1512763200@ieo-lemosin.org
SUMMARY:Sernada d'anniversari daus 30 ans dau despartament de musica tradicionala dau CRR
DESCRIPTION:En 1987\, le Conservatoire de Limoges est le premier du genre à accueillir en son sein un département entièrement consacré à l’enseignement et à la pratique des musiques et danses traditionnelles. De façon inédite en France\, une institution culturelle de cette ampleur ouvrait alors grand ses portes aux pratiques populaires issues de traditions localement ancrées. \nLe 30e anniversaire du département de musique et danse traditionnelles du Conservatoire à rayonnement régional de Limoges sera célébré vendredi 8 décembre 2017 lors d’une soirée organisée au Centre culturel Jean-Gagnant. \nEn attendant\, découvrez le très bel article réalisé à cette occasion sur Géoculture par Lucas Destrem. \n \n> Entrée gratuite. \nPer ne’n saubre mai – Renseignements\nmustradilim -at- free.fr (Remplacer -at- par @) \n
URL:http://ieo-lemosin.org/evenement/sernada-danniversari-daus-30-ans-dau-despartament-de-musica-tradicionala-dau-crr
LOCATION:Centre Culturau Jean Gagnant\, Limòtges – Limoges (87)
CATEGORIES:Monde Occitan
END:VEVENT
BEGIN:VEVENT
DTSTART;TZID=Europe/Paris:20171208T203000
DTEND;TZID=Europe/Paris:20171208T203000
DTSTAMP:20260425T201718
CREATED:20170113T150725Z
LAST-MODIFIED:20170522T091437Z
UID:3391-1512765000-1512765000@ieo-lemosin.org
SUMMARY:Chants de Noël et contes avec Gilbert Bourgeois
DESCRIPTION:> Participation aux frais : “Au chapeau”. \nPer ne’n saubre mai – Renseignements\nUnion Occitana « Camille Chabaneau » – 05 53 56 61 89 – union.occitana@yahoo.fr \n
URL:http://ieo-lemosin.org/evenement/chants-de-noel-et-contes-avec-gilbert-bourgeois
LOCATION:Sala dau Tribunau – Salle du Tribunal\, Nontron (24)
CATEGORIES:Monde Occitan
END:VEVENT
END:VCALENDAR