BEGIN:VCALENDAR
VERSION:2.0
PRODID:-//IEO Lemosin - ECPv4.9.9//NONSGML v1.0//EN
CALSCALE:GREGORIAN
METHOD:PUBLISH
X-WR-CALNAME:IEO Lemosin
X-ORIGINAL-URL:http://ieo-lemosin.org
X-WR-CALDESC:Events for IEO Lemosin
BEGIN:VTIMEZONE
TZID:Europe/Paris
BEGIN:DAYLIGHT
TZOFFSETFROM:+0100
TZOFFSETTO:+0200
TZNAME:CEST
DTSTART:20170326T010000
END:DAYLIGHT
BEGIN:STANDARD
TZOFFSETFROM:+0200
TZOFFSETTO:+0100
TZNAME:CET
DTSTART:20171029T010000
END:STANDARD
BEGIN:DAYLIGHT
TZOFFSETFROM:+0100
TZOFFSETTO:+0200
TZNAME:CEST
DTSTART:20180325T010000
END:DAYLIGHT
BEGIN:STANDARD
TZOFFSETFROM:+0200
TZOFFSETTO:+0100
TZNAME:CET
DTSTART:20181028T010000
END:STANDARD
END:VTIMEZONE
BEGIN:VEVENT
DTSTART;VALUE=DATE:20171221
DTEND;VALUE=DATE:20180611
DTSTAMP:20260425T163026
CREATED:20171217T134238Z
LAST-MODIFIED:20180303T124851Z
UID:4474-1513814400-1528675199@ieo-lemosin.org
SUMMARY:Mòstra / Exposition : « L'éloge de l'étrange : Roland Vincent\, Jean Pous\, Hélène Duclos »
DESCRIPTION:Étrangeté (syn.) : bizarrerie\, singularité\, excentricité\, caprice\, irrégularité\, originalité\, invraisemblance\, exotisme\, curiosité\, anomalie…\n L’étrangeté émane d’une altération de « l’univers connu »\, quotidien\, qui surprend l’esprit et les sens par un caractère inhabituel\, singulier\, extraordinaire. \n \nDédié aux créateurs Naïfs\, Bruts et Singuliers\, le Musée Cécile Sabourdy accueille des pratiques artistiques libres et inclassables allant du 19e s à nos jours.\n Les expositions s’y succèdent et une constante se fait jour : la présence de l’étrange. Tantôt intrigante\, tantôt inquiétante.\n Enveloppant les univers Hors-les-normes montrés à Vicq\, cette impression d’étrangeté offre peut-être un antidote aux codes imposés…\n Cette saison encore\, l’extra-ordinaire fait irruption au Musée et jette joyeusement le trouble sur notre perception de la réalité.\n Pour leur première rétrospective\, les sculptures sans pareil de l’autodidacte Roland Vincent rencontrent les galets gravés de Jean Pous\, figure de l’Art Brut originaire des Pyrénées.\n À leurs côtés\, se posent les insolites paysages en suspension de la peintre contemporaine Hélène Duclos. \nFaire parler la pierre : l’œuvre prophétique de Roland Vincent\nRoland Vincent est maçon\, tailleur de pierre.\n Creusois né en 1948\, il mène une existence discrète près de Guéret au village de Sardent\, entouré du granite qui partout affleure.\n Dès les années 90\, les pierres souvent massives qu’il a repérées et conservées au fil du temps\, se « mettent à parler » : il leur donne figure humaine et leur présence magnétique s’impose.\n Suivant une intuition visionnaire\, son outil souligne une bosse\, une faille\, une arrête naturelles du roc : une pommette\, un œil pénétrant\, une épaule apparaissent.\n Maître de ces formes nouvelles\, l’artisan est d’emblée devenu artiste.\n Plus tard\, Roland Vincent invente les Babòias* : des figures plus menues\, aux silhouettes alambiquées\, nées d’une poudre de roche modelée.\n Leur foule grimaçante\, désarticulée\, installe un défilé burlesque où se jouent simultanément une grande farce et toute la tragédie du monde. \n* Prononcées « babauye » \nJean Pous\, l’énigme créatrice\nJean Pous (1875 – 1973) vient à l’art une fois le grand âge arrivé.\n Fabriquant de bouchons fraîchement retraité\, à 87 ans il se met à sculpter et graver\, inlassablement\, des galets ramassés le long d’un fleuve voisin.\n L’activité créatrice abonde autour de lui (son fils\, sa petite-fille et son époux sont artistes) mais l’influence peu. Les formes qu’il donne à ses galets lui sont suggérées par les pierres elles-mêmes\, et par une nécessité intérieure. Visages de face ou de profil\, figures féminines ou masculines\, animaux et fleurs\, semblent puisés dans un fond universel de l’humanité\, renouvelant l’énigme d’une mémoire partagée. \nHélène Duclos\, l’étendue des possibles\nFormée à l’art textile par l’école Duperre à Paris\, Hélène Duclos peint\, dessine\, brode et grave les contours mouvant d’un monde nouveau.\n Dans des paysages alliant douceurs et monstruosités\, démons et merveilles\, les éléments de géographies multiples éclatent comme des bulles : nuages\, collines\, îles et oasis\, mers et montagnes sont le théâtre de scènes troublantes\, faites de surgissements et de disparitions.\n Des créatures\, minuscules et méticuleusement tracées\, évoluent selon des lois physiques étranges. Leurs interactions nous parlent d’un monde parallèle\, d’un autre monde possible. \nImmémoriales et carnavalesques : les créatures\nÊtres indéfinissables à l’humanité incertaine\, les « Créatures » sont par excellence des objets d’étrangeté.\n Leurs corps hybrides\, triturés ou chimériques\, mi-homme mi-animal\, esquissent des images à la lisière du merveilleux et du monstrueux.\n Leur figure\, familière\, nous renvoie tant à un passé lointain – primitif voire mythique – qu’à notre imaginaire contemporain.\n Issues des mythes\, des rites et des fêtes\, les Créatures réunies sous le signe de l’Étrange sont le fil conducteur de cette exposition. \nPer ne’n saubre mai – Renseignements\nMusée & Jardins Cécile Sabourdy (Rue Chavaud – 87260 Vicq-sur-Breuilh) – 05 55 00 67 73 – contact@museejardins-sabourdy.fr \n  \n
URL:http://ieo-lemosin.org/evenement/leloge-de-letrange-roland-vincent-jean-pous-helene-duclos
LOCATION:Musée et jardins Cécile Sabourdy\, Vic – Vicq-sur-Breuilh (87)
CATEGORIES:Monde Occitan
END:VEVENT
BEGIN:VEVENT
DTSTART;TZID=Europe/Paris:20180308T183000
DTEND;TZID=Europe/Paris:20180308T183000
DTSTAMP:20260425T163026
CREATED:20171125T001813Z
LAST-MODIFIED:20180221T113127Z
UID:4410-1520533800-1520533800@ieo-lemosin.org
SUMMARY:Conferéncia « L'accordéon diatonique en Europe » - Jean-Jacques Le Creurer
DESCRIPTION:L’accordéon diatonique\, qui s’est répandu dans le monde entier à la fin du XIXème siècle\, est ensuite demeuré dans l’ombre de son « grand frère » l’accordéon chromatique. La redécouverte des musiques traditionnelles dans les années 70 l’a sorti de cet oubli et les recherches\, du Portugal à la Norvège\, de l’Irlande à la Sardaigne\, du Pays Basque à l’Ukraine\, ont montré une variété et une vivacité insoupçonnée. Jean- \nJacques Le Creurer\, professeur de musique traditionnelle au Conservatoire Émile-Goué\, nous fera voyager dans la diversité des histoires et des pratiques de cet instrument qui a su s’adapter aux particularités des musiques de chaque pays\, de chaque région\, au point d’en devenir souvent le vecteur et l’emblème. \nCette conférence s’inscrit dans le cadre du cycle : \nCONNAÎTRE ET COMPRENDRE LES MUSIQUES TRADITIONNELLES DU MONDE \nCes conférences sont ouvertes à tous : aux élèves de musique traditionnelle\, à l’ensemble des élèves du Conservatoire\, ainsi qu’au public extérieur intéressé. Orientées vers une approche vivante et synthétique\, elles sont conçues pour un public de musiciens avertis autant que de béotiens curieux de découvrir ces musiques. \nElles sont basées sur l’écoute commentée de musiques de différentes cultures à différentes époques. Des éléments de contexte seront resitués pour comprendre ces cultures et leur évolution\, et pour en apprécier la richesse. \nChaque conférence peut être suivie indépendamment. Entrée libre. \n> Entrée libre. \nPer ne’n saubre mai / Renseignements\nConservatoire Émile-Goué (1 bis\, avenue René Cassin – 23000 GUÉRET) – 05 44 30 26 90 \n
URL:http://ieo-lemosin.org/evenement/conferencia-laccordeon-diatonique-en-europe-jean-jacques-le-creurer-1
LOCATION:Biblioteca Multimedia dau Grand Gueret\, avenue Fayolle\, Gueret – Guéret (23)
CATEGORIES:Monde Occitan
END:VEVENT
BEGIN:VEVENT
DTSTART;TZID=Europe/Paris:20180308T210000
DTEND;TZID=Europe/Paris:20180308T210000
DTSTAMP:20260425T163026
CREATED:20160921T154551Z
LAST-MODIFIED:20180303T120623Z
UID:4657-1520542800-1520542800@ieo-lemosin.org
SUMMARY:Artús (tribal rock) + Hibù (rock electropico) en concert
DESCRIPTION:Rappelez vous ce jour de petits ventres de 2016 où ils étaient venus vous surprendre dans la grotte du Doggo\, en compagnie des copains d’Akan Khelen… Hey Beh v’la t’y pas qu’ils reviennent ! \nNos gascons radicaux préférés sont de retour pour vous en mettre plein les mirettes et les esgourdes\, té !\n Avec en ouverture l’electro-rock tropical métissé de Hibù\, qui nous viennent des contrées sauvages du plateau de Millevaches. \nARTUS\n (tribal rock – Pau)\n \nPairbon (Roman Colautti) : guitare baryton\n Roman Baudoin : vielle à roue\n Matèu Baudoin : chant\, violon\, tambourin\n Tomàs Baudoin : chant\, boha\, Dark Energy\n Shape2 (Nicolas Godin) : électronique\, percussions\n Alexis Toussaint : batterie \nLa musique d’Artús est riche\, puissante\, libertaire et se fout des étiquettes\, des frontières et des genres. Les airs et les instruments traditionnels (vielle à roue\, tambour à cordes\, violon) sont confrontés aux sons modernes\, produisant un rock décomplexé et expressif\, aux racines profondes\, et en perpétuelle recherche. \n« L’expression d’une culture minorisée ne peut être modérée.\n Artús génère une musique radicale\, enracinée\, tribale et ethnique.\n Véritable fruit d’un laboratoire d’expérimentation\, elle est une sorte d’application musicale de la recherche d’identité\, la résultante entre la rencontre de musiques d’essence patrimoniale gasconne et des musiques actuelles (rock indé\, rock in opposition\, électroacoustique).\n Cette façon de faire dépasse l’aspect musical\, c’est une façon d’être.\n Que jogam çò qu’èm\, nous jouons ce que nous sommes. » \nhttps://www.youtube.com/watch?v=RyEwY9vzb6U\n http://pagansmusica.net/album/ors\n https://www.facebook.com/Artus.rock/ \nHIBÙ\n (rock electropico – plateau)\nL’orage s’installe et la nuit tombe\, le Hibù se pointe\, les samplers D47 clignotent\, la Tr 909 vacille\, la batterie tribal et les distos grondent. Le chant incantatoire nous emporte sur le plateau tropical\, el ruido del Hibù ! \nLa tempestad se asienta y cae la noche\, el Hibù sube\, los muestreadores D47 parpadean\, el Tr 909 vacila\, la batería tribal y las distos crecen. La canción incantatoria nos lleva a la meseta tropical\, el ruido del Hibù ! \nhttps://soundcloud.com/hibu-prod \n> Tarif : 6 € \nPer ne’n saubre mai\nEspace El Doggo (22\, rue de la loi 87000 Limoges) – 09 83 66 55 99 – http://www.espace-eldoggo.com/ \n \n
URL:http://ieo-lemosin.org/evenement/artus-en-concert-3
LOCATION:Espace El Doggo\, 22\, rue de la Loi\, Limòtges – Limoges (87)
CATEGORIES:Monde Occitan
END:VEVENT
END:VCALENDAR