BEGIN:VCALENDAR
VERSION:2.0
PRODID:-//IEO Lemosin - ECPv4.9.9//NONSGML v1.0//EN
CALSCALE:GREGORIAN
METHOD:PUBLISH
X-WR-CALNAME:IEO Lemosin
X-ORIGINAL-URL:http://ieo-lemosin.org
X-WR-CALDESC:Events for IEO Lemosin
BEGIN:VTIMEZONE
TZID:Europe/Paris
BEGIN:DAYLIGHT
TZOFFSETFROM:+0100
TZOFFSETTO:+0200
TZNAME:CEST
DTSTART:20170326T010000
END:DAYLIGHT
BEGIN:STANDARD
TZOFFSETFROM:+0200
TZOFFSETTO:+0100
TZNAME:CET
DTSTART:20171029T010000
END:STANDARD
BEGIN:DAYLIGHT
TZOFFSETFROM:+0100
TZOFFSETTO:+0200
TZNAME:CEST
DTSTART:20180325T010000
END:DAYLIGHT
BEGIN:STANDARD
TZOFFSETFROM:+0200
TZOFFSETTO:+0100
TZNAME:CET
DTSTART:20181028T010000
END:STANDARD
END:VTIMEZONE
BEGIN:VEVENT
DTSTART;VALUE=DATE:20171221
DTEND;VALUE=DATE:20180611
DTSTAMP:20260425T163033
CREATED:20171217T134238Z
LAST-MODIFIED:20180303T124851Z
UID:4474-1513814400-1528675199@ieo-lemosin.org
SUMMARY:Mòstra / Exposition : « L'éloge de l'étrange : Roland Vincent\, Jean Pous\, Hélène Duclos »
DESCRIPTION:Étrangeté (syn.) : bizarrerie\, singularité\, excentricité\, caprice\, irrégularité\, originalité\, invraisemblance\, exotisme\, curiosité\, anomalie…\n L’étrangeté émane d’une altération de « l’univers connu »\, quotidien\, qui surprend l’esprit et les sens par un caractère inhabituel\, singulier\, extraordinaire. \n \nDédié aux créateurs Naïfs\, Bruts et Singuliers\, le Musée Cécile Sabourdy accueille des pratiques artistiques libres et inclassables allant du 19e s à nos jours.\n Les expositions s’y succèdent et une constante se fait jour : la présence de l’étrange. Tantôt intrigante\, tantôt inquiétante.\n Enveloppant les univers Hors-les-normes montrés à Vicq\, cette impression d’étrangeté offre peut-être un antidote aux codes imposés…\n Cette saison encore\, l’extra-ordinaire fait irruption au Musée et jette joyeusement le trouble sur notre perception de la réalité.\n Pour leur première rétrospective\, les sculptures sans pareil de l’autodidacte Roland Vincent rencontrent les galets gravés de Jean Pous\, figure de l’Art Brut originaire des Pyrénées.\n À leurs côtés\, se posent les insolites paysages en suspension de la peintre contemporaine Hélène Duclos. \nFaire parler la pierre : l’œuvre prophétique de Roland Vincent\nRoland Vincent est maçon\, tailleur de pierre.\n Creusois né en 1948\, il mène une existence discrète près de Guéret au village de Sardent\, entouré du granite qui partout affleure.\n Dès les années 90\, les pierres souvent massives qu’il a repérées et conservées au fil du temps\, se « mettent à parler » : il leur donne figure humaine et leur présence magnétique s’impose.\n Suivant une intuition visionnaire\, son outil souligne une bosse\, une faille\, une arrête naturelles du roc : une pommette\, un œil pénétrant\, une épaule apparaissent.\n Maître de ces formes nouvelles\, l’artisan est d’emblée devenu artiste.\n Plus tard\, Roland Vincent invente les Babòias* : des figures plus menues\, aux silhouettes alambiquées\, nées d’une poudre de roche modelée.\n Leur foule grimaçante\, désarticulée\, installe un défilé burlesque où se jouent simultanément une grande farce et toute la tragédie du monde. \n* Prononcées « babauye » \nJean Pous\, l’énigme créatrice\nJean Pous (1875 – 1973) vient à l’art une fois le grand âge arrivé.\n Fabriquant de bouchons fraîchement retraité\, à 87 ans il se met à sculpter et graver\, inlassablement\, des galets ramassés le long d’un fleuve voisin.\n L’activité créatrice abonde autour de lui (son fils\, sa petite-fille et son époux sont artistes) mais l’influence peu. Les formes qu’il donne à ses galets lui sont suggérées par les pierres elles-mêmes\, et par une nécessité intérieure. Visages de face ou de profil\, figures féminines ou masculines\, animaux et fleurs\, semblent puisés dans un fond universel de l’humanité\, renouvelant l’énigme d’une mémoire partagée. \nHélène Duclos\, l’étendue des possibles\nFormée à l’art textile par l’école Duperre à Paris\, Hélène Duclos peint\, dessine\, brode et grave les contours mouvant d’un monde nouveau.\n Dans des paysages alliant douceurs et monstruosités\, démons et merveilles\, les éléments de géographies multiples éclatent comme des bulles : nuages\, collines\, îles et oasis\, mers et montagnes sont le théâtre de scènes troublantes\, faites de surgissements et de disparitions.\n Des créatures\, minuscules et méticuleusement tracées\, évoluent selon des lois physiques étranges. Leurs interactions nous parlent d’un monde parallèle\, d’un autre monde possible. \nImmémoriales et carnavalesques : les créatures\nÊtres indéfinissables à l’humanité incertaine\, les « Créatures » sont par excellence des objets d’étrangeté.\n Leurs corps hybrides\, triturés ou chimériques\, mi-homme mi-animal\, esquissent des images à la lisière du merveilleux et du monstrueux.\n Leur figure\, familière\, nous renvoie tant à un passé lointain – primitif voire mythique – qu’à notre imaginaire contemporain.\n Issues des mythes\, des rites et des fêtes\, les Créatures réunies sous le signe de l’Étrange sont le fil conducteur de cette exposition. \nPer ne’n saubre mai – Renseignements\nMusée & Jardins Cécile Sabourdy (Rue Chavaud – 87260 Vicq-sur-Breuilh) – 05 55 00 67 73 – contact@museejardins-sabourdy.fr \n  \n
URL:http://ieo-lemosin.org/evenement/leloge-de-letrange-roland-vincent-jean-pous-helene-duclos
LOCATION:Musée et jardins Cécile Sabourdy\, Vic – Vicq-sur-Breuilh (87)
CATEGORIES:Monde Occitan
END:VEVENT
BEGIN:VEVENT
DTSTART;VALUE=DATE:20180309
DTEND;VALUE=DATE:20180311
DTSTAMP:20260425T163033
CREATED:20180129T072840Z
LAST-MODIFIED:20180129T072956Z
UID:4590-1520553600-1520726399@ieo-lemosin.org
SUMMARY:13e Festival Les Bredins
DESCRIPTION:Au programme : \nVendredi 9 mars\n\nDe 20h30 à 22h30\, caféteria de la salle Bernardie : Veillée chantée\n\nDans une ambiance chaleureuse\, chacun peut chanter\, seul ou en groupe\, écouter ou danser… Arnaud Bibonne animera cette soirée autour d’un répertoire gascon. \n> Pas de réservation. \nSamedi 10 mars\n\n13h45 : Accueil des stagiaires.\n14h à 18h : Stages sur réservation :\n\nDanses du Poitou avec Patrick Graval\, salle de la Bernardie\nVielle avec Benoît Roblin\, salle polyvalente à côté de la mairie\nChant avec Arnaud Bibonne\, salle des jeunes à côté de la mairie\n\n\n15h30\, salle Vienne derrière l’église : Concert chocolat avec le Duo de la colline.\n\nIl s’adresse aux enfants jusqu’à 12 ans (Chocolat offert à chaque enfant). Un tour de France à travers ses chansons (à reprendre)\, ses musiques (à écouter)\, ses instruments (parfois étranges)\, concert durant lequel les enfants seront amenés à participer. \n\n18h30 : Apéritif offert par Et la moitié à l’occasion des 20 ans du Plancher tremble.\n\nEn 2005\, le Plancher tremble jouait bénévolement à Saint-Victurnien pour un premier concert de musique traditionnelle organisé par l’association. Ce fut le premier groupe à intervenir pour nous aider à développer et mettre en place plusieurs animations au sein de notre association. Le groupe a souvent participé bénévolement\, pour nous soutenir et pour le plaisir de la musique et nous les remercions. Nous tenions à fêter leur anniversaire à l’occasion de notre festival. \n\nRepas sorti du panier : unique formule\, pas de restauration sur place\nGâteau d’anniversaire offert par le Plancher tremble\n20h30-1h30 : Bal avec Le Plancher tremble\, Brabant\, Automne et Son de Bouc\n\n> Tarifs :  \n\nVeillée chantée du 9 mars 5 €\nConcert chocolat pour enfant 5 €\nStage de danse\, vielle et chant 10 €\nEntrée bal à partir de 20h30 10 €\nTarif préférentiel pour la soirée pour toute entrée validée avant 20h30 : apéritif offert entre 18h30 et 19h et entrée bal pour 8 €\n\n→ Télécharger le bulletin d’inscription pour les stages \nPer ne’n saubre mai – Renseignements\nAssociation « Et la moitié ! » – 05 44 23 98 34 / 06 86 12 96 90 \n
URL:http://ieo-lemosin.org/evenement/13e-festival-les-bredins
LOCATION:Salle de la Bernardie\, Sent Vertunian – Saint Victurnien (87)
CATEGORIES:Monde Occitan
END:VEVENT
BEGIN:VEVENT
DTSTART;TZID=Europe/Paris:20180310T160000
DTEND;TZID=Europe/Paris:20180310T160000
DTSTAMP:20260425T163033
CREATED:20180110T204400Z
LAST-MODIFIED:20180110T204651Z
UID:4516-1520697600-1520697600@ieo-lemosin.org
SUMMARY:Eslingada sus Marcela Delpastre – Jan dau Melhau
DESCRIPTION:Jan dau Melhau parlera de Marcelle Delpastre et de son œuvre\, émaillant sa causerie de nombreuses citations. \n« Il y a vingt ans\, le six février 1998\, mourait Marcelle Delpastre.\n Depuis\, nous l’avons éditée\, lue à tant et tant de voix\, ici ou là\, fait ce que nous pouvions pour la faire connaître\, reconnaître pour ce qu’elle est\, une des voix majeures de la littérature universelle de tous les temps.\n Au long de cet an 2018 un certain nombre de manifestations lui seront consacrées. » (Jan dau Melhau) \n> Entrée libre. \nPer ne’n saubre mai – Renseignements\nMusée & Jardins Cécile Sabourdy (Rue Chavaud – 87260 Vicq-sur-Breuilh) – 05 55 00 67 73 – contact@museejardins-sabourdy.fr \n
URL:http://ieo-lemosin.org/evenement/eslingada-sus-marcela-delpastre-jan-dau-melhau-2
LOCATION:Musée et jardins Cécile Sabourdy\, Vic – Vicq-sur-Breuilh (87)
CATEGORIES:Monde Occitan
END:VEVENT
END:VCALENDAR