BEGIN:VCALENDAR
VERSION:2.0
PRODID:-//IEO Lemosin - ECPv4.9.9//NONSGML v1.0//EN
CALSCALE:GREGORIAN
METHOD:PUBLISH
X-WR-CALNAME:IEO Lemosin
X-ORIGINAL-URL:http://ieo-lemosin.org
X-WR-CALDESC:Events for IEO Lemosin
BEGIN:VTIMEZONE
TZID:Europe/Paris
BEGIN:DAYLIGHT
TZOFFSETFROM:+0100
TZOFFSETTO:+0200
TZNAME:CEST
DTSTART:20170326T010000
END:DAYLIGHT
BEGIN:STANDARD
TZOFFSETFROM:+0200
TZOFFSETTO:+0100
TZNAME:CET
DTSTART:20171029T010000
END:STANDARD
BEGIN:DAYLIGHT
TZOFFSETFROM:+0100
TZOFFSETTO:+0200
TZNAME:CEST
DTSTART:20180325T010000
END:DAYLIGHT
BEGIN:STANDARD
TZOFFSETFROM:+0200
TZOFFSETTO:+0100
TZNAME:CET
DTSTART:20181028T010000
END:STANDARD
END:VTIMEZONE
BEGIN:VEVENT
DTSTART;VALUE=DATE:20171221
DTEND;VALUE=DATE:20180611
DTSTAMP:20260425T151727
CREATED:20171217T134238Z
LAST-MODIFIED:20180303T124851Z
UID:4474-1513814400-1528675199@ieo-lemosin.org
SUMMARY:Mòstra / Exposition : « L'éloge de l'étrange : Roland Vincent\, Jean Pous\, Hélène Duclos »
DESCRIPTION:Étrangeté (syn.) : bizarrerie\, singularité\, excentricité\, caprice\, irrégularité\, originalité\, invraisemblance\, exotisme\, curiosité\, anomalie…\n L’étrangeté émane d’une altération de « l’univers connu »\, quotidien\, qui surprend l’esprit et les sens par un caractère inhabituel\, singulier\, extraordinaire. \n \nDédié aux créateurs Naïfs\, Bruts et Singuliers\, le Musée Cécile Sabourdy accueille des pratiques artistiques libres et inclassables allant du 19e s à nos jours.\n Les expositions s’y succèdent et une constante se fait jour : la présence de l’étrange. Tantôt intrigante\, tantôt inquiétante.\n Enveloppant les univers Hors-les-normes montrés à Vicq\, cette impression d’étrangeté offre peut-être un antidote aux codes imposés…\n Cette saison encore\, l’extra-ordinaire fait irruption au Musée et jette joyeusement le trouble sur notre perception de la réalité.\n Pour leur première rétrospective\, les sculptures sans pareil de l’autodidacte Roland Vincent rencontrent les galets gravés de Jean Pous\, figure de l’Art Brut originaire des Pyrénées.\n À leurs côtés\, se posent les insolites paysages en suspension de la peintre contemporaine Hélène Duclos. \nFaire parler la pierre : l’œuvre prophétique de Roland Vincent\nRoland Vincent est maçon\, tailleur de pierre.\n Creusois né en 1948\, il mène une existence discrète près de Guéret au village de Sardent\, entouré du granite qui partout affleure.\n Dès les années 90\, les pierres souvent massives qu’il a repérées et conservées au fil du temps\, se « mettent à parler » : il leur donne figure humaine et leur présence magnétique s’impose.\n Suivant une intuition visionnaire\, son outil souligne une bosse\, une faille\, une arrête naturelles du roc : une pommette\, un œil pénétrant\, une épaule apparaissent.\n Maître de ces formes nouvelles\, l’artisan est d’emblée devenu artiste.\n Plus tard\, Roland Vincent invente les Babòias* : des figures plus menues\, aux silhouettes alambiquées\, nées d’une poudre de roche modelée.\n Leur foule grimaçante\, désarticulée\, installe un défilé burlesque où se jouent simultanément une grande farce et toute la tragédie du monde. \n* Prononcées « babauye » \nJean Pous\, l’énigme créatrice\nJean Pous (1875 – 1973) vient à l’art une fois le grand âge arrivé.\n Fabriquant de bouchons fraîchement retraité\, à 87 ans il se met à sculpter et graver\, inlassablement\, des galets ramassés le long d’un fleuve voisin.\n L’activité créatrice abonde autour de lui (son fils\, sa petite-fille et son époux sont artistes) mais l’influence peu. Les formes qu’il donne à ses galets lui sont suggérées par les pierres elles-mêmes\, et par une nécessité intérieure. Visages de face ou de profil\, figures féminines ou masculines\, animaux et fleurs\, semblent puisés dans un fond universel de l’humanité\, renouvelant l’énigme d’une mémoire partagée. \nHélène Duclos\, l’étendue des possibles\nFormée à l’art textile par l’école Duperre à Paris\, Hélène Duclos peint\, dessine\, brode et grave les contours mouvant d’un monde nouveau.\n Dans des paysages alliant douceurs et monstruosités\, démons et merveilles\, les éléments de géographies multiples éclatent comme des bulles : nuages\, collines\, îles et oasis\, mers et montagnes sont le théâtre de scènes troublantes\, faites de surgissements et de disparitions.\n Des créatures\, minuscules et méticuleusement tracées\, évoluent selon des lois physiques étranges. Leurs interactions nous parlent d’un monde parallèle\, d’un autre monde possible. \nImmémoriales et carnavalesques : les créatures\nÊtres indéfinissables à l’humanité incertaine\, les « Créatures » sont par excellence des objets d’étrangeté.\n Leurs corps hybrides\, triturés ou chimériques\, mi-homme mi-animal\, esquissent des images à la lisière du merveilleux et du monstrueux.\n Leur figure\, familière\, nous renvoie tant à un passé lointain – primitif voire mythique – qu’à notre imaginaire contemporain.\n Issues des mythes\, des rites et des fêtes\, les Créatures réunies sous le signe de l’Étrange sont le fil conducteur de cette exposition. \nPer ne’n saubre mai – Renseignements\nMusée & Jardins Cécile Sabourdy (Rue Chavaud – 87260 Vicq-sur-Breuilh) – 05 55 00 67 73 – contact@museejardins-sabourdy.fr \n  \n
URL:http://ieo-lemosin.org/evenement/leloge-de-letrange-roland-vincent-jean-pous-helene-duclos
LOCATION:Musée et jardins Cécile Sabourdy\, Vic – Vicq-sur-Breuilh (87)
CATEGORIES:Monde Occitan
END:VEVENT
BEGIN:VEVENT
DTSTART;VALUE=DATE:20180407
DTEND;VALUE=DATE:20180409
DTSTAMP:20260425T151727
CREATED:20171217T150637Z
LAST-MODIFIED:20171217T150751Z
UID:4492-1523059200-1523231999@ieo-lemosin.org
SUMMARY:Rencontres de chabretaires
DESCRIPTION:→ Programme à venir sur http://chabrette.wixsite.com/-chabretaires \nPer ne’n saubre mai – Renseignements\nphilippe.randonneix -at- unilim.fr (Remplacer -at- par @) \n
URL:http://ieo-lemosin.org/evenement/rencontres-de-chabretaires
LOCATION:Chasteu de Ligora – Château de Ligoure\, Lo Vijan – Le Vigen (87)
CATEGORIES:Monde Occitan
END:VEVENT
BEGIN:VEVENT
DTSTART;TZID=Europe/Paris:20180407T140000
DTEND;TZID=Europe/Paris:20180407T194500
DTSTAMP:20260425T151727
CREATED:20170629T175604Z
LAST-MODIFIED:20180110T203321Z
UID:4061-1523109600-1523130300@ieo-lemosin.org
SUMMARY:Jan dau Melhau legís Marcela Delpastre [Musica Bernat Combi]
DESCRIPTION:« Il y a vingt ans\, le six février 1998\, mourait Marcelle Delpastre.\nDepuis\, nous l’avons éditée\, lue à tant et tant de voix\, ici ou là\, fait ce que nous pouvions pour la faire connaître\, reconnaître pour ce qu’elle est\, une des voix majeures de la littérature universelle de tous les temps.\nAu long de cet an 2018 un certain nombre de manifestations lui seront consacrées. »  (Jan dau Melhau) \nÀ l’occasion du vingtième anniversaire d’une naissance cette fois-ci\, celle de ladite Bfm\, Jan dau Melhau lira seul Marcelle Delpastre tout au long de l’après-midi par six séquences de 45 minutes aérées d’intermèdes musicaux assurés par son ami Bernard Comby. \nVoici le programme très précis de ces six heures : \n\n14h-14h45 : Une nouvelle\, une chronique du Courrier\, une du Populaire\, deux proses pour l’après-midi. En français.\n15h-15h45 : Extraits du Bestiari lemosin et du Libre de l’erba e daus aubres\, en occitan\, du Tombeau des Ancêtres\, en français.\n16h-16h45 : Lo Cocotin de l’argfuelh – La petite baie du houx\, un de ses quatre longs poèmes passant d’une langue à l’autre. Òc/oïl.\n17h-17h45 : Saumes – Psaumes\, alternant d’une langue à l’autre\, pris dans les huit volumes consacrés à ce genre littéraire.\n18h-18h45 : Extraits des mémoires. 10 minutes au début en occitan tirées du 1er volume\, le reste en français tiré des six autres volumes.\n19h-19h45 : Deux longs poèmes en français : La mort maintenant\, Requiem pour une pendu.\n\n> Entrée libre. \nPer ne’n saubre mai – Renseignements\nBfm (2\, place Aimé-Césaire – 87000 Limoges) – 05 55 45 96 00 – http://www.bm-limoges.fr/ \n
URL:http://ieo-lemosin.org/evenement/jan-dau-melhau-legis-marcela-delpastre
LOCATION:Auditorium Clancier\, Biblioteca francofòna multimedia – Bfm\, Limòtges – Limoges (87)
CATEGORIES:Monde Occitan
END:VEVENT
BEGIN:VEVENT
DTSTART;TZID=Europe/Paris:20180407T143000
DTEND;TZID=Europe/Paris:20180407T143000
DTSTAMP:20260425T151727
CREATED:20161220T113030Z
LAST-MODIFIED:20170908T184107Z
UID:4206-1523111400-1523111400@ieo-lemosin.org
SUMMARY:Rencontrada\, le petit festival des voix\, des oreilles et des pieds
DESCRIPTION:\n14h30-17h30 : Stage de chant et de danse avec le Duo Corbefin-Marsac\n18h00-19h30 : Concerts avec le Duo Corbefin-Marsac\, Roule et ferme derrière et Chant’Oc Greu\n19h30 : Repas traiteur\n21h00 : Concert Benoît Ribière et Francis Gonzalez – Musique afro-américaine\n21h30-1h00 : Bal à la voix Corbefin-Marsac / Bal folk : Roule et ferme derrière\n\nPer ne’n saubre mai e se marcar – Renseignements et réservations\nLa Sendarela lemosina – 05 55 03 56 56 \n
URL:http://ieo-lemosin.org/evenement/rencontrada-le-petit-festival-des-voix-des-oreilles-et-des-pieds-2
LOCATION:Sala de las festas – Salle des fêtes\, Sent Auvenç – Saint-Auvent (87)
CATEGORIES:Monde Occitan
END:VEVENT
END:VCALENDAR