BEGIN:VCALENDAR
VERSION:2.0
PRODID:-//IEO Lemosin - ECPv4.9.9//NONSGML v1.0//EN
CALSCALE:GREGORIAN
METHOD:PUBLISH
X-WR-CALNAME:IEO Lemosin
X-ORIGINAL-URL:http://ieo-lemosin.org
X-WR-CALDESC:Events for IEO Lemosin
BEGIN:VTIMEZONE
TZID:Europe/Paris
BEGIN:DAYLIGHT
TZOFFSETFROM:+0100
TZOFFSETTO:+0200
TZNAME:CEST
DTSTART:20170326T010000
END:DAYLIGHT
BEGIN:STANDARD
TZOFFSETFROM:+0200
TZOFFSETTO:+0100
TZNAME:CET
DTSTART:20171029T010000
END:STANDARD
BEGIN:DAYLIGHT
TZOFFSETFROM:+0100
TZOFFSETTO:+0200
TZNAME:CEST
DTSTART:20180325T010000
END:DAYLIGHT
BEGIN:STANDARD
TZOFFSETFROM:+0200
TZOFFSETTO:+0100
TZNAME:CET
DTSTART:20181028T010000
END:STANDARD
END:VTIMEZONE
BEGIN:VEVENT
DTSTART;VALUE=DATE:20171221
DTEND;VALUE=DATE:20180611
DTSTAMP:20260425T151717
CREATED:20171217T134238Z
LAST-MODIFIED:20180303T124851Z
UID:4474-1513814400-1528675199@ieo-lemosin.org
SUMMARY:Mòstra / Exposition : « L'éloge de l'étrange : Roland Vincent\, Jean Pous\, Hélène Duclos »
DESCRIPTION:Étrangeté (syn.) : bizarrerie\, singularité\, excentricité\, caprice\, irrégularité\, originalité\, invraisemblance\, exotisme\, curiosité\, anomalie…\n L’étrangeté émane d’une altération de « l’univers connu »\, quotidien\, qui surprend l’esprit et les sens par un caractère inhabituel\, singulier\, extraordinaire. \n \nDédié aux créateurs Naïfs\, Bruts et Singuliers\, le Musée Cécile Sabourdy accueille des pratiques artistiques libres et inclassables allant du 19e s à nos jours.\n Les expositions s’y succèdent et une constante se fait jour : la présence de l’étrange. Tantôt intrigante\, tantôt inquiétante.\n Enveloppant les univers Hors-les-normes montrés à Vicq\, cette impression d’étrangeté offre peut-être un antidote aux codes imposés…\n Cette saison encore\, l’extra-ordinaire fait irruption au Musée et jette joyeusement le trouble sur notre perception de la réalité.\n Pour leur première rétrospective\, les sculptures sans pareil de l’autodidacte Roland Vincent rencontrent les galets gravés de Jean Pous\, figure de l’Art Brut originaire des Pyrénées.\n À leurs côtés\, se posent les insolites paysages en suspension de la peintre contemporaine Hélène Duclos. \nFaire parler la pierre : l’œuvre prophétique de Roland Vincent\nRoland Vincent est maçon\, tailleur de pierre.\n Creusois né en 1948\, il mène une existence discrète près de Guéret au village de Sardent\, entouré du granite qui partout affleure.\n Dès les années 90\, les pierres souvent massives qu’il a repérées et conservées au fil du temps\, se « mettent à parler » : il leur donne figure humaine et leur présence magnétique s’impose.\n Suivant une intuition visionnaire\, son outil souligne une bosse\, une faille\, une arrête naturelles du roc : une pommette\, un œil pénétrant\, une épaule apparaissent.\n Maître de ces formes nouvelles\, l’artisan est d’emblée devenu artiste.\n Plus tard\, Roland Vincent invente les Babòias* : des figures plus menues\, aux silhouettes alambiquées\, nées d’une poudre de roche modelée.\n Leur foule grimaçante\, désarticulée\, installe un défilé burlesque où se jouent simultanément une grande farce et toute la tragédie du monde. \n* Prononcées « babauye » \nJean Pous\, l’énigme créatrice\nJean Pous (1875 – 1973) vient à l’art une fois le grand âge arrivé.\n Fabriquant de bouchons fraîchement retraité\, à 87 ans il se met à sculpter et graver\, inlassablement\, des galets ramassés le long d’un fleuve voisin.\n L’activité créatrice abonde autour de lui (son fils\, sa petite-fille et son époux sont artistes) mais l’influence peu. Les formes qu’il donne à ses galets lui sont suggérées par les pierres elles-mêmes\, et par une nécessité intérieure. Visages de face ou de profil\, figures féminines ou masculines\, animaux et fleurs\, semblent puisés dans un fond universel de l’humanité\, renouvelant l’énigme d’une mémoire partagée. \nHélène Duclos\, l’étendue des possibles\nFormée à l’art textile par l’école Duperre à Paris\, Hélène Duclos peint\, dessine\, brode et grave les contours mouvant d’un monde nouveau.\n Dans des paysages alliant douceurs et monstruosités\, démons et merveilles\, les éléments de géographies multiples éclatent comme des bulles : nuages\, collines\, îles et oasis\, mers et montagnes sont le théâtre de scènes troublantes\, faites de surgissements et de disparitions.\n Des créatures\, minuscules et méticuleusement tracées\, évoluent selon des lois physiques étranges. Leurs interactions nous parlent d’un monde parallèle\, d’un autre monde possible. \nImmémoriales et carnavalesques : les créatures\nÊtres indéfinissables à l’humanité incertaine\, les « Créatures » sont par excellence des objets d’étrangeté.\n Leurs corps hybrides\, triturés ou chimériques\, mi-homme mi-animal\, esquissent des images à la lisière du merveilleux et du monstrueux.\n Leur figure\, familière\, nous renvoie tant à un passé lointain – primitif voire mythique – qu’à notre imaginaire contemporain.\n Issues des mythes\, des rites et des fêtes\, les Créatures réunies sous le signe de l’Étrange sont le fil conducteur de cette exposition. \nPer ne’n saubre mai – Renseignements\nMusée & Jardins Cécile Sabourdy (Rue Chavaud – 87260 Vicq-sur-Breuilh) – 05 55 00 67 73 – contact@museejardins-sabourdy.fr \n  \n
URL:http://ieo-lemosin.org/evenement/leloge-de-letrange-roland-vincent-jean-pous-helene-duclos
LOCATION:Musée et jardins Cécile Sabourdy\, Vic – Vicq-sur-Breuilh (87)
CATEGORIES:Monde Occitan
END:VEVENT
BEGIN:VEVENT
DTSTART;VALUE=DATE:20180414
DTEND;VALUE=DATE:20180415
DTSTAMP:20260425T151717
CREATED:20171217T142934Z
LAST-MODIFIED:20180312T075808Z
UID:4483-1523664000-1523750399@ieo-lemosin.org
SUMMARY:L'Enchantada\, 10a Jornada dau Chant occitan
DESCRIPTION:\n10h30\, Halle de la Mairie : Accueil des groupes de chant.\n11h\, Rue principale : Chants à l’unisson animés par tous les groupes et Patrick Ratineaud.\n12h30\, Halle ou Parvis de la Mairie : Repas tiré du sac.\n13h30\, Halle de la Mairie : Passage des groupes de chant « Coultrecorchant » de Périgueux (Jaumelina Nicot)\, Atelier chant de Chalais (J.-C. Jarry)\, Atelier chant « Aquí l’Òc » de Saint Céré (Lot).\n15h\, EHPAD : Chants à l’unisson\n16h\, Château : « La Tireta duberta » (La boutique d’art sera ouverte ainsi que les salles d’exposition).\n17h\, Salle du Tribunal : L’A.S.C.O. de Sarlat (Daniel Chavaroche).\n18h30\, Salle des fêtes : Apéritif offert par l’Union Occitane Camille Chabaneau. Prestation de chaque atelier chant (2 chants chacun) et la chorale britannique de Piégut « Carillon » (Cary Middlemiss).\n19h30 : Présence de producteurs locaux pour le repas.\n\n\n21h : Concert du groupe vocal occitan des hautes vallées d’Italie « L’Escabòt ».\n22h30 : Bal avec « Moizbat »\, groove évolutif périgourdin.\n\n> Organisé par l’Union Occitana Camila Chabaneu.\n > Avec la participation de l’Agence Culturelle de la Dordogne\, du Parc Naturel Régional Périgord-Limousin\, du Département de la Dordogne\, de la ville de Nontron\, du Pôle d’Art et du domaine de Montagenet.\n > Entrée soirée : 6 € (gratuit pour les groupes de chant) \n\n15 avril à 15h\, Saint-Martial-de-Valette\, Domaine de Montagenet : Concert des groupes « Azulie » (ensemble vocal de Guéret sous la direction de Marion Delcourt) et « L’Escabòt »\n\n> Entrée : 6 €.\n > Pot de l’amitié offert par l’Union Occitane Camille Chabaneau. \nPer ne’n saubre mai – Renseignements\n05 53 56 61 89 \n© Marianne Tixeuil \n
URL:http://ieo-lemosin.org/evenement/lenchantada-10a-jornada-dau-chant-occitan
LOCATION:Nontron (24)
CATEGORIES:Monde Occitan
END:VEVENT
BEGIN:VEVENT
DTSTART;TZID=Europe/Paris:20180414T103000
DTEND;TZID=Europe/Paris:20180414T103000
DTSTAMP:20260425T151717
CREATED:20180124T222459Z
LAST-MODIFIED:20180124T223034Z
UID:4576-1523701800-1523701800@ieo-lemosin.org
SUMMARY:« Café Occitan »
DESCRIPTION:La Bibliothèque vous propose un moment de rencontre et d’échange autour de la langue\n et de la culture occitanes… \nRendez-vous à la bibliothèque de 10h30 à 12h00 : \n\nSamedi 27 janvier 2018\nSamedi 24 février 2018\nSamedi 31 mars 2018\nSamedi 14 avril 2018\nSamedi 12 mai 2018\nSamedi 23 juin 2018\n\nPer ne’n saubre mai e se marcar – Renseignements et inscriptions\nBibliothèque municipale Georges-Emmanuel Clancier (Place Denis Dussoubs – 87400 Saint-Léonard-de-Noblat) – 05 55 56 76 87 – bibliotheque.municipale@ville-saint-leonard.fr \n \n
URL:http://ieo-lemosin.org/evenement/cafe-occitan-5-3
LOCATION:Biblioteca – Bibliothèque Georges-Emmanuel Clancier\, Sent Liunard – Saint-Léonard-de-Noblat (87)
CATEGORIES:Monde Occitan
END:VEVENT
END:VCALENDAR