BEGIN:VCALENDAR
VERSION:2.0
PRODID:-//IEO Lemosin - ECPv4.9.9//NONSGML v1.0//EN
CALSCALE:GREGORIAN
METHOD:PUBLISH
X-WR-CALNAME:IEO Lemosin
X-ORIGINAL-URL:http://ieo-lemosin.org
X-WR-CALDESC:Events for IEO Lemosin
BEGIN:VTIMEZONE
TZID:Europe/Paris
BEGIN:DAYLIGHT
TZOFFSETFROM:+0100
TZOFFSETTO:+0200
TZNAME:CEST
DTSTART:20170326T010000
END:DAYLIGHT
BEGIN:STANDARD
TZOFFSETFROM:+0200
TZOFFSETTO:+0100
TZNAME:CET
DTSTART:20171029T010000
END:STANDARD
BEGIN:DAYLIGHT
TZOFFSETFROM:+0100
TZOFFSETTO:+0200
TZNAME:CEST
DTSTART:20180325T010000
END:DAYLIGHT
BEGIN:STANDARD
TZOFFSETFROM:+0200
TZOFFSETTO:+0100
TZNAME:CET
DTSTART:20181028T010000
END:STANDARD
END:VTIMEZONE
BEGIN:VEVENT
DTSTART;VALUE=DATE:20171221
DTEND;VALUE=DATE:20180611
DTSTAMP:20260425T134632
CREATED:20171217T134238Z
LAST-MODIFIED:20180303T124851Z
UID:4474-1513814400-1528675199@ieo-lemosin.org
SUMMARY:Mòstra / Exposition : « L'éloge de l'étrange : Roland Vincent\, Jean Pous\, Hélène Duclos »
DESCRIPTION:Étrangeté (syn.) : bizarrerie\, singularité\, excentricité\, caprice\, irrégularité\, originalité\, invraisemblance\, exotisme\, curiosité\, anomalie…\n L’étrangeté émane d’une altération de « l’univers connu »\, quotidien\, qui surprend l’esprit et les sens par un caractère inhabituel\, singulier\, extraordinaire. \n \nDédié aux créateurs Naïfs\, Bruts et Singuliers\, le Musée Cécile Sabourdy accueille des pratiques artistiques libres et inclassables allant du 19e s à nos jours.\n Les expositions s’y succèdent et une constante se fait jour : la présence de l’étrange. Tantôt intrigante\, tantôt inquiétante.\n Enveloppant les univers Hors-les-normes montrés à Vicq\, cette impression d’étrangeté offre peut-être un antidote aux codes imposés…\n Cette saison encore\, l’extra-ordinaire fait irruption au Musée et jette joyeusement le trouble sur notre perception de la réalité.\n Pour leur première rétrospective\, les sculptures sans pareil de l’autodidacte Roland Vincent rencontrent les galets gravés de Jean Pous\, figure de l’Art Brut originaire des Pyrénées.\n À leurs côtés\, se posent les insolites paysages en suspension de la peintre contemporaine Hélène Duclos. \nFaire parler la pierre : l’œuvre prophétique de Roland Vincent\nRoland Vincent est maçon\, tailleur de pierre.\n Creusois né en 1948\, il mène une existence discrète près de Guéret au village de Sardent\, entouré du granite qui partout affleure.\n Dès les années 90\, les pierres souvent massives qu’il a repérées et conservées au fil du temps\, se « mettent à parler » : il leur donne figure humaine et leur présence magnétique s’impose.\n Suivant une intuition visionnaire\, son outil souligne une bosse\, une faille\, une arrête naturelles du roc : une pommette\, un œil pénétrant\, une épaule apparaissent.\n Maître de ces formes nouvelles\, l’artisan est d’emblée devenu artiste.\n Plus tard\, Roland Vincent invente les Babòias* : des figures plus menues\, aux silhouettes alambiquées\, nées d’une poudre de roche modelée.\n Leur foule grimaçante\, désarticulée\, installe un défilé burlesque où se jouent simultanément une grande farce et toute la tragédie du monde. \n* Prononcées « babauye » \nJean Pous\, l’énigme créatrice\nJean Pous (1875 – 1973) vient à l’art une fois le grand âge arrivé.\n Fabriquant de bouchons fraîchement retraité\, à 87 ans il se met à sculpter et graver\, inlassablement\, des galets ramassés le long d’un fleuve voisin.\n L’activité créatrice abonde autour de lui (son fils\, sa petite-fille et son époux sont artistes) mais l’influence peu. Les formes qu’il donne à ses galets lui sont suggérées par les pierres elles-mêmes\, et par une nécessité intérieure. Visages de face ou de profil\, figures féminines ou masculines\, animaux et fleurs\, semblent puisés dans un fond universel de l’humanité\, renouvelant l’énigme d’une mémoire partagée. \nHélène Duclos\, l’étendue des possibles\nFormée à l’art textile par l’école Duperre à Paris\, Hélène Duclos peint\, dessine\, brode et grave les contours mouvant d’un monde nouveau.\n Dans des paysages alliant douceurs et monstruosités\, démons et merveilles\, les éléments de géographies multiples éclatent comme des bulles : nuages\, collines\, îles et oasis\, mers et montagnes sont le théâtre de scènes troublantes\, faites de surgissements et de disparitions.\n Des créatures\, minuscules et méticuleusement tracées\, évoluent selon des lois physiques étranges. Leurs interactions nous parlent d’un monde parallèle\, d’un autre monde possible. \nImmémoriales et carnavalesques : les créatures\nÊtres indéfinissables à l’humanité incertaine\, les « Créatures » sont par excellence des objets d’étrangeté.\n Leurs corps hybrides\, triturés ou chimériques\, mi-homme mi-animal\, esquissent des images à la lisière du merveilleux et du monstrueux.\n Leur figure\, familière\, nous renvoie tant à un passé lointain – primitif voire mythique – qu’à notre imaginaire contemporain.\n Issues des mythes\, des rites et des fêtes\, les Créatures réunies sous le signe de l’Étrange sont le fil conducteur de cette exposition. \nPer ne’n saubre mai – Renseignements\nMusée & Jardins Cécile Sabourdy (Rue Chavaud – 87260 Vicq-sur-Breuilh) – 05 55 00 67 73 – contact@museejardins-sabourdy.fr \n  \n
URL:http://ieo-lemosin.org/evenement/leloge-de-letrange-roland-vincent-jean-pous-helene-duclos
LOCATION:Musée et jardins Cécile Sabourdy\, Vic – Vicq-sur-Breuilh (87)
CATEGORIES:Monde Occitan
END:VEVENT
BEGIN:VEVENT
DTSTART;VALUE=DATE:20180418
DTEND;VALUE=DATE:20180531
DTSTAMP:20260425T134632
CREATED:20180416T184248Z
LAST-MODIFIED:20180416T185413Z
UID:4849-1524009600-1527724799@ieo-lemosin.org
SUMMARY:Mòstra de gravaduras « Jojò\, petit Lemosin / Jojo\, petit Limousin » – Marianne Tixeuil
DESCRIPTION: \nUne très belle exposition des linogravures du livre Jojò\, petit Lemosin / Jojo\, petit Limousin. \nJojò\, petit Lemosin regroupe 22 linogravures où Marianne Tixeuil a voulu mettre en image les souvenirs d’enfance de son mari Georges – Jojo – dans les années 60. Des petits textes poétiques en français se mélangent aux illustrations. Jan dau Melhau en a fait une version occitane que l’on trouve à côté des gravures. \nMarianne Tixeuil vit en Limousin et se passionne pour la gravure depuis bientôt 30 ans. Elle y illustre sa façon de voir le monde et chacun se débrouille pour comprendre à sa guise ! Des histoires de traits\, de points\, de noir ou de gris\, de couleurs et de volume\, de lumière ou de nuit. \n> Entrée libre aux heures d’ouverture de la librairie. \nPer ne’n saubre mai – Renseignements\nLibrariá occitana – 05 55 32 06 44 \n
URL:http://ieo-lemosin.org/evenement/mostra-de-gravaduras-jojo-petit-lemosin-jojo-petit-limousin-marianne-tixeuil
LOCATION:Librariá occitana\, 42\, rua Viena Nauta – rue Haute-Vienne\, Limòtges – Limoges (87)
CATEGORIES:Libraria Occitana
END:VEVENT
BEGIN:VEVENT
DTSTART;TZID=Europe/Paris:20180526T100000
DTEND;TZID=Europe/Paris:20180526T180000
DTSTAMP:20260425T134632
CREATED:20180423T145734Z
LAST-MODIFIED:20180423T145734Z
UID:4940-1527328800-1527357600@ieo-lemosin.org
SUMMARY:La Librariá occitana au salon Faites des Livres
DESCRIPTION:La Librariá occitana participe cette année encore au salon du livre jeunesse et BD « Faites des livres » de Saint-Junien les 25 et 26 mai. Cette année\, le thème retenu est « Polar\, frissons\, mystères… » avec de nombreuses propositions d’activités. \nLe vendredi\, nous sommes en animation pour les scolaires de Saint-Junien et alentours. \nLe samedi\, nous vous attendons sur notre stand pour vous présenter les nouveautés (et le reste !) de l’édition pour les plus jeunes.\n Au plaisir ! \n→ Pour connaître le programme du salon dans le détail\, c’est ICI. \n \n
URL:http://ieo-lemosin.org/evenement/la-libraria-occitana-au-salon-faites-des-livres
LOCATION:Sala daus Congrès – Salle des Congrès\, Sent Junian – Saint-Junien (87)
CATEGORIES:Libraria Occitana
END:VEVENT
BEGIN:VEVENT
DTSTART;TZID=Europe/Paris:20180526T150000
DTEND;TZID=Europe/Paris:20180526T150000
DTSTAMP:20260425T134632
CREATED:20180416T095431Z
LAST-MODIFIED:20180416T095431Z
UID:4838-1527346800-1527346800@ieo-lemosin.org
SUMMARY:Espectacle de conte « La fada multicarta » – Micheu Chapduelh
DESCRIPTION: \n
URL:http://ieo-lemosin.org/evenement/espectacle-de-conte-la-fada-multicarta-micheu-chapduelh
LOCATION:Musée d’Archéologie et du Patrimoine Marius Vazeilles\, Maimac – Meymac (19)
CATEGORIES:Monde Occitan
END:VEVENT
BEGIN:VEVENT
DTSTART;TZID=Europe/Paris:20180526T160000
DTEND;TZID=Europe/Paris:20180527T160000
DTSTAMP:20260425T134632
CREATED:20180303T133513Z
LAST-MODIFIED:20180303T133513Z
UID:4672-1527350400-1527436800@ieo-lemosin.org
SUMMARY:Festival de Mialaret : 24h de bal NON-STOP !
DESCRIPTION:Le rendez vous incontournable des accros à la danse : 24h de bal NON-STOP en Corrèze ! \n  \n  \nLes groupes\nChaque groupe joue 2 fois 1 heure pendant les 24h de bal. \n\nMusiqu’à Deux : Jean-Yves et Myriam Lameyre (bal suédois\, bal folk)\nDes Pieds et des Mains : Fabien Gendraud\, Nellie\, Myriam et Jean-Yves Lameyre (bal folk)\nBal de Maison : Fabrice Caillard\, Martine Coutelle\, Alain Gatay (bal Cajun)\nBiscam Pas : Philippe et Marie Carcassès\, Steeve Seriat (Occitanie\, Québec)\n‌Duo Varsågod : Jennifer Démaret\, Elisabet Brouillard (bal suédois\, bal folk)\nBlanche Épine : Elisabeth et Jean-Yves Barrier\, Roger Leroux (bal folk)\nMad Tom / Tour Louis : Hervé et Rachel Goodwin-Dréan\, Joël Bosc (bal Gallois & Anglais\, fest noz haute-Bretagne)\nMad Tom Cat : Hervé et Rachel Goodwin-Dréan\, Jean-Yves et Myriam Lameyre (bal John Playford)\nCompàs Duo : Alain Cadeillan\, Sébastien Cogan (bal gascon)\nDuo Artense : Basile Brémaud et Hervé Capel (bal Auvergne/Limousin)\nLes Buveurs d’encre : Mathieu Brousse\, Jérémy Mériau\, Caroline de Paysac (bal folk)\nGrain de Sol : Jean-Yves Jérome\, Anthony Bernot\, Samuel Dechartres (bal Bourbonnais)\n\nCôté pratique\nSur le Domaine :\nRestauration : Restaurant au château\, snack-bar.\nHébergement : camping\, hôtel au château\, gîtes\, bungalows\, places camping-cars…\nRenseignements\, réservations : 05 55 46 02 50 – info@lemialaret.com www.lemialaret.com \nDans la salle :\nBoissons\, bières\, casse-croûte\, café\, thé\, tisanes…\nRenseignements / organisation : association Rhapsode 05 55 94 21 88 et/ou 05 55 26 16 14 \nTarifs : Pass 24h : 20 € ; à partir de 21h : 10 € jusqu’au dimanche 12h ; le dimanche après-midi : Participation libre (de 12h à 16h) \n \n
URL:http://ieo-lemosin.org/evenement/festival-de-mialaret-24h-de-bal-non-stop
LOCATION:Domaine de Mialaret\, Nòu Vic – Neuvic (19)
CATEGORIES:Monde Occitan
END:VEVENT
BEGIN:VEVENT
DTSTART;TZID=Europe/Paris:20180526T200000
DTEND;TZID=Europe/Paris:20180526T200000
DTSTAMP:20260425T134632
CREATED:20180303T111747Z
LAST-MODIFIED:20180515T084108Z
UID:4655-1527364800-1527364800@ieo-lemosin.org
SUMMARY:« Terre et ciel » : Grande fresque chorale et vocale à sensibilité écologique
DESCRIPTION:Ardalh \nAvec l’association S. Composition\, le Groupe Ardalh et l’Ensemble Scandicus. \nTerre et Ciel est un récit épique à partir des mythes et de la poésie occitane\, de polyphonies traditionnelles et de la Renaissance\, ainsi que des créations musicales contemporaines. Une façon de rendre compte de notre manière\n d’exister aujourd’hui et de nous représenter le monde en tentant d’imaginer les « langages » nécessaires pour dialoguer demain avec cette terre (et ce ciel) auxquels notre destin est lié. \nTerre et Ciel est une œuvre étonnante\, conçue comme un partage\, celui d’une rencontre passionnée de 150 chanteurs professionnels et amateurs\, réunis autour du territoire du sensible. Ensemble ils vont repousser les limites de nos\n frontières sonores en imaginant les nouvelles architectures possibles d’un espace musical et vocal réinventé\, invitant le citoyen à une évocation fraternelle. \nAinsi\, le public est plongé dans un dispositif scénique inhabituel au cœur des sons chantés par l’ensemble des voix. \nConception\, création musicale et direction artistique : Jean-Pierre Seyvos\n Textes et poèmes : Max Allier\, Pèire Cardinal\, Aimé Césaire\, Sylvain Chabaud\, Pey de Garros\, Isaac Despuech\, Pèire Godolin\, Bertrand Larade\, Jean-Louis Lavit\, Bernard Manciet\, Thérèse Pambrun\, Marcelle Delpastre\, Max Rouquette\n Ensembles professionnels : Ensemble Scandicus\, Groupe Ardalh\n Solistes : Anne-Laure Touya (soprano)\, Geneviève Laulhère-Clément (chant traditionnel)\n Récitants : Jean-Louis Lavit et Jean-Michel Anaya\n Chœurs amateurs : le Jeune Chœur et le Chœur Gaudeamus du Conservatoire de Limoges\, le Chœur du Haut- Limousin\, le Chœur Régional de la Vézère\n Chefs de chœurs : Marion Delcourt\, Patrick Malet\, François Terrieux\, Arnaud Cappelli\n Avec la participation du Département de musique traditionnelle du conservatoire de Limoges\n Mise en espace et lumières : Artur Canillas\, Marie Boethas et Mahony Kiely\n Coordination : Kirsten Blom et Chantal Latour \nProduction : S-composition. Avec l’aide à l’écriture musicale du Ministère de la Culture et de la Communication. Avec le soutien du Conservatoire à Rayonnement Régional de Limoges. \n> Tarif : Pour une place au plein tarif (23 €) achetée\, 1 place offerte. -26 ans\, demandeurs d’emploi : 8 €\n > Tout public\n > Durée : 1h45 \nPer ne’n saubre mai e se marcar – Renseignements et réservations\nCCM Jean Moulin (76\, avenue des Sagnes – 87280 Limoges) – 05 55 35 04 10 / 05 55 45 61 65 \n \n
URL:http://ieo-lemosin.org/evenement/terre-et-ciel-grande-fresque-chorale-et-vocale-a-sensibilite-ecologique-2
LOCATION:Centre Culturau – Centre Culturel Jean Moulin\, Limòtges – Limoges (87)
CATEGORIES:Monde Occitan
END:VEVENT
BEGIN:VEVENT
DTSTART;TZID=Europe/Paris:20180526T210000
DTEND;TZID=Europe/Paris:20180526T210000
DTSTAMP:20260425T134632
CREATED:20180423T082207Z
LAST-MODIFIED:20180423T082207Z
UID:4868-1527368400-1527368400@ieo-lemosin.org
SUMMARY:3ème Festival occitan « M'en Torne al Païs »
DESCRIPTION: \n\n\n\n\n\n\n\n\n\n\n\n\n\n\n\nConcert de chants occitans par le groupe vocal Los Gojats del Porti. \nCette soirée se déroulera sous forme de cabaret. \n> Tarif : Adulte 7 € \, -12 ans 5 € \n\n\n\n\n\n\n\n\n\nPer ne’n saubre mai – Renseignements\n06 08 06 05 39 – pascav@wanadoo.fr \n
URL:http://ieo-lemosin.org/evenement/3eme-festival-occitan-men-torne-al-pais
LOCATION:Sala de las festas – Salle polyvalente\, Argentat (19)
CATEGORIES:Monde Occitan
END:VEVENT
END:VCALENDAR