BEGIN:VCALENDAR
VERSION:2.0
PRODID:-//IEO Lemosin - ECPv4.9.9//NONSGML v1.0//EN
CALSCALE:GREGORIAN
METHOD:PUBLISH
X-WR-CALNAME:IEO Lemosin
X-ORIGINAL-URL:http://ieo-lemosin.org
X-WR-CALDESC:Events for IEO Lemosin
BEGIN:VTIMEZONE
TZID:Europe/Paris
BEGIN:DAYLIGHT
TZOFFSETFROM:+0100
TZOFFSETTO:+0200
TZNAME:CEST
DTSTART:20170326T010000
END:DAYLIGHT
BEGIN:STANDARD
TZOFFSETFROM:+0200
TZOFFSETTO:+0100
TZNAME:CET
DTSTART:20171029T010000
END:STANDARD
BEGIN:DAYLIGHT
TZOFFSETFROM:+0100
TZOFFSETTO:+0200
TZNAME:CEST
DTSTART:20180325T010000
END:DAYLIGHT
BEGIN:STANDARD
TZOFFSETFROM:+0200
TZOFFSETTO:+0100
TZNAME:CET
DTSTART:20181028T010000
END:STANDARD
END:VTIMEZONE
BEGIN:VEVENT
DTSTART;VALUE=DATE:20171221
DTEND;VALUE=DATE:20180611
DTSTAMP:20260425T120928
CREATED:20171217T134238Z
LAST-MODIFIED:20180303T124851Z
UID:4474-1513814400-1528675199@ieo-lemosin.org
SUMMARY:Mòstra / Exposition : « L'éloge de l'étrange : Roland Vincent\, Jean Pous\, Hélène Duclos »
DESCRIPTION:Étrangeté (syn.) : bizarrerie\, singularité\, excentricité\, caprice\, irrégularité\, originalité\, invraisemblance\, exotisme\, curiosité\, anomalie…\n L’étrangeté émane d’une altération de « l’univers connu »\, quotidien\, qui surprend l’esprit et les sens par un caractère inhabituel\, singulier\, extraordinaire. \n \nDédié aux créateurs Naïfs\, Bruts et Singuliers\, le Musée Cécile Sabourdy accueille des pratiques artistiques libres et inclassables allant du 19e s à nos jours.\n Les expositions s’y succèdent et une constante se fait jour : la présence de l’étrange. Tantôt intrigante\, tantôt inquiétante.\n Enveloppant les univers Hors-les-normes montrés à Vicq\, cette impression d’étrangeté offre peut-être un antidote aux codes imposés…\n Cette saison encore\, l’extra-ordinaire fait irruption au Musée et jette joyeusement le trouble sur notre perception de la réalité.\n Pour leur première rétrospective\, les sculptures sans pareil de l’autodidacte Roland Vincent rencontrent les galets gravés de Jean Pous\, figure de l’Art Brut originaire des Pyrénées.\n À leurs côtés\, se posent les insolites paysages en suspension de la peintre contemporaine Hélène Duclos. \nFaire parler la pierre : l’œuvre prophétique de Roland Vincent\nRoland Vincent est maçon\, tailleur de pierre.\n Creusois né en 1948\, il mène une existence discrète près de Guéret au village de Sardent\, entouré du granite qui partout affleure.\n Dès les années 90\, les pierres souvent massives qu’il a repérées et conservées au fil du temps\, se « mettent à parler » : il leur donne figure humaine et leur présence magnétique s’impose.\n Suivant une intuition visionnaire\, son outil souligne une bosse\, une faille\, une arrête naturelles du roc : une pommette\, un œil pénétrant\, une épaule apparaissent.\n Maître de ces formes nouvelles\, l’artisan est d’emblée devenu artiste.\n Plus tard\, Roland Vincent invente les Babòias* : des figures plus menues\, aux silhouettes alambiquées\, nées d’une poudre de roche modelée.\n Leur foule grimaçante\, désarticulée\, installe un défilé burlesque où se jouent simultanément une grande farce et toute la tragédie du monde. \n* Prononcées « babauye » \nJean Pous\, l’énigme créatrice\nJean Pous (1875 – 1973) vient à l’art une fois le grand âge arrivé.\n Fabriquant de bouchons fraîchement retraité\, à 87 ans il se met à sculpter et graver\, inlassablement\, des galets ramassés le long d’un fleuve voisin.\n L’activité créatrice abonde autour de lui (son fils\, sa petite-fille et son époux sont artistes) mais l’influence peu. Les formes qu’il donne à ses galets lui sont suggérées par les pierres elles-mêmes\, et par une nécessité intérieure. Visages de face ou de profil\, figures féminines ou masculines\, animaux et fleurs\, semblent puisés dans un fond universel de l’humanité\, renouvelant l’énigme d’une mémoire partagée. \nHélène Duclos\, l’étendue des possibles\nFormée à l’art textile par l’école Duperre à Paris\, Hélène Duclos peint\, dessine\, brode et grave les contours mouvant d’un monde nouveau.\n Dans des paysages alliant douceurs et monstruosités\, démons et merveilles\, les éléments de géographies multiples éclatent comme des bulles : nuages\, collines\, îles et oasis\, mers et montagnes sont le théâtre de scènes troublantes\, faites de surgissements et de disparitions.\n Des créatures\, minuscules et méticuleusement tracées\, évoluent selon des lois physiques étranges. Leurs interactions nous parlent d’un monde parallèle\, d’un autre monde possible. \nImmémoriales et carnavalesques : les créatures\nÊtres indéfinissables à l’humanité incertaine\, les « Créatures » sont par excellence des objets d’étrangeté.\n Leurs corps hybrides\, triturés ou chimériques\, mi-homme mi-animal\, esquissent des images à la lisière du merveilleux et du monstrueux.\n Leur figure\, familière\, nous renvoie tant à un passé lointain – primitif voire mythique – qu’à notre imaginaire contemporain.\n Issues des mythes\, des rites et des fêtes\, les Créatures réunies sous le signe de l’Étrange sont le fil conducteur de cette exposition. \nPer ne’n saubre mai – Renseignements\nMusée & Jardins Cécile Sabourdy (Rue Chavaud – 87260 Vicq-sur-Breuilh) – 05 55 00 67 73 – contact@museejardins-sabourdy.fr \n  \n
URL:http://ieo-lemosin.org/evenement/leloge-de-letrange-roland-vincent-jean-pous-helene-duclos
LOCATION:Musée et jardins Cécile Sabourdy\, Vic – Vicq-sur-Breuilh (87)
CATEGORIES:Monde Occitan
END:VEVENT
BEGIN:VEVENT
DTSTART;VALUE=DATE:20180529
DTEND;VALUE=DATE:20180713
DTSTAMP:20260425T120928
CREATED:20150105T111236Z
LAST-MODIFIED:20180523T084406Z
UID:5030-1527552000-1531439999@ieo-lemosin.org
SUMMARY:Mòstra « Marcelle & Anjela : La poésie au féminin »
DESCRIPTION:Dans le cadre du festival Balad’Oc\, exposition prêtée par le CIRDOC et réalisée par l’association bretonne Rhizomes. \nMarcela Delpastre \nMarcelle et Anjela sont deux poètes (Marcelle détestait le terme de poétesse qu’elle faisait rimer avec « de mes fesses »…) du XXe siècle\, l’une occitane\, l’autre bretonne\, partageant un même objectif : écrire ce qu’elles ont à dire dans leurs langues maternelles.\n Marcelle Delpastre\, est née en 1925 à Germont sur la commune de Chamberet. Fille\, petite-fille\, arrière-petite-fille de paysans\, elle vécut au cœur de la culture et de la civilisation paysannes. Chez elle\, elle entend et apprend deux langues\, l’occitan et le français. Écolière à Surdoux puis à Saint-Léonard-de-Noblat\, elle obtient le baccalauréat philosophie littérature à Brive\, puis elle fréquenta l’École des Arts Décoratifs de Limoges. De là\, elle revint dans la ferme familiale\, et privilégia l’écriture\, en français et en occitan plutôt que le dessin ; la poésie était son mode d’expression préféré tout en s’adonnant aux travaux des champs.\n Partout l’accompagnait un carnet sur lequel elle écrivait ses vers\, ses réflexions. Son premier poème occitan « La lenga que tant me platz » paraît en 1964 dans Lemouzi. À partir de ce moment-là\, Marcelle décide d’écrire en occitan limousin sur le Limousin. \nÀ la même époque\, la bretonne Anjela Duval publie dans la revue Ar Bed Keltieck son premier texte. Née en 1905\, près de Plouaret (Côtes-du-Nord)\, Anjela est fille unique d’une famille de cultivateurs\, et a repris\, seule\, la ferme familiale.\n Restée célibataire\, elle écrit ses poèmes après sa journée de travail aux champs sur un cahier d’écolier dans sa maison du Vieux-Marché à Traoñ an Dour\, hameau isolé.\n Bien qu’elle sache lire le breton très jeune\, elle ne se met à l’écrire que dans les années 1960.\n Elle collabore à Ar Bed Keltiek une revue en langue bretonne et se fait connaître du public par l’émission d’André Voisin Les Conteurs\, en\n 1971. Ses œuvres (sous le titre Oberenn glok)\, parues en 2000 sont rééditées en 2005\, à l’occasion du 100ème anniversaire de sa naissance. \nL’exposition vous invite à découvrir l’œuvre et la vie de ces deux figures féminines de la poésie contemporaine en langues régionales. \n> Dans le hall d’exposition.\n > Entrée libre.\n > Vernissage vendredi 1er juin à 17h.  \nPer ne’n saubre mai / Renseignements\nMédiathèque Intercommunale Éric Rohmer (Avenue Winston Churchill – 19000 Tulle) 05 55 20 21 48 – mediatheque@tulleagglo.fr – www.mediatheque.tulleagglo.fr \nAngela Duval \n
URL:http://ieo-lemosin.org/evenement/inauguracion-de-la-mostra-angela-et-marcelle-angela-duval-et-marcelle-delpastre-2
LOCATION:Mediateca Intercomunala Eric Rohmer\, av. Winston Churchill\, Tula – Tulle (19)
CATEGORIES:Monde Occitan
END:VEVENT
BEGIN:VEVENT
DTSTART;VALUE=DATE:20180530
DTEND;VALUE=DATE:20180603
DTSTAMP:20260425T120928
CREATED:20170413T100415Z
LAST-MODIFIED:20180523T093753Z
UID:4539-1527638400-1527983999@ieo-lemosin.org
SUMMARY:Festenau Balad’Òc Tula - 3e édition des Journées d'Expressions Occitanes à Tulle : Anem Trio\, Cocanha\, Lo Barrut...
DESCRIPTION:Dissabte 26 de mai\n\n15h\, Museu Marius Vazeilles\, Maimac :\n Espectacle de contes bilingüe occitan/francés « La fada multicarta : A l’ora d’Internet e de las multinacionalas\, contes ancians per nòstre temps » per Micheu Chapduelh\n\nDimecres 30 de mai\n\nEn matinada\, collegi Clemenceau e liceu Edmond Perrier\, Tula :\n Intervencion d’Amic Bedel\, realizator\, per las classas d’occitan\n18h\, Cinéma Veo\, Tula :\n Inauguracion del 3en festenau en presència deus elegits de la region e del territòri\n Projeccions e discutidas alentorn de collectatges de l’IEO Lemosin e d’un filme d’Amic Bedel\n\nDijòus 31 de mai\n\nMiegjorn\, dins una escòla d’a Tula : \n Disnar enchantat\, coma deus musicaires : repas\, chants e danças \n19h\, Sala de las Musicas Actualas :\n Aperitiu e minja-drech en chançons\n 20h30 : \n Concèrt d’Alidé Sans\, artista de la Vau d’Aran\, e Cocanha\, grope polifonic de femnas : chants de Lengadòc e Gasconha\n\nDivendres 1er de junh\n\n10h\, Fabrica d’Acordeons Maugein : \n Visita comentada\, en occitan d’aici.\n17h00\, Mediateca Eric Rohmer :\n Vernissatge de l’exposicion « Marcela e Angela » – lectura de textes de Marcela Delpastre per deus liceans d’a Tula e Selhac e per Claude Chabrerie\, Dominique Decomps e Chloé Peureux\n 18h30 : \n Aperitiu e minja-drech\n 19h30 : \n Concert\, Musicas e Chants Per Questa Terra\, Duò Combi-Payrat\n Olivier Pairat e Bernat Combi perpausan un concert musicau e poëtic sus daus textes de Marcela Delpastre.\n Bernat Combi : votz\, eschinlas e sonadís ; Olivier Payrat : sanfònha e oud.\n\nDissabte 2 de junh\n\nMatin\, merchat de la Gara : \n Passejadis\, animacions en musica\n10h30\, Auditòri de la Mediateca Eric Rohmer :\n Dictada collectiva (a gratis\, s’inscriure)\n Sus daus textes de Marcela Delpastre\, venetz cubar la vòstra ortografia dins un bon ambient.\n14h30\, Librària Preferéncia:\n Parladissa bilingüa e dedicacion emb Joan-Pèira Lacomba\n17h\, Sala de l’Auselon :\n Rescontres\, eschambis entre diferents atalhiers\, clubes\, cafés occitans\, emb l’intervencion del grope occitan Lo Barrut\n 18h : \n Balèti / dançadís per tots\, iniciacion per La Galòcha d’a Condat\n 19h30 : \n Minja-drech\, petiòta restauracion sus plaça\n 20h30 : Concèrt finau \n\nCollegians e liceans : presentaràn de sainetas\, istorietas d’aici\, e.c.a.\nLo Barrut\, grope vocau mixte de Montpelhier\nAnem Trio\, musicas per dançar\, emb Nicolas Peuch\, Thomas Doornenbal e Lucia Roulet\nMirabel\, danças catalanas\, lemosinas\, auvernhatas…\n\n\n\nDissabte 30 de junh\n\n14h30\, Associacion Lo Pueg de Las Fajas\, Tula :\n Atalhier en occitan alentorn de la cosina lemosina.\n\nPer ne’n saubre mai e se marcar – Infos\, réservations\nbaladoc@ville-tulle.fr \n \n
URL:http://ieo-lemosin.org/evenement/2nd-festenau-occitan-baladoc-2
LOCATION:Tula – Tulle (19)
CATEGORIES:IEO Lemosin,Libraria Occitana,Monde Occitan
END:VEVENT
BEGIN:VEVENT
DTSTART;TZID=Europe/Paris:20180602T110000
DTEND;TZID=Europe/Paris:20180602T110000
DTSTAMP:20260425T120928
CREATED:20180423T100329Z
LAST-MODIFIED:20180423T104804Z
UID:4897-1527937200-1527937200@ieo-lemosin.org
SUMMARY:« Balade faune et flore »\, balade contée – Clément Bouscarel
DESCRIPTION:Dans le cadre du festival Coquelicontes\, du 22 mai au 3 juin 2018. \n \nLe conteur\n« Conteur paysan\, je raconte des histoires et des légendes merveilleuses que je tiens de mes aïeux qu’ils tenaient eux-mêmes de très loin dans un décor quercynois. Au gré de mes improvisations\, les histoires prennent vie\, assaisonnées de mots occitans. Des histoires d’hier pour demain… » \nSon spectacle : « Balade faune et flore »\nContes et histoires de nature.\n Balade pour observer les plantes avec leurs histoires\, leurs pouvoirs\, l’origine des noms…\n Proverbes\, chants d’oiseaux… Découverte nature. \n> Rdv à la bibliothèque.\n> Repli au centre de loisirs en cas de pluie.\n > Tout public à partir de 7 ans.\n > Durée : 2 à 4h.\n > Gratuit.\n > Accessible aux personnes à mobilité réduite grâce à la mise à disposition gratuite de joëlettes (prendre contact préalablement au 05 55 77 49 99). \nPer ne’n saubre mai – Renseignements\nSylvaine Bosc – 05 55 06 91 67 \n
URL:http://ieo-lemosin.org/evenement/bon-sens-paysan-conte-clement-bouscarel-2-2-2-2-2-2
LOCATION:Boissuélh – Boisseuil (87)
CATEGORIES:Monde Occitan
END:VEVENT
BEGIN:VEVENT
DTSTART;TZID=Europe/Paris:20180602T160000
DTEND;TZID=Europe/Paris:20180602T173000
DTSTAMP:20260425T120928
CREATED:20180423T100329Z
LAST-MODIFIED:20180423T104901Z
UID:4888-1527955200-1527960600@ieo-lemosin.org
SUMMARY:« Bon sens paysan ! »\, balade contée – Clément Bouscarel
DESCRIPTION:Dans le cadre du festival Coquelicontes\, du 22 mai au 3 juin 2018. \n \nLe conteur\n« Conteur paysan\, je raconte des histoires et des légendes merveilleuses que je tiens de mes aïeux qu’ils tenaient eux-mêmes de très loin dans un décor quercynois. Au gré de mes improvisations\, les histoires prennent vie\, assaisonnées de mots occitans. Des histoires d’hier pour demain… » \nSon spectacle : « Bon sens paysan ! »\nUne succession d’histoires qui s’unissent autour d’un thème actuel\, mettant le doigt sur des observations parfois oubliées grâce au “bon sens paysan”. Et j’en suis un ! \n> Repli à la Salle des fêtes de Grandsaigne en cas de pluie.\n> Tout public à partir de 7 ans.\n > Tarif : 5 €\, -12 ans gratuit. \nPer ne’n saubre mai – Renseignements\nColette Plas – 06 74 48 00 90 \n
URL:http://ieo-lemosin.org/evenement/bon-sens-paysan-conte-clement-bouscarel-2-2-2-2-2
LOCATION:Chapelle de Clédat\, Grand Sanha – Grandsaigne (19)
CATEGORIES:Monde Occitan
END:VEVENT
BEGIN:VEVENT
DTSTART;TZID=Europe/Paris:20180602T180000
DTEND;TZID=Europe/Paris:20180602T191000
DTSTAMP:20260425T120928
CREATED:20180423T110634Z
LAST-MODIFIED:20180423T132321Z
UID:4923-1527962400-1527966600@ieo-lemosin.org
SUMMARY:﻿« Anima »\, apéro-conté – Malika Verlaguet
DESCRIPTION:Dans le cadre du festival Coquelicontes\, du 22 mai au 3 juin 2018. \n \nLa conteuse\nCertains la disent « nomade enracinée »… Avant de conter\, Malika Verlaguet a beaucoup écouté\, regardé\, joué\, rêvassé\, un peu voyagé… et après avoir suivi une voie théâtrale\, étudié les langues puis enseigné dans une école bilingue\, c’est l’art du conte qui a eu sa préférence !\n Depuis 2002\, elle a petit à petit fait son nid avec des brindilles glanées çà et là auprès de conteurs inspirés et inspirants\, en renouant avec sa culture occitane. Lorsqu’elle raconte\, elle égaye ses contes en les parsemant d’occitan car\, pour elle\, cette langue\, aussi régionale soit-elle\, n’est pas une frontière. C’est un clin d’œil à ses ancêtres\, c’est une note d’originalité\, une musique\, mais c’est aussi l’expression d’un désir d’ouverture et de diversité. \nSon spectacle : « Anima »\nDes contes où la part belle est faite aux bêtes…\n Les sauvages qui courent\, les douces qui ronronnent\, les mystérieuses qu’on ne voit jamais. Celles qui galopent\, celles qui se cachent\, celles qui dansent\, celles qui s’apprivoisent\, qu’on caresse\, celles qui parlent\, celles qu’on ne peut frôler et celles qu’on doit oublier\, celles dont on devine l’âme\, celles dont on a peur et celles tapies au fond de nous.\n Des contes qui rendent hommage au souffle qui anime les êtres vivants\, à la vie\, tout simplement ! \n> En français métissé d’occitan (compréhensible par tous et toutes).\n > Tout public à partir de 6 ans.\n > Durée : 1h10.\n > Gratuit. \nPer ne’n saubre mai – Renseignements\nCaroline Gary – 05 55 25 40 20 / 06 62 29 73 46 \n
URL:http://ieo-lemosin.org/evenement/anima-apero-conte-malika-verlaguet-2-2-2
LOCATION:Place de la Halle\, Maiçac – Meyssac (19)
CATEGORIES:Monde Occitan
END:VEVENT
BEGIN:VEVENT
DTSTART;TZID=Europe/Paris:20180602T190000
DTEND;TZID=Europe/Paris:20180602T190000
DTSTAMP:20260425T120928
CREATED:20180523T133851Z
LAST-MODIFIED:20180523T134010Z
UID:4777-1527966000-1527966000@ieo-lemosin.org
SUMMARY:Randonada sopatiera coma Jan-Francés Vinhau
DESCRIPTION: \nL’association « Oradour en fleurs » organise une randonnée gourmande dînatoire de 7 km\, animée par le conteur occitan Jean-François Vignaud. \n> Rdv à 19h\, départ à 19h30.\n > Café offert à l’arrivée.\n > Tarif : adultes 12 €\, enfants de moins de 12 ans 6 €\, payable à l’inscription\, chèque à l’ordre d’Oradour en fleurs et coupon à renvoyer à Waflart Annie\, 2\, résidence du Parc\, 87150 Oradour-sur-Vayres\, avant le 22 mai dernier délai. \nPer ne’n saubre mai – Renseignements\n05 55 78 23 47 \n
URL:http://ieo-lemosin.org/evenement/randonada-sopatiera-coma-jan-frances-vinhau
LOCATION:Site des Chapelles\, rue Georges-Guingouin\, Orador de Vairas – Oradour-sur-Vayres (87)
CATEGORIES:IEO Lemosin,Monde Occitan
END:VEVENT
END:VCALENDAR