BEGIN:VCALENDAR
VERSION:2.0
PRODID:-//IEO Lemosin - ECPv4.9.9//NONSGML v1.0//EN
CALSCALE:GREGORIAN
METHOD:PUBLISH
X-WR-CALNAME:IEO Lemosin
X-ORIGINAL-URL:http://ieo-lemosin.org
X-WR-CALDESC:Events for IEO Lemosin
BEGIN:VTIMEZONE
TZID:Europe/Paris
BEGIN:DAYLIGHT
TZOFFSETFROM:+0100
TZOFFSETTO:+0200
TZNAME:CEST
DTSTART:20180325T010000
END:DAYLIGHT
BEGIN:STANDARD
TZOFFSETFROM:+0200
TZOFFSETTO:+0100
TZNAME:CET
DTSTART:20181028T010000
END:STANDARD
END:VTIMEZONE
BEGIN:VEVENT
DTSTART;VALUE=DATE:20180529
DTEND;VALUE=DATE:20180713
DTSTAMP:20260425T121925
CREATED:20150105T111236Z
LAST-MODIFIED:20180523T084406Z
UID:5030-1527552000-1531439999@ieo-lemosin.org
SUMMARY:Mòstra « Marcelle & Anjela : La poésie au féminin »
DESCRIPTION:Dans le cadre du festival Balad’Oc\, exposition prêtée par le CIRDOC et réalisée par l’association bretonne Rhizomes. \nMarcela Delpastre \nMarcelle et Anjela sont deux poètes (Marcelle détestait le terme de poétesse qu’elle faisait rimer avec « de mes fesses »…) du XXe siècle\, l’une occitane\, l’autre bretonne\, partageant un même objectif : écrire ce qu’elles ont à dire dans leurs langues maternelles.\n Marcelle Delpastre\, est née en 1925 à Germont sur la commune de Chamberet. Fille\, petite-fille\, arrière-petite-fille de paysans\, elle vécut au cœur de la culture et de la civilisation paysannes. Chez elle\, elle entend et apprend deux langues\, l’occitan et le français. Écolière à Surdoux puis à Saint-Léonard-de-Noblat\, elle obtient le baccalauréat philosophie littérature à Brive\, puis elle fréquenta l’École des Arts Décoratifs de Limoges. De là\, elle revint dans la ferme familiale\, et privilégia l’écriture\, en français et en occitan plutôt que le dessin ; la poésie était son mode d’expression préféré tout en s’adonnant aux travaux des champs.\n Partout l’accompagnait un carnet sur lequel elle écrivait ses vers\, ses réflexions. Son premier poème occitan « La lenga que tant me platz » paraît en 1964 dans Lemouzi. À partir de ce moment-là\, Marcelle décide d’écrire en occitan limousin sur le Limousin. \nÀ la même époque\, la bretonne Anjela Duval publie dans la revue Ar Bed Keltieck son premier texte. Née en 1905\, près de Plouaret (Côtes-du-Nord)\, Anjela est fille unique d’une famille de cultivateurs\, et a repris\, seule\, la ferme familiale.\n Restée célibataire\, elle écrit ses poèmes après sa journée de travail aux champs sur un cahier d’écolier dans sa maison du Vieux-Marché à Traoñ an Dour\, hameau isolé.\n Bien qu’elle sache lire le breton très jeune\, elle ne se met à l’écrire que dans les années 1960.\n Elle collabore à Ar Bed Keltiek une revue en langue bretonne et se fait connaître du public par l’émission d’André Voisin Les Conteurs\, en\n 1971. Ses œuvres (sous le titre Oberenn glok)\, parues en 2000 sont rééditées en 2005\, à l’occasion du 100ème anniversaire de sa naissance. \nL’exposition vous invite à découvrir l’œuvre et la vie de ces deux figures féminines de la poésie contemporaine en langues régionales. \n> Dans le hall d’exposition.\n > Entrée libre.\n > Vernissage vendredi 1er juin à 17h.  \nPer ne’n saubre mai / Renseignements\nMédiathèque Intercommunale Éric Rohmer (Avenue Winston Churchill – 19000 Tulle) 05 55 20 21 48 – mediatheque@tulleagglo.fr – www.mediatheque.tulleagglo.fr \nAngela Duval \n
URL:http://ieo-lemosin.org/evenement/inauguracion-de-la-mostra-angela-et-marcelle-angela-duval-et-marcelle-delpastre-2
LOCATION:Mediateca Intercomunala Eric Rohmer\, av. Winston Churchill\, Tula – Tulle (19)
CATEGORIES:Monde Occitan
END:VEVENT
BEGIN:VEVENT
DTSTART;VALUE=DATE:20180605
DTEND;VALUE=DATE:20180708
DTSTAMP:20260425T121925
CREATED:20180416T185138Z
LAST-MODIFIED:20180416T185638Z
UID:4852-1528156800-1531007999@ieo-lemosin.org
SUMMARY:Mòstra d'aigarelas – Éric Alix
DESCRIPTION: \nÉric Alix a le coup de foudre pour l’aquarelle en 2009\, en découvrant dans un magazine les peintures de Marc Folly\, aquarelliste français mondialement connu. Il suit alors des stages avec ce dernier mais aussi Jérôme Cossé et Keiko Tanabé. \nIl expose\, participe à plusieurs concours où il remporte des prix. En 2014\, il figure déjà parmi 295 artistes sélectionnés au concours mondial de l’aquarelle. \nÉric Alix présente son œuvre comme « une aquarelle graphique et nerveuse » où il se sent « acteur mais aussi spectateur de ce qui se passe sur la feuille ». \n> Vernissage mercredi 13 juin à 18h.\n > Entrée libre aux heures d’ouverture de la librairie. \nPer ne’n saubre mai – Renseignements\nLibrariá occitana – 05 55 32 06 44 \n
URL:http://ieo-lemosin.org/evenement/exposition-daquarelles-eric-alix
LOCATION:Librariá occitana\, 42\, rua Viena Nauta – rue Haute-Vienne\, Limòtges – Limoges (87)
CATEGORIES:Libraria Occitana
END:VEVENT
BEGIN:VEVENT
DTSTART;TZID=Europe/Paris:20180623T103000
DTEND;TZID=Europe/Paris:20180623T103000
DTSTAMP:20260425T121925
CREATED:20180124T222459Z
LAST-MODIFIED:20180124T223156Z
UID:4580-1529749800-1529749800@ieo-lemosin.org
SUMMARY:« Café Occitan »
DESCRIPTION:La Bibliothèque vous propose un moment de rencontre et d’échange autour de la langue\n et de la culture occitanes… \nRendez-vous à la bibliothèque de 10h30 à 12h00 : \n\nSamedi 27 janvier 2018\nSamedi 24 février 2018\nSamedi 31 mars 2018\nSamedi 14 avril 2018\nSamedi 12 mai 2018\nSamedi 23 juin 2018\n\nPer ne’n saubre mai e se marcar – Renseignements et inscriptions\nBibliothèque municipale Georges-Emmanuel Clancier (Place Denis Dussoubs – 87400 Saint-Léonard-de-Noblat) – 05 55 56 76 87 – bibliotheque.municipale@ville-saint-leonard.fr \n \n
URL:http://ieo-lemosin.org/evenement/cafe-occitan-5-2-2-2-2
LOCATION:Biblioteca – Bibliothèque Georges-Emmanuel Clancier\, Sent Liunard – Saint-Léonard-de-Noblat (87)
CATEGORIES:Monde Occitan
END:VEVENT
BEGIN:VEVENT
DTSTART;TZID=Europe/Paris:20180623T140000
DTEND;TZID=Europe/Paris:20180623T140000
DTSTAMP:20260425T121925
CREATED:20180424T085010Z
LAST-MODIFIED:20180605T104226Z
UID:4981-1529762400-1529762400@ieo-lemosin.org
SUMMARY:Fêtez la St Jean !
DESCRIPTION: \nDans le cadre de la Fête de la St Jean du bourg de Ste Anne St Priest\, les habitants ont conservé la tradition du feu de St Jean qui est allumé chaque St Jean en soirée. \nCette année\, Chantal Ballot\, productrice de plantes aromatiques et médicinales et animatrice nature\, et Jean-Marie Caunet de l’IEO Limousin vont co-animer en préambule de la soirée une animation-sortie pour découvrir les us et coutumes limousines de ce jour le plus long de l’année. Cette sortie nature se fera aux environs de Saint Anne Saint Priest pour confectionner un bouquet de la Saint Jean. Au cours de la balade : Chantal Ballot fera la présentation des caractéristiques botaniques des plantes\, des modes de récolte\, des précautions pour les cueillettes sauvages\, le séchage et la conservation familiale. Une présentation du métier de productrice cueilleuse et les usages actuels seront également abordés. Alors que Jean-Marie Caunet interviendra sur l’origine du feu rituel\, les bouquets de Saint Jean\, les rites et coutumes liés à cette fête (bouquets\, choix des plantes\, les liens avec la culture de la rave\, passage des animaux dans les cendres du feu\, ….). \n> Rdv à 14h au pied du feu de St Jean\, pré en face de la mairie.\n > Tous publics.\n > Gratuit.\n > Durée : 3h. \nPer ne’n saubre mai e se marcar – Renseignements et réservations\nOffice de Tourisme des Portes de Vassivière – 05 55 69 27 81 – ot.eymoutiers@orange.fr – tourisme-portesvassiviere.fr \n
URL:http://ieo-lemosin.org/evenement/fetez-la-st-jean
LOCATION:Senta-Anna-Sent-Príech – Sainte-Anne-Saint-Priest (87)
CATEGORIES:IEO Lemosin,Monde Occitan
END:VEVENT
BEGIN:VEVENT
DTSTART;TZID=Europe/Paris:20180623T140000
DTEND;TZID=Europe/Paris:20180623T180000
DTSTAMP:20260425T121925
CREATED:20180523T141514Z
LAST-MODIFIED:20180523T141514Z
UID:4945-1529762400-1529776800@ieo-lemosin.org
SUMMARY:Randonnée commentée par l’occitaniste Jean-François Vignaud
DESCRIPTION:Randonnée d’environ 10km\, sur le thème des châteaux et oiseaux de Jourgnac. \n> Verre de l’amitié offert par l’association. \n > Début du marché de pays\, producteurs locaux\, possibilité de faire cuire sur place\, buvette et friterie\, manèges\, vide-grenier à partir de 18h. \nRenseignements et réservations\n06 81 21 05 72 \n
URL:http://ieo-lemosin.org/evenement/randonnee-commentee-par-loccitaniste-jean-francois-vignaud
LOCATION:Jurnhac – Jourgnac (87)
CATEGORIES:IEO Lemosin
END:VEVENT
END:VCALENDAR