BEGIN:VCALENDAR
VERSION:2.0
PRODID:-//IEO Lemosin - ECPv4.9.9//NONSGML v1.0//EN
CALSCALE:GREGORIAN
METHOD:PUBLISH
X-WR-CALNAME:IEO Lemosin
X-ORIGINAL-URL:http://ieo-lemosin.org
X-WR-CALDESC:Events for IEO Lemosin
BEGIN:VTIMEZONE
TZID:Europe/Paris
BEGIN:DAYLIGHT
TZOFFSETFROM:+0100
TZOFFSETTO:+0200
TZNAME:CEST
DTSTART:20180325T010000
END:DAYLIGHT
BEGIN:STANDARD
TZOFFSETFROM:+0200
TZOFFSETTO:+0100
TZNAME:CET
DTSTART:20181028T010000
END:STANDARD
END:VTIMEZONE
BEGIN:VEVENT
DTSTART;VALUE=DATE:20180529
DTEND;VALUE=DATE:20180713
DTSTAMP:20260425T105629
CREATED:20150105T111236Z
LAST-MODIFIED:20180523T084406Z
UID:5030-1527552000-1531439999@ieo-lemosin.org
SUMMARY:Exposition « Marcelle & Anjela : La poésie au féminin »
DESCRIPTION:Dans le cadre du festival Balad’Oc\, exposition prêtée par le CIRDOC et réalisée par l’association bretonne Rhizomes. \nMarcela Delpastre \nMarcelle et Anjela sont deux poètes (Marcelle détestait le terme de poétesse qu’elle faisait rimer avec « de mes fesses »…) du XXe siècle\, l’une occitane\, l’autre bretonne\, partageant un même objectif : écrire ce qu’elles ont à dire dans leurs langues maternelles.\n Marcelle Delpastre\, est née en 1925 à Germont sur la commune de Chamberet. Fille\, petite-fille\, arrière-petite-fille de paysans\, elle vécut au cœur de la culture et de la civilisation paysannes. Chez elle\, elle entend et apprend deux langues\, l’occitan et le français. Écolière à Surdoux puis à Saint-Léonard-de-Noblat\, elle obtient le baccalauréat philosophie littérature à Brive\, puis elle fréquenta l’École des Arts Décoratifs de Limoges. De là\, elle revint dans la ferme familiale\, et privilégia l’écriture\, en français et en occitan plutôt que le dessin ; la poésie était son mode d’expression préféré tout en s’adonnant aux travaux des champs.\n Partout l’accompagnait un carnet sur lequel elle écrivait ses vers\, ses réflexions. Son premier poème occitan « La lenga que tant me platz » paraît en 1964 dans Lemouzi. À partir de ce moment-là\, Marcelle décide d’écrire en occitan limousin sur le Limousin. \nÀ la même époque\, la bretonne Anjela Duval publie dans la revue Ar Bed Keltieck son premier texte. Née en 1905\, près de Plouaret (Côtes-du-Nord)\, Anjela est fille unique d’une famille de cultivateurs\, et a repris\, seule\, la ferme familiale.\n Restée célibataire\, elle écrit ses poèmes après sa journée de travail aux champs sur un cahier d’écolier dans sa maison du Vieux-Marché à Traoñ an Dour\, hameau isolé.\n Bien qu’elle sache lire le breton très jeune\, elle ne se met à l’écrire que dans les années 1960.\n Elle collabore à Ar Bed Keltiek une revue en langue bretonne et se fait connaître du public par l’émission d’André Voisin Les Conteurs\, en\n 1971. Ses œuvres (sous le titre Oberenn glok)\, parues en 2000 sont rééditées en 2005\, à l’occasion du 100ème anniversaire de sa naissance. \nL’exposition vous invite à découvrir l’œuvre et la vie de ces deux figures féminines de la poésie contemporaine en langues régionales. \n> Dans le hall d’exposition.\n > Entrée libre.\n > Vernissage vendredi 1er juin à 17h. \n Per ne’n saubre mai / Renseignements\nMédiathèque Intercommunale Éric Rohmer (Avenue Winston Churchill – 19000 Tulle) 05 55 20 21 48 – mediatheque@tulleagglo.fr – www.mediatheque.tulleagglo.fr \nAngela Duval \n
URL:http://ieo-lemosin.org/evenement/inauguracion-de-la-mostra-angela-et-marcelle-angela-duval-et-marcelle-delpastre-2
LOCATION:Mediateca Intercomunala Eric Rohmer\, av. Winston Churchill\, Tula – Tulle (19)
CATEGORIES:Monde Occitan
END:VEVENT
BEGIN:VEVENT
DTSTART;VALUE=DATE:20180710
DTEND;VALUE=DATE:20180901
DTSTAMP:20260425T105629
CREATED:20180605T180840Z
LAST-MODIFIED:20180605T181102Z
UID:5097-1531180800-1535759999@ieo-lemosin.org
SUMMARY:Grande braderie de l’estampe avec l’association « Eau-forte »
DESCRIPTION:© Jan-Marc Simeonin \nL’association « Eau-Forte » est un groupe de graveurs basé à Chaptelat qui depuis plus de 30 ans produit des estampes originales et expose à Limoges et en Limousin. L’été sera l’occasion de voir la diversité de leur travail et aussi de pouvoir s’offrir une œuvre\, puisque l’exposition sera accompagnée d’une « braderie » vide-atelier où chacun pourra trouver son bonheur à bon marché. \n> Entrée libre aux heures d’ouverture de la librairie. \nPer ne’n saubre mai – Renseignements\nLibrariá occitana – 05 55 32 06 44 \n
URL:http://ieo-lemosin.org/evenement/grande-braderie-de-lestampe-avec-lassociation-eau-forte
LOCATION:Librariá occitana\, 42\, rua Viena Nauta – rue Haute-Vienne\, Limòtges – Limoges (87)
CATEGORIES:Libraria Occitana
END:VEVENT
BEGIN:VEVENT
DTSTART;TZID=Europe/Paris:20180710T210000
DTEND;TZID=Europe/Paris:20180710T223000
DTSTAMP:20260425T105629
CREATED:20180423T152958Z
LAST-MODIFIED:20180423T152958Z
UID:4951-1531256400-1531261800@ieo-lemosin.org
SUMMARY:Permenada contada « Bords de Vienne - Dins las charrieras daus ponts »
DESCRIPTION: \nUne balade en compagnie de Jean-François Vignaud aux abords du vieux pont Saint-Étienne\, au travers des « charrières » des bords de Vienne\, chez les Ponticauds\, dans un quartier où ville et Vienne se rencontrent depuis près de vingt siècles. Une soirée à longer la rivière en écoutant les histoires du pays et des gens. \n> Tarifs : Enfant 6-12 ans\, étudiants\, chômeurs 8 € / Adulte 10 €\n > Durée : 1h30\n > En occitan et en français\n > Réservation et règlement obligatoires à l’Office de Tourisme ou sur www.limoges-tourisme.com \nPer ne’n saubre mai / Renseignements\nOffice de Tourisme (12\, bvd de Fleurus – Limoges) – 05 55 34 46 87 – http://www.limoges-tourisme.com/ \n
URL:http://ieo-lemosin.org/evenement/permenada-contada-bords-de-vienne-dins-las-charrieras-daus-ponts
LOCATION:Ofici de Torisme – Office de Tourisme\, Limòtges – Limoges (87)
CATEGORIES:IEO Lemosin
END:VEVENT
END:VCALENDAR