BEGIN:VCALENDAR
VERSION:2.0
PRODID:-//IEO Lemosin - ECPv4.9.9//NONSGML v1.0//EN
CALSCALE:GREGORIAN
METHOD:PUBLISH
X-WR-CALNAME:IEO Lemosin
X-ORIGINAL-URL:http://ieo-lemosin.org
X-WR-CALDESC:Events for IEO Lemosin
BEGIN:VTIMEZONE
TZID:Europe/Paris
BEGIN:DAYLIGHT
TZOFFSETFROM:+0100
TZOFFSETTO:+0200
TZNAME:CEST
DTSTART:20180325T010000
END:DAYLIGHT
BEGIN:STANDARD
TZOFFSETFROM:+0200
TZOFFSETTO:+0100
TZNAME:CET
DTSTART:20181028T010000
END:STANDARD
END:VTIMEZONE
BEGIN:VEVENT
DTSTART;VALUE=DATE:20180710
DTEND;VALUE=DATE:20180901
DTSTAMP:20260425T104754
CREATED:20180605T180840Z
LAST-MODIFIED:20180605T181102Z
UID:5097-1531180800-1535759999@ieo-lemosin.org
SUMMARY:Grande braderie de l’estampe avec l’association « Eau-forte »
DESCRIPTION:© Jan-Marc Simeonin \nL’association « Eau-Forte » est un groupe de graveurs basé à Chaptelat qui depuis plus de 30 ans produit des estampes originales et expose à Limoges et en Limousin. L’été sera l’occasion de voir la diversité de leur travail et aussi de pouvoir s’offrir une œuvre\, puisque l’exposition sera accompagnée d’une « braderie » vide-atelier où chacun pourra trouver son bonheur à bon marché. \n> Entrée libre aux heures d’ouverture de la librairie. \nPer ne’n saubre mai – Renseignements\nLibrariá occitana – 05 55 32 06 44 \n
URL:http://ieo-lemosin.org/evenement/grande-braderie-de-lestampe-avec-lassociation-eau-forte
LOCATION:Librariá occitana\, 42\, rua Viena Nauta – rue Haute-Vienne\, Limòtges – Limoges (87)
CATEGORIES:Libraria Occitana
END:VEVENT
BEGIN:VEVENT
DTSTART;VALUE=DATE:20180717
DTEND;VALUE=DATE:20180729
DTSTAMP:20260425T104754
CREATED:20180605T184617Z
LAST-MODIFIED:20180706T112552Z
UID:5102-1531785600-1532822399@ieo-lemosin.org
SUMMARY:Exposition « Marcelle & Anjela »
DESCRIPTION: \nMarcelle et Anjela\, ce sont deux poétesses du XXe siècle\, l’une occitane\, l’autre bretonne\, partageant un même combat : écrire dans leurs langues maternelles. Marcelle Delpastre\, agricultrice en Limousin\, ne se promène jamais sans son crayon noir et un cahier. Son premier poème en occitan « La Lenga que tant me platz » paraît en 1964. C’est à la même époque que la bretonne Anjela Duval publie dans la revue Ar Bed Keltick son premier texte. L’exposition vous invite à découvrir l’œuvre et la vie de ces deux figures féminines de la poésie contemporaine en langues régionales. \nVernissage le jeudi 19 juillet à 18h. \nPer ne’n saubre mai – Renseignements\nMédiathèque Vézère Monédières (15\, av. Général De Gaulle – 19260 Treignac) – 05 19 67 01 00 – mediatheque@vezere-monedieres.fr – mediatheque.vezere-monedieres.fr \n \n
URL:http://ieo-lemosin.org/evenement/exposition-marcelle-anjela
LOCATION:Mediateca – Médiathèque\, Trainhac – Treignac (19)
CATEGORIES:Monde Occitan
END:VEVENT
BEGIN:VEVENT
DTSTART;VALUE=DATE:20180719
DTEND;VALUE=DATE:20180722
DTSTAMP:20260425T104754
CREATED:20170421T163816Z
LAST-MODIFIED:20180706T163144Z
UID:5143-1531958400-1532217599@ieo-lemosin.org
SUMMARY:La Librariá occitana à l'Estivada
DESCRIPTION: \nRetrouvez la Libraria occitana à l’espace Éditeurs (salle des fêtes). \nAvec\, entre autres\, Katy Bernard & Monica Burg\, Arnaud Cance & Paulin Courtial\, le Trio Savignoni e lo papet\, San Salvador\, Minvielle\, Jan dau Melhau\, Mauresca Fracàs Dub… \nTout est gratuit. \n→ Consulter le programme \nPer ne’n saubre mai – Renseignements\nHôtel de Ville (Place Eugène-Raynaldy – 12000 Rodez) – 05 65 77 88 00 \n
URL:http://ieo-lemosin.org/evenement/ieo-lem-la-libraria-occitana-a-lestivada-2
LOCATION:Rodés – Rodez (12)
CATEGORIES:Libraria Occitana
END:VEVENT
BEGIN:VEVENT
DTSTART;TZID=Europe/Paris:20180719T180000
DTEND;TZID=Europe/Paris:20180719T180000
DTSTAMP:20260425T104755
CREATED:20180704T211904Z
LAST-MODIFIED:20180704T211904Z
UID:5201-1532023200-1532023200@ieo-lemosin.org
SUMMARY:Grande soirée Bal Trad’ : Les Frères Villeneuve + Super Parquet
DESCRIPTION:Dans le cadre du Festival Lézart Vert du 19 au 21 juillet 2018. \nSuper Parquet \n\n18h : Une mise en bal avec Tradalalune\, sous le chêne et sur un parquet\, pour commencer la soirée.\n20h30 : Les Frères Villeneuve\n22h30 : Électro trad avec Super Parquet\n\n> Prix libre.\n> Repas partagé. \nPer ne’n saubre mai – Renseignements\nAssociation Creuse Toujours (2 Rue de la Poste – 23290 St Etienne de Fursac) – 06 87 77 52 93 – lezartvert@creusetoujours.fr \n
URL:http://ieo-lemosin.org/evenement/grande-soiree-bal-trad-les-freres-villeneuve-super-parquet
LOCATION:Furçac – Fursac (23)
CATEGORIES:Monde Occitan
END:VEVENT
END:VCALENDAR