BEGIN:VCALENDAR
VERSION:2.0
PRODID:-//IEO Lemosin - ECPv4.9.9//NONSGML v1.0//EN
CALSCALE:GREGORIAN
METHOD:PUBLISH
X-WR-CALNAME:IEO Lemosin
X-ORIGINAL-URL:http://ieo-lemosin.org
X-WR-CALDESC:Events for IEO Lemosin
BEGIN:VTIMEZONE
TZID:Europe/Paris
BEGIN:DAYLIGHT
TZOFFSETFROM:+0100
TZOFFSETTO:+0200
TZNAME:CEST
DTSTART:20180325T010000
END:DAYLIGHT
BEGIN:STANDARD
TZOFFSETFROM:+0200
TZOFFSETTO:+0100
TZNAME:CET
DTSTART:20181028T010000
END:STANDARD
END:VTIMEZONE
BEGIN:VEVENT
DTSTART;VALUE=DATE:20180710
DTEND;VALUE=DATE:20180901
DTSTAMP:20260425T121115
CREATED:20180605T180840Z
LAST-MODIFIED:20180605T181102Z
UID:5097-1531180800-1535759999@ieo-lemosin.org
SUMMARY:Grande braderie de l’estampe avec l’association « Eau-forte »
DESCRIPTION:© Jan-Marc Simeonin \nL’association « Eau-Forte » est un groupe de graveurs basé à Chaptelat qui depuis plus de 30 ans produit des estampes originales et expose à Limoges et en Limousin. L’été sera l’occasion de voir la diversité de leur travail et aussi de pouvoir s’offrir une œuvre\, puisque l’exposition sera accompagnée d’une « braderie » vide-atelier où chacun pourra trouver son bonheur à bon marché. \n> Entrée libre aux heures d’ouverture de la librairie. \nPer ne’n saubre mai – Renseignements\nLibrariá occitana – 05 55 32 06 44 \n
URL:http://ieo-lemosin.org/evenement/grande-braderie-de-lestampe-avec-lassociation-eau-forte
LOCATION:Librariá occitana\, 42\, rua Viena Nauta – rue Haute-Vienne\, Limòtges – Limoges (87)
CATEGORIES:Libraria Occitana
END:VEVENT
BEGIN:VEVENT
DTSTART;VALUE=DATE:20180731
DTEND;VALUE=DATE:20180815
DTSTAMP:20260425T121115
CREATED:20180605T184617Z
LAST-MODIFIED:20180706T112514Z
UID:5108-1532995200-1534291199@ieo-lemosin.org
SUMMARY:Exposition « Marcelle & Anjela »
DESCRIPTION: \nMarcelle et Anjela\, ce sont deux poétesses du XXe siècle\, l’une occitane\, l’autre bretonne\, partageant un même combat : écrire dans leurs langues maternelles. Marcelle Delpastre\, agricultrice en Limousin\, ne se promène jamais sans son crayon noir et un cahier. Son premier poème en occitan « La Lenga que tant me platz » paraît en 1964. C’est à la même époque que la bretonne Anjela Duval publie dans la revue Ar Bed Keltick son premier texte. L’exposition vous invite à découvrir l’œuvre et la vie de ces deux figures féminines de la poésie contemporaine en langues régionales. \nVisite aux horaires d’ouverture de la Maison de l’arbre et de la nature : \n\nTous les jours de 10h à 12h et de 14h à 18h.\nJours fériés : de 10h à 12h et de 14h à 18h.\n\nPer ne’n saubre mai – Renseignements\nMaison de l’Arbre et de la Nature (1 route de Schillingsfurst – 19370 Chamberet) – 05 55 97 92 14 / 06 48 90 89 50 – maisondelarbre@orange.fr – www.maison-de-larbre.com \n \n
URL:http://ieo-lemosin.org/evenement/exposition-marcelle-anjela-2
LOCATION:Maison de l’Arbre et de la Nature\, Chambaret – Chamberet (19)
CATEGORIES:Monde Occitan
END:VEVENT
BEGIN:VEVENT
DTSTART;TZID=Europe/Paris:20180807T180000
DTEND;TZID=Europe/Paris:20180807T180000
DTSTAMP:20260425T121115
CREATED:20180605T190401Z
LAST-MODIFIED:20180706T112424Z
UID:5110-1533664800-1533664800@ieo-lemosin.org
SUMMARY:Nathanaël sous le figuier – récital par Marie-Laure Fraysse (accordéon) & Thérèse Canet (récitante)
DESCRIPTION:Dans le cadre de la Semaine Marcelle Delpastre organisée par la Médiathèque Vézère Monédières\, en partenariat avec le PNR Millevaches-en-Limousin « Las vias priondas de la memòria ». \nL’arboretum de Chamberet accueille une interprétation à deux voix du poème incantatoire\, comme un chant universel et profond adressé aux vivants\, aux astres\, aux éléments. \n> Organisé par la médiathèque intercommunale et la mairie de Chamberet.\n> Accès gratuit.\n> Tout public.\n> Réservation souhaitable : 05 55 97 92 14. \nPer ne’n saubre mai – Renseignements\nMaison de l’Arbre et de la Nature (1 route de Schillingsfurst – 19370 Chamberet) – 05 55 97 92 14 / 06 48 90 89 50 – maisondelarbre@orange.fr – www.maison-de-larbre.com \n \n
URL:http://ieo-lemosin.org/evenement/nathanael-sous-le-figuier-recital-par-marie-laure-fraysse-accordeon-therese-canet-recitante
LOCATION:Maison de l’Arbre et de la Nature\, Chambaret – Chamberet (19)
CATEGORIES:Monde Occitan
END:VEVENT
END:VCALENDAR