BEGIN:VCALENDAR
VERSION:2.0
PRODID:-//IEO Lemosin - ECPv4.9.9//NONSGML v1.0//EN
CALSCALE:GREGORIAN
METHOD:PUBLISH
X-WR-CALNAME:IEO Lemosin
X-ORIGINAL-URL:http://ieo-lemosin.org
X-WR-CALDESC:Events for IEO Lemosin
BEGIN:VTIMEZONE
TZID:Europe/Paris
BEGIN:DAYLIGHT
TZOFFSETFROM:+0100
TZOFFSETTO:+0200
TZNAME:CEST
DTSTART:20180325T010000
END:DAYLIGHT
BEGIN:STANDARD
TZOFFSETFROM:+0200
TZOFFSETTO:+0100
TZNAME:CET
DTSTART:20181028T010000
END:STANDARD
END:VTIMEZONE
BEGIN:VEVENT
DTSTART;VALUE=DATE:20181002
DTEND;VALUE=DATE:20181118
DTSTAMP:20260425T013347
CREATED:20180927T175747Z
LAST-MODIFIED:20180927T175905Z
UID:5436-1538438400-1542499199@ieo-lemosin.org
SUMMARY:Mòstra / Exposition photo : La vie retrouvée de St-Pardoux – Michèle Colonna-Varenne
DESCRIPTION: \nVidé\, le lac laisse place à d’étranges images.\n Parfois lunaires\, quand la végétation aux couleurs pastel\, s’impatiente à reconquérir le terrain.\n Parfois ferrugineuses\, quand le sous-sol suinte un rouge orangé\, vif et lumineux.\n Vie en suspens\, objets ressuscités nous font signe et nous parlent du temps qui passe.\n Graphisme\, poésie\, mystère\, tout est en place pour nous faire rêver et nous ensorceler ! (Michèle Colonna-Varenne) \nMichèle Colonna-Varenne fait partie de l’association Les Glaneurs d’images à Chaptelat. \n> Visible du 2 octobre au 17 novembre dans les horaires d’ouverture de la librairie.\n > Entrée libre et gratuite. \nPer ne’n saubre mai – Renseignements\nLibrariá occitana – 05 55 32 06 44 \n
URL:http://ieo-lemosin.org/evenement/mostra-exposition-photo-la-vie-retrouvee-de-st-pardoux-michele-colonna-varenne
LOCATION:Librariá occitana\, 42\, rua Viena Nauta – rue Haute-Vienne\, Limòtges – Limoges (87)
CATEGORIES:Libraria Occitana
END:VEVENT
BEGIN:VEVENT
DTSTART;TZID=Europe/Paris:20181024T180000
DTEND;TZID=Europe/Paris:20181024T180000
DTSTAMP:20260425T013347
CREATED:20180605T160746Z
LAST-MODIFIED:20180605T170053Z
UID:5088-1540404000-1540404000@ieo-lemosin.org
SUMMARY:Conférence et vidéo : « Bertran de Born » par Jean-Pierre Thuillat
DESCRIPTION: \nLe seigneur-troubadour d’Hautefort a fait couler beaucoup d’encre. Ses poèmes politiques\, sorte de « rap » avant l’heure\, lui ont valu une réputation de Va-t-en guerre. Mais le personnage paraît bien plus complexe. À travers ses « cansous »\, Jean-Pierre Thuillat nous transporte dans le Limousin et le Périgord du 12è siècle\, au temps d’Aliénor et de Richard Cœur de Lion. \nJean-Pierre Thuillat est médiéviste de formation\, poète et éditeur de poètes. Directeur de la revue Friches\, Cahiers de Poésie Verte\, fondée en 1983\, il se tient au carrefour des trois routes qui conduisent aux troubadours : celle de l’histoire médiévale\, celle de la poésie et celle de la langue occitane.\n Il est l’auteur d’une biographie de Bertran de Born (Bertran de Born : Histoire et légende\, 2009\, éd. Fanlac)\, et d’une présentation-traduction de ses chansons parue tout dernièrement (Haut & fort : Chansons de Bertran de Born\, 2018\, Fédérop). \n> Entrée libre.\n > Conférence en français avec extraits de poèmes en occitan. \nPer ne’n saubre mai – Renseignements\nLibrariá occitana – 05 55 32 06 44 \n
URL:http://ieo-lemosin.org/evenement/diapo-conference-bertran-de-born-par-jean-pierre-thuillat
LOCATION:Librariá occitana\, 42\, rua Viena Nauta – rue Haute-Vienne\, Limòtges – Limoges (87)
CATEGORIES:Libraria Occitana
END:VEVENT
END:VCALENDAR