BEGIN:VCALENDAR
VERSION:2.0
PRODID:-//IEO Lemosin - ECPv4.9.9//NONSGML v1.0//EN
CALSCALE:GREGORIAN
METHOD:PUBLISH
X-WR-CALNAME:IEO Lemosin
X-ORIGINAL-URL:http://ieo-lemosin.org
X-WR-CALDESC:Events for IEO Lemosin
BEGIN:VTIMEZONE
TZID:Europe/Paris
BEGIN:DAYLIGHT
TZOFFSETFROM:+0100
TZOFFSETTO:+0200
TZNAME:CEST
DTSTART:20180325T010000
END:DAYLIGHT
BEGIN:STANDARD
TZOFFSETFROM:+0200
TZOFFSETTO:+0100
TZNAME:CET
DTSTART:20181028T010000
END:STANDARD
END:VTIMEZONE
BEGIN:VEVENT
DTSTART;VALUE=DATE:20181002
DTEND;VALUE=DATE:20181118
DTSTAMP:20260424T111859
CREATED:20180927T175747Z
LAST-MODIFIED:20180927T175905Z
UID:5436-1538438400-1542499199@ieo-lemosin.org
SUMMARY:Mòstra / Exposition photo : La vie retrouvée de St-Pardoux – Michèle Colonna-Varenne
DESCRIPTION: \nVidé\, le lac laisse place à d’étranges images.\n Parfois lunaires\, quand la végétation aux couleurs pastel\, s’impatiente à reconquérir le terrain.\n Parfois ferrugineuses\, quand le sous-sol suinte un rouge orangé\, vif et lumineux.\n Vie en suspens\, objets ressuscités nous font signe et nous parlent du temps qui passe.\n Graphisme\, poésie\, mystère\, tout est en place pour nous faire rêver et nous ensorceler ! (Michèle Colonna-Varenne) \nMichèle Colonna-Varenne fait partie de l’association Les Glaneurs d’images à Chaptelat. \n> Visible du 2 octobre au 17 novembre dans les horaires d’ouverture de la librairie.\n > Entrée libre et gratuite. \nPer ne’n saubre mai – Renseignements\nLibrariá occitana – 05 55 32 06 44 \n
URL:http://ieo-lemosin.org/evenement/mostra-exposition-photo-la-vie-retrouvee-de-st-pardoux-michele-colonna-varenne
LOCATION:Librariá occitana\, 42\, rua Viena Nauta – rue Haute-Vienne\, Limòtges – Limoges (87)
CATEGORIES:Libraria Occitana
END:VEVENT
BEGIN:VEVENT
DTSTART;TZID=Europe/Paris:20181103T103000
DTEND;TZID=Europe/Paris:20181103T120000
DTSTAMP:20260424T111859
CREATED:20180124T222459Z
LAST-MODIFIED:20180911T181309Z
UID:5369-1541241000-1541246400@ieo-lemosin.org
SUMMARY:Café occitan
DESCRIPTION:Un moment de rencontre pour échanger autour de la langue et de la culture limousines… le café est offert ! \nProchaines rencontres : \n\nsamedi 06 octobre 2018\nsamedi 03 novembre 2018\nsamedi 22 décembre 2018\n\nEn espérant vous rencontrer bientôt ! \nPer ne’n saubre mai e se marcar – Renseignements et inscriptions\nBibliothèque municipale Georges-Emmanuel Clancier (Place Denis Dussoubs – 87400 Saint-Léonard-de-Noblat) – 05 55 56 76 87 – bibliotheque.municipale@ville-saint-leonard.fr \n \n
URL:http://ieo-lemosin.org/evenement/cafe-occitan-5-2-2-2-2-2-2
LOCATION:Biblioteca – Bibliothèque Georges-Emmanuel Clancier\, Sent Liunard – Saint-Léonard-de-Noblat (87)
CATEGORIES:Monde Occitan
END:VEVENT
BEGIN:VEVENT
DTSTART;TZID=Europe/Paris:20181103T150000
DTEND;TZID=Europe/Paris:20181103T170000
DTSTAMP:20260424T111859
CREATED:20180912T114236Z
LAST-MODIFIED:20180912T212325Z
UID:5395-1541257200-1541264400@ieo-lemosin.org
SUMMARY:« Cafè platussant » en compagnie de Monica Sarrasin
DESCRIPTION:« Je le comprends mais je le parle pas »\n« Je trouve (plus) personne pour parler » \nVenez donc passer un petit moment à la librairie pour platussar (bavarder) en occitan – « limousin » ou « patois » à votre guise.\n On y parlera de tout et de rien\, on pourra raconter des histoires ou un bon souvenir\, chanter une chanson ou lire un texte\, et partager tout ça autour d’une tasse de thé ou de café. \n> Entrée libre. \nPer ne’n saubre mai – Renseignements\nLibrariá occitana – 05 55 32 06 44 \n
URL:http://ieo-lemosin.org/evenement/cafe-platussant-en-compagnie-de-monica-sarrasin-2
LOCATION:Librariá occitana\, 42\, rua Viena Nauta – rue Haute-Vienne\, Limòtges – Limoges (87)
CATEGORIES:Libraria Occitana
END:VEVENT
BEGIN:VEVENT
DTSTART;TZID=Europe/Paris:20181103T203000
DTEND;TZID=Europe/Paris:20181103T203000
DTSTAMP:20260424T111859
CREATED:20180423T110634Z
LAST-MODIFIED:20180912T112224Z
UID:5381-1541277000-1541277000@ieo-lemosin.org
SUMMARY:« Contes d'aicí\, Contes d'ailà » : contes nomades – Malika Verlaguet
DESCRIPTION: \nLa conteuse\nCertains la disent « nomade enracinée »… Avant de conter\, Malika Verlaguet a beaucoup écouté\, regardé\, joué\, rêvassé\, un peu voyagé… et après avoir suivi une voie théâtrale\, étudié les langues puis enseigné dans une école bilingue\, c’est l’art du conte qui a eu sa préférence !\n Depuis 2002\, elle a petit à petit fait son nid avec des brindilles glanées çà et là auprès de conteurs inspirés et inspirants\, en renouant avec sa culture occitane. Lorsqu’elle raconte\, elle égaye ses contes en les parsemant d’occitan car\, pour elle\, cette langue\, aussi régionale soit-elle\, n’est pas une frontière. C’est un clin d’œil à ses ancêtres\, c’est une note d’originalité\, une musique\, mais c’est aussi l’expression d’un désir d’ouverture et de diversité. \nSon spectacle : « Contes d’aicí\, Contes d’ailà » : contes nomades\nSous ce titre vagabond et sautillant se cache un répertoire sauvage de contes mis côte à côte\, mais qui\, dans leur grande diversité\, vivent en bonne harmonie. \nIls ont pour point commun le fait d’avoir voyagé de bouche à oreille\, traversé le temps et l’espace\, pour nous parler des grands mystères du monde\, mais aussi de nos petites vies intérieures: de nos joies\, de nos chagrins\, de nos peurs\, de nos espoirs\, de nos désirs secrets… grâce à des personnages qui font le chemin pour nous. \nEt puis deux langues\, française et occitane : l’une qui éclaire l’autre. Des langues non pas perçues comme des frontières mais comme des passeports pour l’émotion et l’imaginaire. \nLà où le tout petit se relie à l’universel\, s’ouvre un espace de liberté. Le temps semble s’y arrêter\, le temps d’un conte… \n> Spectacle à durée indéterminée (environ 1h10) pour oreilles sans origine contrôlée…\n > Pour un public aussi divers que peuvent l’être les langues et les gens petits et grands… \n
URL:http://ieo-lemosin.org/evenement/larbre-qui-parle-conte-malika-verlaguet-2
LOCATION:Bujac – Bugeat (19)
CATEGORIES:Monde Occitan
END:VEVENT
END:VCALENDAR