BEGIN:VCALENDAR
VERSION:2.0
PRODID:-//IEO Lemosin - ECPv4.9.9//NONSGML v1.0//EN
CALSCALE:GREGORIAN
METHOD:PUBLISH
X-WR-CALNAME:IEO Lemosin
X-ORIGINAL-URL:http://ieo-lemosin.org
X-WR-CALDESC:Events for IEO Lemosin
BEGIN:VTIMEZONE
TZID:Europe/Paris
BEGIN:DAYLIGHT
TZOFFSETFROM:+0100
TZOFFSETTO:+0200
TZNAME:CEST
DTSTART:20180325T010000
END:DAYLIGHT
BEGIN:STANDARD
TZOFFSETFROM:+0200
TZOFFSETTO:+0100
TZNAME:CET
DTSTART:20181028T010000
END:STANDARD
END:VTIMEZONE
BEGIN:VEVENT
DTSTART;TZID=Europe/Paris:20181118T100000
DTEND;TZID=Europe/Paris:20181118T180000
DTSTAMP:20260423T102405
CREATED:20181116T183409Z
LAST-MODIFIED:20181116T183409Z
UID:5653-1542535200-1542564000@ieo-lemosin.org
SUMMARY:La Librariá occitana a la prumiera Festa dau Libre de Sent Iriès d'Aissa
DESCRIPTION:Avec Pierre-Jean Baranger\, Jean-Pierre Bonnet\, Laurent Bourdelas\, Vincent Brousse\, Laurence Jardy\, Michel-C. Kiener\, Laurine Lavieille\, Benjamin Leduc\, Jean-Jacques Mauriat\, Valérie Mazet\, Sylvie Ongenae\, Laure Phelipon\, Maurice Robert\, Sandrine-Marie Simon et Pierre Taverniers\, la librairie La Maison bleue (Saint-Junien) et la Librariá occitana (Limoges). \n> Organisé par l’Association de loisirs. \nPer ne’n saubre mai – Renseignements\nAssociation de loisirs pour tous\, Isabel Massurier-Godefroy – 06 03 89 00 15 \n
URL:http://ieo-lemosin.org/evenement/la-libraria-occitana-a-la-prumiera-festa-dau-libre-de-sent-iries-daissa
LOCATION:Sala de las festas – Salle des fêtes\, Sent Iriès d’Aissa – Saint-Yrieix-sous-Aixe (87)
CATEGORIES:Libraria Occitana,Monde Occitan
END:VEVENT
END:VCALENDAR