BEGIN:VCALENDAR
VERSION:2.0
PRODID:-//IEO Lemosin - ECPv4.9.9//NONSGML v1.0//EN
CALSCALE:GREGORIAN
METHOD:PUBLISH
X-WR-CALNAME:IEO Lemosin
X-ORIGINAL-URL:http://ieo-lemosin.org
X-WR-CALDESC:Events for IEO Lemosin
BEGIN:VTIMEZONE
TZID:Europe/Paris
BEGIN:DAYLIGHT
TZOFFSETFROM:+0100
TZOFFSETTO:+0200
TZNAME:CEST
DTSTART:20180325T010000
END:DAYLIGHT
BEGIN:STANDARD
TZOFFSETFROM:+0200
TZOFFSETTO:+0100
TZNAME:CET
DTSTART:20181028T010000
END:STANDARD
END:VTIMEZONE
BEGIN:VEVENT
DTSTART;VALUE=DATE:20181120
DTEND;VALUE=DATE:20181230
DTSTAMP:20260422T220701
CREATED:20181110T202129Z
LAST-MODIFIED:20181110T214944Z
UID:5566-1542672000-1546127999@ieo-lemosin.org
SUMMARY:Exposition de peintures – K.O.P.
DESCRIPTION: \nSous le pseudonyme K.O.P.\, se cache Bernard Cauhapé\, artiste rouergat aux talents multiples : tour à tour acteur de théâtre (il est l’un des fondateurs de la Comedia dell’oc)\, chanteur-compositeur (avec le Savignoni Trio\, « lo papet » propose du jazz manouche)\, écrivain (Pensées bêtes en 2016)\, mais aussi illustrateur. Ses outils sont la plume\, l’aquarelle\, et l’acrylique.\n Dans cette exposition faite sur mesure\, il a accepté de mettre en images des mots et expressions bien connues des Limousins\, parmi lesquelles « banturle » ou le fameux « ’Chabatz d’entrar ! ». \n> Vernissage mardi 20 novembre à 18h.\n > Entrée libre aux heures d’ouverture de la librairie. \nPer ne’n saubre mai – Renseignements\nLibrariá occitana – 05 55 32 06 44 – libraria.occitana@ieo-lemosin.org \n
URL:http://ieo-lemosin.org/evenement/exposition-de-peintures-kop
LOCATION:Librariá occitana\, 42\, rua Viena Nauta – rue Haute-Vienne\, Limòtges – Limoges (87)
CATEGORIES:Libraria Occitana
END:VEVENT
BEGIN:VEVENT
DTSTART;TZID=Europe/Paris:20181126T200000
DTEND;TZID=Europe/Paris:20181126T200000
DTSTAMP:20260422T220701
CREATED:20141105T181312Z
LAST-MODIFIED:20180912T113048Z
UID:5390-1543262400-1543262400@ieo-lemosin.org
SUMMARY:Cafè occitan
DESCRIPTION:Tornam nos trobar per beure un còp e far petar la linga ! \n– Lo comprenetz mas avetz jamai ausat vos li metre ?\n – Aimariatz iò parlar mas quò vos ‘riba pas bien sovent ?\n – Auriatz bien envia mas avetz paur de l’escharonhar ? \nVenetz\, ‘quela sernada es facha per vos !!! Bien benaises dins l’ambiança chalorosa  de l’O’Brien\, (tornaratz) trobar los mots e lo plaser de bargassar ! \n> Rendetz-vos per lo Cafè occitan tots los darriers diluns dau mes.\n > Organizat per Arri! e la Libraria occitana\, emb l’ajuda dau Cafè O’Brien Tavern.\n > Per pas perdre la man\, eee… la linga\, venetz au Cafè de las lingas\, un autre diluns dau mes  (veire Paja Facebook per las datas\, mesma ora\, mesme endrech\, taula occitan). \nPer ne’n saubre mai\nArri! – arrilemosin@free.fr – http://arrilemosin.free.fr/\n Libraria occitana – 05 55 32 06 44 \n \n
URL:http://ieo-lemosin.org/evenement/cafe-occitan-novembre2018
LOCATION:Cafè – Pub O’Brien Tavern\, Limòtges – Limoges (87)
CATEGORIES:Libraria Occitana
END:VEVENT
END:VCALENDAR