BEGIN:VCALENDAR
VERSION:2.0
PRODID:-//IEO Lemosin - ECPv4.9.9//NONSGML v1.0//EN
CALSCALE:GREGORIAN
METHOD:PUBLISH
X-WR-CALNAME:IEO Lemosin
X-ORIGINAL-URL:http://ieo-lemosin.org
X-WR-CALDESC:Events for IEO Lemosin
BEGIN:VTIMEZONE
TZID:Europe/Paris
BEGIN:DAYLIGHT
TZOFFSETFROM:+0100
TZOFFSETTO:+0200
TZNAME:CEST
DTSTART:20180325T010000
END:DAYLIGHT
BEGIN:STANDARD
TZOFFSETFROM:+0200
TZOFFSETTO:+0100
TZNAME:CET
DTSTART:20181028T010000
END:STANDARD
END:VTIMEZONE
BEGIN:VEVENT
DTSTART;VALUE=DATE:20181120
DTEND;VALUE=DATE:20181230
DTSTAMP:20260421T051826
CREATED:20181110T202129Z
LAST-MODIFIED:20181110T214944Z
UID:5566-1542672000-1546127999@ieo-lemosin.org
SUMMARY:Exposition de peintures – K.O.P.
DESCRIPTION: \nSous le pseudonyme K.O.P.\, se cache Bernard Cauhapé\, artiste rouergat aux talents multiples : tour à tour acteur de théâtre (il est l’un des fondateurs de la Comedia dell’oc)\, chanteur-compositeur (avec le Savignoni Trio\, « lo papet » propose du jazz manouche)\, écrivain (Pensées bêtes en 2016)\, mais aussi illustrateur. Ses outils sont la plume\, l’aquarelle\, et l’acrylique.\n Dans cette exposition faite sur mesure\, il a accepté de mettre en images des mots et expressions bien connues des Limousins\, parmi lesquelles « banturle » ou le fameux « ’Chabatz d’entrar ! ». \n> Vernissage mardi 20 novembre à 18h.\n > Entrée libre aux heures d’ouverture de la librairie. \nPer ne’n saubre mai – Renseignements\nLibrariá occitana – 05 55 32 06 44 – libraria.occitana@ieo-lemosin.org \n
URL:http://ieo-lemosin.org/evenement/exposition-de-peintures-kop
LOCATION:Librariá occitana\, 42\, rua Viena Nauta – rue Haute-Vienne\, Limòtges – Limoges (87)
CATEGORIES:Libraria Occitana
END:VEVENT
BEGIN:VEVENT
DTSTART;TZID=Europe/Paris:20181222T103000
DTEND;TZID=Europe/Paris:20181222T120000
DTSTAMP:20260421T051826
CREATED:20180124T222459Z
LAST-MODIFIED:20180911T181343Z
UID:5371-1545474600-1545480000@ieo-lemosin.org
SUMMARY:Café occitan
DESCRIPTION:Un moment de rencontre pour échanger autour de la langue et de la culture limousines… le café est offert ! \nProchaines rencontres : \n\nsamedi 06 octobre 2018\nsamedi 03 novembre 2018\nsamedi 22 décembre 2018\n\nEn espérant vous rencontrer bientôt ! \nPer ne’n saubre mai e se marcar – Renseignements et inscriptions\nBibliothèque municipale Georges-Emmanuel Clancier (Place Denis Dussoubs – 87400 Saint-Léonard-de-Noblat) – 05 55 56 76 87 – bibliotheque.municipale@ville-saint-leonard.fr \n \n
URL:http://ieo-lemosin.org/evenement/cafe-occitan-5-2-2-2-2-2-2-2
LOCATION:Biblioteca – Bibliothèque Georges-Emmanuel Clancier\, Sent Liunard – Saint-Léonard-de-Noblat (87)
CATEGORIES:Monde Occitan
END:VEVENT
BEGIN:VEVENT
DTSTART;TZID=Europe/Paris:20181222T200000
DTEND;TZID=Europe/Paris:20181222T200000
DTSTAMP:20260421T051826
CREATED:20180312T171941Z
LAST-MODIFIED:20180312T171941Z
UID:4752-1545508800-1545508800@ieo-lemosin.org
SUMMARY:Chants de Noël et Histoires de pays en occitan
DESCRIPTION:Chants de Noël avec la Tireta Duberta dans l’église\, suivi par Histoires de Pays à la salle des fêtes avec Patrick Ratineaud. \n> Pot de l’amitié offert.\n > Tarif : Gratuit. \nPer ne’n saubre mai – Renseignements\nUnion Occitane Camille Chabaneau – 05 53 56 61 89 \n
URL:http://ieo-lemosin.org/evenement/chants-de-noel-et-histoires-de-pays-en-occitan
LOCATION:Egleisa – Église\, Soudat (24)
CATEGORIES:Monde Occitan
END:VEVENT
END:VCALENDAR