BEGIN:VCALENDAR
VERSION:2.0
PRODID:-//IEO Lemosin - ECPv4.9.9//NONSGML v1.0//EN
CALSCALE:GREGORIAN
METHOD:PUBLISH
X-WR-CALNAME:IEO Lemosin
X-ORIGINAL-URL:http://ieo-lemosin.org
X-WR-CALDESC:Events for IEO Lemosin
BEGIN:VTIMEZONE
TZID:Europe/Paris
BEGIN:DAYLIGHT
TZOFFSETFROM:+0100
TZOFFSETTO:+0200
TZNAME:CEST
DTSTART:20190331T010000
END:DAYLIGHT
BEGIN:STANDARD
TZOFFSETFROM:+0200
TZOFFSETTO:+0100
TZNAME:CET
DTSTART:20191027T010000
END:STANDARD
END:VTIMEZONE
BEGIN:VEVENT
DTSTART;TZID=Europe/Paris:20190105T150000
DTEND;TZID=Europe/Paris:20190105T170000
DTSTAMP:20260420T070354
CREATED:20180912T114236Z
LAST-MODIFIED:20181215T102504Z
UID:5741-1546700400-1546707600@ieo-lemosin.org
SUMMARY:« Cafè platussant » en compagnie de Monica Sarrasin
DESCRIPTION:« Je le comprends mais je le parle pas »\n« Je trouve (plus) personne pour parler » \nVenez donc passer un petit moment à la librairie pour platussar (bavarder) en occitan – « limousin » ou « patois » à votre guise.\n On y parlera de tout et de rien\, on pourra raconter des histoires ou un bon souvenir\, chanter une chanson ou lire un texte\, et partager tout ça autour d’une tasse de thé ou de café. \n> Entrée libre. \nPer ne’n saubre mai – Renseignements\nLibrariá occitana – 05 55 32 06 44 \n
URL:http://ieo-lemosin.org/evenement/cafe-platussant-en-compagnie-de-monica-sarrasin-genier2019
LOCATION:Librariá occitana\, 42\, rua Viena Nauta – rue Haute-Vienne\, Limòtges – Limoges (87)
CATEGORIES:Libraria Occitana
END:VEVENT
END:VCALENDAR