BEGIN:VCALENDAR
VERSION:2.0
PRODID:-//IEO Lemosin - ECPv4.9.9//NONSGML v1.0//EN
CALSCALE:GREGORIAN
METHOD:PUBLISH
X-WR-CALNAME:IEO Lemosin
X-ORIGINAL-URL:http://ieo-lemosin.org
X-WR-CALDESC:Events for IEO Lemosin
BEGIN:VTIMEZONE
TZID:Europe/Paris
BEGIN:DAYLIGHT
TZOFFSETFROM:+0100
TZOFFSETTO:+0200
TZNAME:CEST
DTSTART:20190331T010000
END:DAYLIGHT
BEGIN:STANDARD
TZOFFSETFROM:+0200
TZOFFSETTO:+0100
TZNAME:CET
DTSTART:20191027T010000
END:STANDARD
END:VTIMEZONE
BEGIN:VEVENT
DTSTART;VALUE=DATE:20190108
DTEND;VALUE=DATE:20190217
DTSTAMP:20260420T000548
CREATED:20181215T105503Z
LAST-MODIFIED:20181226T132600Z
UID:5765-1546905600-1550361599@ieo-lemosin.org
SUMMARY:Mòstra / Exposition de gravure de Jean-Claude Caffin
DESCRIPTION: \nJean-Claude Caffin vit en Limousin depuis 1945. Agrégé d’arts plastiques\, il les a enseigné à l’IUFM de Limoges de 1967 à 1999. \nIl peint depuis 1970 et grave depuis 1980. Il est à l’origine de la création de l’association limousine « Eau-Forte ». \n« La peinture et la gravure\, bien que très différentes l’une de l’autre – couleur / noir et blanc – surface / trait – ont en commun la particularité de créer des espaces abstraits dans lesquels notre intelligence\, notre sensibilité aiment à se chercher\, à se retrouver pour s’y perdre à nouveau. » \n> Vernissage mardi 8 janvier à 18h.\n > Entrée libre aux heures d’ouverture de la librairie. \nPer ne’n saubre mai – Renseignements\nLibrariá occitana – 05 55 32 06 44 – libraria-occitana@ieo-lemosin.org \n
URL:http://ieo-lemosin.org/evenement/mostra-exposition-jean-claude-caffin-peinture-gravure
LOCATION:Librariá occitana\, 42\, rua Viena Nauta – rue Haute-Vienne\, Limòtges – Limoges (87)
CATEGORIES:Libraria Occitana
END:VEVENT
END:VCALENDAR