BEGIN:VCALENDAR
VERSION:2.0
PRODID:-//IEO Lemosin - ECPv4.9.9//NONSGML v1.0//EN
CALSCALE:GREGORIAN
METHOD:PUBLISH
X-WR-CALNAME:IEO Lemosin
X-ORIGINAL-URL:http://ieo-lemosin.org
X-WR-CALDESC:Events for IEO Lemosin
BEGIN:VTIMEZONE
TZID:Europe/Paris
BEGIN:DAYLIGHT
TZOFFSETFROM:+0100
TZOFFSETTO:+0200
TZNAME:CEST
DTSTART:20190331T010000
END:DAYLIGHT
BEGIN:STANDARD
TZOFFSETFROM:+0200
TZOFFSETTO:+0100
TZNAME:CET
DTSTART:20191027T010000
END:STANDARD
END:VTIMEZONE
BEGIN:VEVENT
DTSTART;VALUE=DATE:20190903
DTEND;VALUE=DATE:20191020
DTSTAMP:20260424T155624
CREATED:20181215T105503Z
LAST-MODIFIED:20190821T200857Z
UID:6528-1567468800-1571529599@ieo-lemosin.org
SUMMARY:Mòstra / Exposition « Promenons-nous dans les bois » – Mariette Forges
DESCRIPTION: \nOn connaît les sculptures de Mariette Forges.\n Elle présentera ici quelques peintures\, pastels et gravures.\n Cette artiste plasticienne originaire de Tulle réside à Limoges.\n Particulièrement sensible à la beauté de la campagne limousine\, elle peint bois et sous-bois\, à l’huile\, à l’acrylique ou au pastel sec. S’ajouteront quelques gravures évoquant parfois des souvenirs d’enfance corrézienne. \n> Vernissage mercredi 4 septembre à 18h.\n > Entrée libre aux heures d’ouverture de la librairie. \nPer ne’n saubre mai – Renseignements\nLibrariá occitana – 05 55 32 06 44 – libraria-occitana@ieo-lemosin.org \n
URL:http://ieo-lemosin.org/evenement/mostra-exposition-promenons-nous-dans-les-bois-mariette-forges
LOCATION:Librariá occitana\, 42\, rua Viena Nauta – rue Haute-Vienne\, Limòtges – Limoges (87)
CATEGORIES:Libraria Occitana
END:VEVENT
BEGIN:VEVENT
DTSTART;VALUE=DATE:20190927
DTEND;VALUE=DATE:20190930
DTSTAMP:20260424T155624
CREATED:20170912T172954Z
LAST-MODIFIED:20190913T173915Z
UID:6445-1569542400-1569801599@ieo-lemosin.org
SUMMARY:La Librariá occitana + Georges Châtain a la Festa de la Montanha lemosina
DESCRIPTION:La Fête de la Montagne limousine est la fête où celles et ceux qui vivent et travaillent sur la Montagne limousine se rencontrent\, débattent et construisent une vie commune. Ouverte à tous\, c’est une fête gratuite avec des concerts\, un marché de producteurs\, des stands de présentation du savoir-faire local\, des animations\, des débats\, des films\, des buvettes et mille et une occasions de rencontres. C’est le lieu idéal pour que se parlent\, débattent\, s’amusent et réfléchissent ensemble les habitants et habitantes de la Montagne. \n\nSamedi et dimanche : Présence de la Librariá occitana (stand de livres\, CD\, DVD). \n\n\nSamedi 28 septembre à 10h30 : Georges Châtain présentera son livre Georges Guingouin : Itinéraire d’une pensée militante puis le dédicacera sur le stand de la Librariá occitana.\n\n \n« Nombreux sont les livres\, les études\, les réalisations audiovisuelles diffusés sur Georges Guingouin. Ils permettent de dresser un portrait objectif de ce personnage historique de la Résistance et du Limousin contemporain.\n Derrière l’image du Robin des Bois\, le chef de guerre et le dissident indiscipliné\, se cache le penseur politique. Cet aspect a été peu exploré. Or\, Georges Guingouin a inscrit les épisodes successifs de sa vie et ses écrits dans la rigueur d’une pensée sociale et morale en ligne droite. Journaliste\, analyste des relations internationales avant la Seconde Guerre mondiale mais aussi des tumultes et des bouleversements politiques de l’après-guerre\, il est l’auteur d’un appel à la Résistance dès l’été 1940. Les textes rassemblés dans cet ouvrage manifestent la continuité d’un engagement individuel dans une période qui ne manque ni de volte-face\, ni de reniements\, et encore moins de désillusions. À ce titre\, ils apportent un éclairage que résume parfaitement l’un des ultimes propos de sa vie : « je n’ai jamais considéré l’obéissance comme une vertu communiste ».» \nGeorges Châtain\, journaliste indépendant\, a travaillé pour la presse nationale (Le Monde\, Le Point\, La Vie ouvrière)\, étrangère (Révolution africaine\, Alger) et régionale (L’Écho du Centre\, France 3 Limousin). Réalisateur de films documentaires\, auteur\, il a signé également de nombreux textes sur le patrimoine du Limousin et sur l’Histoire. \nÉditions Le Puy Fraud\, 2018\, 19\,50 €. \nPer ne’n saubre mai – Renseignements\nhttp://www.montagnelimousine.net/ \n  \n
URL:http://ieo-lemosin.org/evenement/festa-de-la-montanha-lemosina-2019
LOCATION:Saint-Martin-le-Château (23)
CATEGORIES:IEO Lemosin,Libraria Occitana,Monde Occitan
END:VEVENT
BEGIN:VEVENT
DTSTART;TZID=Europe/Paris:20190928T200000
DTEND;TZID=Europe/Paris:20190928T200000
DTSTAMP:20260424T155624
CREATED:20190920T111802Z
LAST-MODIFIED:20190920T111913Z
UID:6629-1569700800-1569700800@ieo-lemosin.org
SUMMARY:Causeries occitanes : La Tireta chante et Patrick Ratineaud conte...
DESCRIPTION:Soirée « Histoires de Pays » racontées par Patrick Ratineaud de l’Association « Union Occitane Camille Chabaneau » et entrecoupées par des chants du groupe vocal « La Tireta Duberta ». Histoires racontant de manière interactive avec le public les traditions du Périgord Limousin. \n> Organisé par l’Office de Tourisme du Val de Vienne avec le soutien du Parc Naturel Régional Périgord-Limousin dans le cadre des Causeries Occitanes.\n > Gratuit. \nPer ne’n saubre mai – Renseignements\nOT du Val de Vienne – 05 55 70 19 71 – info@ot-valdevienne.com – www.ot-valdevienne.com \n
URL:http://ieo-lemosin.org/evenement/causeries-occitanes-la-tireta-chante-et-patrick-ratineaud-conte
LOCATION:Sala – Salle Yves Montand\, Aissa – Aixe-sur-Vienne (87)
CATEGORIES:Monde Occitan
END:VEVENT
BEGIN:VEVENT
DTSTART;TZID=Europe/Paris:20190928T203000
DTEND;TZID=Europe/Paris:20190928T203000
DTSTAMP:20260424T155624
CREATED:20190329T203223Z
LAST-MODIFIED:20190925T132436Z
UID:6143-1569702600-1569702600@ieo-lemosin.org
SUMMARY:Concert À la Quinte (avec Hélène Boucher\, Pierre & Yrieix Delaunay)
DESCRIPTION:! COMPLET ! COMPLET ! COMPLET ! COMPLET ! COMPLET ! COMPLET ! COMPLET ! \nVoilà cinq voix qui s’accordent en limousin…\n De la couvée du mode à peine dérangés\,\n Collectés ou d’auteur\, protégés de bourdons\,\n Chacun verra passer\, qu’il a déjà croisés\, \nDes faucheurs\, une caille et tout un mois de mai\,\n Un pigeonnier\, un bois\, un château\, même un pont\, \n Celui de Lyon cette fois-ci\, plusieurs ribières\,\n Le loup\, du guilaneu\, une fille et son père\, \nEt ces petits souliers de l’oreille d’un lièvre…\n Chanter devant le monde ? Elles n’en font pas métier… \n Mais voilà qu’il se dit qu’y vient un musicien \n Qui porte la cadence\, des cordes\, son fifre : \nAlors\, c’est dit : elles essaient pour une veillée !\n De grand drame en petit\, les paroles varient ;\n Les airs sont quant à eux proches comme cousins…\n Les voix ? Ah\, ma parole\, on dirait qu’elles sont sœurs ! \nMorceau du groupe À la Quinte extrait de la double compilation La capforcha éditée par La Voix des Sirènes en décembre 2018 : \n \n> Participation libre au chapeau.\n > Nombre de places limité\, inscription conseillée au 05 55 32 06 44.\n > En occitan. \nPer ne’n saubre mai – Renseignements\nLibrariá occitana – 05 55 32 06 44 – libraria.occitana@ieo-lemosin.org \n
URL:http://ieo-lemosin.org/evenement/concert-a-la-quinte-avec-helene-boucher-pierre-yrieix-delaunay
LOCATION:Librariá occitana\, 42\, rua Viena Nauta – rue Haute-Vienne\, Limòtges – Limoges (87)
CATEGORIES:Libraria Occitana
END:VEVENT
END:VCALENDAR