BEGIN:VCALENDAR
VERSION:2.0
PRODID:-//IEO Lemosin - ECPv4.9.9//NONSGML v1.0//EN
CALSCALE:GREGORIAN
METHOD:PUBLISH
X-WR-CALNAME:IEO Lemosin
X-ORIGINAL-URL:http://ieo-lemosin.org
X-WR-CALDESC:Events for IEO Lemosin
BEGIN:VTIMEZONE
TZID:Europe/Paris
BEGIN:DAYLIGHT
TZOFFSETFROM:+0100
TZOFFSETTO:+0200
TZNAME:CEST
DTSTART:20190331T010000
END:DAYLIGHT
BEGIN:STANDARD
TZOFFSETFROM:+0200
TZOFFSETTO:+0100
TZNAME:CET
DTSTART:20191027T010000
END:STANDARD
END:VTIMEZONE
BEGIN:VEVENT
DTSTART;VALUE=DATE:20190903
DTEND;VALUE=DATE:20191020
DTSTAMP:20260424T143232
CREATED:20181215T105503Z
LAST-MODIFIED:20190821T200857Z
UID:6528-1567468800-1571529599@ieo-lemosin.org
SUMMARY:Mòstra / Exposition « Promenons-nous dans les bois » – Mariette Forges
DESCRIPTION: \nOn connaît les sculptures de Mariette Forges.\n Elle présentera ici quelques peintures\, pastels et gravures.\n Cette artiste plasticienne originaire de Tulle réside à Limoges.\n Particulièrement sensible à la beauté de la campagne limousine\, elle peint bois et sous-bois\, à l’huile\, à l’acrylique ou au pastel sec. S’ajouteront quelques gravures évoquant parfois des souvenirs d’enfance corrézienne. \n> Vernissage mercredi 4 septembre à 18h.\n > Entrée libre aux heures d’ouverture de la librairie. \nPer ne’n saubre mai – Renseignements\nLibrariá occitana – 05 55 32 06 44 – libraria-occitana@ieo-lemosin.org \n
URL:http://ieo-lemosin.org/evenement/mostra-exposition-promenons-nous-dans-les-bois-mariette-forges
LOCATION:Librariá occitana\, 42\, rua Viena Nauta – rue Haute-Vienne\, Limòtges – Limoges (87)
CATEGORIES:Libraria Occitana
END:VEVENT
BEGIN:VEVENT
DTSTART;TZID=Europe/Paris:20191019T140000
DTEND;TZID=Europe/Paris:20191020T183000
DTSTAMP:20260424T143232
CREATED:20190920T110524Z
LAST-MODIFIED:20191002T175229Z
UID:6626-1571493600-1571596200@ieo-lemosin.org
SUMMARY:« Les chants et les gestes du peuple de carnaval » : Estagi de chant coma Manu Théron
DESCRIPTION:Manu Théron \nStage ouvert à tous chanteu.se.r.s\, occasionnel.le.s ou habitué.e.s\, chevronné.e.s ou balbutiant.e.s. \n« Les traditions de Carnaval donnent lieu à un déchaînement d’invention populaire\, et le chant en est un témoignage précieux et drôlatique. (…)\nPour ce stage de deux jours\, nous étudierons d’abord les situations d’émissions spécifiques\, la harangue\, les lazzi\, les chants satiriques\, qui mettent en jeu le collectif et l’individu dans un rapport d’échange soutenus par une transe joyeuse. Nous verrons et expérimenterons les situations corporelles\, les chants de marche\, de cortège\, de danse ou les aubades. (…)\nEt puis les chants du Carnaval ont aussi alimenté le fonds toujours renouvelé des chants contestataires dans tous les pays où cette tradition perdure. Nous verrons donc comment les deux répertoires\, contestation politique et Carnaval\, se percutent dans l’allégresse pour le bonheur et la délivrance de situations de créativité spontanée.\nLe but de ce stage est de se régaler dans des situations de chant plutôt débridées\, mais aussi de préparer nos futurs Carnaval\, en Limousin ou ailleurs ! » \n¡ Attention\, stage réservé à 20 chanteu.se.r.s maximum ! \n> Inscriptions par mail à contact@lostintraditions.com ou par téléphone 07 87 22 49 17.\n> 70 € les deux jours\, 50 € pour les précaires.\n>  Samedi 19 oct de 14 à 19h / Dimanche 20 de 10h30 à 18h30. \nPer ne’n saubre mai e se marcar – Renseignements et inscriptions\nAssociation Lost in Traditions\, Elisa – contact@lostintraditions.com – 07 87 22 49 17 (du lundi au jeudi de 9h à 12h et de 13h à 16h) \n
URL:http://ieo-lemosin.org/evenement/estagi-de-chant-coma-manu-theron
LOCATION:Chamboliva – Chamboulive (19)
CATEGORIES:Monde Occitan
END:VEVENT
BEGIN:VEVENT
DTSTART;TZID=Europe/Paris:20191019T150000
DTEND;TZID=Europe/Paris:20191019T150000
DTSTAMP:20260424T143232
CREATED:20190222T074655Z
LAST-MODIFIED:20190222T074655Z
UID:5923-1571497200-1571497200@ieo-lemosin.org
SUMMARY:Ballade des pommiers – Jean-François Vignaud
DESCRIPTION:Dans le cadre de la quinzaine « Souvenirs en Tête » sur le thème du voyage. \n \nJean François Vignaud de l’IEO Limousin nous amène pour un voyage tout près de chez nous à la (re)découverte des pommiers. \n> Gratuit.\n > Animation bilingue occitan. \nPer ne’n saubre mai – Renseignements\nCulture en Tête – 05 55 53 43 23 – cultureentete@orange.fr \n
URL:http://ieo-lemosin.org/evenement/ballade-des-pommiers-jean-francois-vignaud
LOCATION:Sala de las festas – Salle des fêtes\, Sant Matiá – Saint-Mathieu (87)
CATEGORIES:IEO Lemosin,Monde Occitan
END:VEVENT
END:VCALENDAR