BEGIN:VCALENDAR
VERSION:2.0
PRODID:-//IEO Lemosin - ECPv4.9.9//NONSGML v1.0//EN
CALSCALE:GREGORIAN
METHOD:PUBLISH
X-WR-CALNAME:IEO Lemosin
X-ORIGINAL-URL:http://ieo-lemosin.org
X-WR-CALDESC:Events for IEO Lemosin
BEGIN:VTIMEZONE
TZID:Europe/Paris
BEGIN:DAYLIGHT
TZOFFSETFROM:+0100
TZOFFSETTO:+0200
TZNAME:CEST
DTSTART:20200329T010000
END:DAYLIGHT
BEGIN:STANDARD
TZOFFSETFROM:+0200
TZOFFSETTO:+0100
TZNAME:CET
DTSTART:20201025T010000
END:STANDARD
END:VTIMEZONE
BEGIN:VEVENT
DTSTART;VALUE=DATE:20200107
DTEND;VALUE=DATE:20200216
DTSTAMP:20260424T092129
CREATED:20190225T112243Z
LAST-MODIFIED:20200103T203402Z
UID:6952-1578355200-1581811199@ieo-lemosin.org
SUMMARY:« Altérités »\, exposition photo d'Amandine Julien
DESCRIPTION: \n« À travers un travail photographique utilisant différents procédés pigmentaires\, anciens\, alternatifs\, mon regard interroge toujours « l’Autre ». L’Autre à travers l’objectif\, l’Autre en Soi\, l’Autre en tant qu’« ailleurs ». » \nCinéaste et photographe\, Amandine Julien utilise des techniques artisanales anciennes ou dites alternatives\, mélangeant les matériaux du peintre/graveur (papiers aquarelles\, encres\, pigments) et ceux du photographe (prises de vue argentique/chimie) dans le but d’une approche toujours plus organique et poétique de l’image. \nDans le cadre de l’exposition\, Amandine Julien animera un stage cyanotype mercredi 5 février de 15h à 17h. → Plus de renseignements\n \n> Vernissage mardi 7 janvier à 18h.\n> Entrée libre aux heures d’ouverture de la librairie. \nPer ne’n saubre mai – Renseignements\nLibrariá occitana – 05 55 32 06 44 – libraria-occitana@ieo-lemosin.org \n
URL:http://ieo-lemosin.org/evenement/alterites-exposition-photo-damandine-julien
LOCATION:Librariá occitana\, 42\, rua Viena Nauta – rue Haute-Vienne\, Limòtges – Limoges (87)
CATEGORIES:Libraria Occitana
END:VEVENT
BEGIN:VEVENT
DTSTART;TZID=Europe/Paris:20200117T200000
DTEND;TZID=Europe/Paris:20200117T200000
DTSTAMP:20260424T092129
CREATED:20191227T143934Z
LAST-MODIFIED:20191227T143934Z
UID:6866-1579291200-1579291200@ieo-lemosin.org
SUMMARY:Conférence « Collectage en Limousin » – Françoise Étay
DESCRIPTION:Organisée par le CRR dans le cadre de la Semaine occitane. \nLe Limousin s’est révélé\, depuis le XIXᵉ siècle\, une terre exceptionnelle sur le plan des traditions \nmusicales et chorégraphiques. Cette conférence\, illustrée de documents audiovisuels\, présentera \ndifférents exemples de ces richesses encore souvent très méconnues. \nFrançoise Étay a été à l’origine de la création du département de musique traditionnelle\, au Conservatoire à Rayonnement Régional de Limoges.\nParallèlement à ses activités pédagogiques\, elle a mené de nombreuses collectes et recherches\nethnomusicologiques\, portant plus particulièrement sur les chants\, les pratiques instrumentales et la danse dans les pays de bourrée. \n> Entrée libre.\n> À l’Auditorium. \nLa Semaine occitane est organisée par la Trad’Bande.\nLa Trad’Bande est l’association-relais qui a permis de gérer\, entre autres\, quelques étapes marquantes de la vie du département de musique traditionnelle du CRR de Limoges. Elle est active dans l’organisation de stages\, conférences\, concerts\, bals et animations\, dans la publication de CD et de documentation écrite\, ainsi que dans la gestion d’un pôle de documentation. \nPer ne’n saubre mai – Renseignements\n06 73 07 02 31 – mustradilim@free.fr \n
URL:http://ieo-lemosin.org/evenement/conference-collectage-en-limousin-francoise-etay
LOCATION:Conservatoire à Rayonnement Régional\, 9\, rue Fitz James\, Limòtges – Limoges (87)
CATEGORIES:Occitan World
END:VEVENT
END:VCALENDAR