BEGIN:VCALENDAR
VERSION:2.0
PRODID:-//IEO Lemosin - ECPv4.9.9//NONSGML v1.0//EN
CALSCALE:GREGORIAN
METHOD:PUBLISH
X-WR-CALNAME:IEO Lemosin
X-ORIGINAL-URL:http://ieo-lemosin.org
X-WR-CALDESC:Events for IEO Lemosin
BEGIN:VTIMEZONE
TZID:Europe/Paris
BEGIN:DAYLIGHT
TZOFFSETFROM:+0100
TZOFFSETTO:+0200
TZNAME:CEST
DTSTART:20200329T010000
END:DAYLIGHT
BEGIN:STANDARD
TZOFFSETFROM:+0200
TZOFFSETTO:+0100
TZNAME:CET
DTSTART:20201025T010000
END:STANDARD
END:VTIMEZONE
BEGIN:VEVENT
DTSTART;VALUE=DATE:20200218
DTEND;VALUE=DATE:20200329
DTSTAMP:20260424T055057
CREATED:20200122T115433Z
LAST-MODIFIED:20200129T051125Z
UID:6989-1581984000-1585439999@ieo-lemosin.org
SUMMARY:Mòstra « Auseus »\, gravaduras – Jan-Marc Simeonin
DESCRIPTION: \nNé en 1950 à Limoges\, Jan-Marc Simeonin est peintre\, dessinateur graveur et depuis quelques temps émailleur.\nIl a notamment illustré les Edicions dau Chamin de Sent Jaume dirigées par Jan Dau Melhau depuis l’origine.\nEn 2006\, paraît Auseus\, un recueil de poèmes de Joan-Glaudi Rolet. Vingt-quatre portraits d’oiseaux offrant très peu de qualités aviaires mais chacun\, au plus haut point\, son défaut tout humain : émouvants\, horripilants\, méchants\, dérisoires\, ballottés entre destinée et fatalité. Onze ont trouvé image grâce aux eaux-fortes de Jan-Marc Simeonin.\nD’autres illustrations de textes de Joan-Glaudi Rolet viendront compléter l’exposition. \n> Vernissatge dimarts 18 de feurier a 6 oras de l’enser.\n> Entrada libra a las oras de dubertura de la librariá. \nUn omenatge a l’escrivaire Joan-Glaudi Rolet\, que defuntet au mes de mai 2019\, se fará a la Librariá occitana lo divendres 20 de març a 6 oras e demiá de l’enser. \n→ Ne’n saubre mai \nPer ne’n saubre mai :\nLibrariá occitana – 05 55 32 06 44 – libraria-occitana@ieo-lemosin.org \n
URL:http://ieo-lemosin.org/evenement/mostra-auseus-gravaduras-jan-marc-simeonin
LOCATION:Librariá occitana\, 42\, rua Viena Nauta – rue Haute-Vienne\, Limòtges – Limoges (87)
CATEGORIES:Libraria Occitana
END:VEVENT
BEGIN:VEVENT
DTSTART;TZID=Europe/Paris:20200225T183000
DTEND;TZID=Europe/Paris:20200225T183000
DTSTAMP:20260424T055057
CREATED:20200206T214538Z
LAST-MODIFIED:20200224T112303Z
UID:7049-1582655400-1582655400@ieo-lemosin.org
SUMMARY:Presentacion de la novela « Biaça »\, biblioteca sonòra de l'IEO Lemosin
DESCRIPTION: \nLe 25 février prochain à l’occasion d’une soirée festive\, l’Institut d’Estudis Occitans dau Lemosin et le CIRDOC – Institut occitan de cultura présenteront au public une nouvelle version de La Biaça\, portail numérique de référence de la mémoire orale en occitan du Limousin\, fruit de la collaboration des deux institutions. \nPortée par l’IEO Lemosin depuis bientôt dix ans\, La Biaça constitue un formidable outil donnant accès\, via le numérique\, aux témoignages et aux collections sonores patiemment réunis par l’Institut. L’événement du 25/02 sera l’occasion de redécouvrir l’ampleur des ressources ainsi que les nouvelles fonctionnalités de la bibliothèque sonore développées dans le cadre de la coopération avec le CIRDOC. \nCe rendez-vous sera aussi une fête mettant en valeur l’indispensable « facteur humain » derrière le projet numérique : collecteurs\, témoins\, chercheurs\, acteurs politiques et informaticiens\, ayant permis à celui-ci de voir le jour et de se développer. \nL’événement se conclura en musique et autour d’un verre à l’occasion d’un temps festif aux côtés de Gilles de Becdelièvre. \nPer ne’n saubre mai – Renseignements\nLibrariá occitana – 05 55 32 06 44 – libraria.occitana@ieo-lemosin.org \n
URL:http://ieo-lemosin.org/evenement/presentacion-de-la-novela-biaca-biblioteca-sonora-de-lieo-lemosin
LOCATION:Librariá occitana\, 42\, rua Viena Nauta – rue Haute-Vienne\, Limòtges – Limoges (87)
CATEGORIES:IEO Lemosin,Libraria Occitana,Monde Occitan
END:VEVENT
END:VCALENDAR