BEGIN:VCALENDAR
VERSION:2.0
PRODID:-//IEO Lemosin - ECPv4.9.9//NONSGML v1.0//EN
CALSCALE:GREGORIAN
METHOD:PUBLISH
X-WR-CALNAME:IEO Lemosin
X-ORIGINAL-URL:http://ieo-lemosin.org
X-WR-CALDESC:Events for IEO Lemosin
BEGIN:VTIMEZONE
TZID:Europe/Paris
BEGIN:DAYLIGHT
TZOFFSETFROM:+0100
TZOFFSETTO:+0200
TZNAME:CEST
DTSTART:20200329T010000
END:DAYLIGHT
BEGIN:STANDARD
TZOFFSETFROM:+0200
TZOFFSETTO:+0100
TZNAME:CET
DTSTART:20201025T010000
END:STANDARD
END:VTIMEZONE
BEGIN:VEVENT
DTSTART;VALUE=DATE:20200218
DTEND;VALUE=DATE:20200329
DTSTAMP:20260424T055149
CREATED:20200122T115433Z
LAST-MODIFIED:20200129T051125Z
UID:6989-1581984000-1585439999@ieo-lemosin.org
SUMMARY:Mòstra « Auseus »\, gravaduras – Jan-Marc Simeonin
DESCRIPTION: \nNé en 1950 à Limoges\, Jan-Marc Simeonin est peintre\, dessinateur graveur et depuis quelques temps émailleur.\nIl a notamment illustré les Edicions dau Chamin de Sent Jaume dirigées par Jan Dau Melhau depuis l’origine.\nEn 2006\, paraît Auseus\, un recueil de poèmes de Joan-Glaudi Rolet. Vingt-quatre portraits d’oiseaux offrant très peu de qualités aviaires mais chacun\, au plus haut point\, son défaut tout humain : émouvants\, horripilants\, méchants\, dérisoires\, ballottés entre destinée et fatalité. Onze ont trouvé image grâce aux eaux-fortes de Jan-Marc Simeonin.\nD’autres illustrations de textes de Joan-Glaudi Rolet viendront compléter l’exposition. \n> Vernissatge dimarts 18 de feurier a 6 oras de l’enser.\n> Entrada libra a las oras de dubertura de la librariá. \nUn omenatge a l’escrivaire Joan-Glaudi Rolet\, que defuntet au mes de mai 2019\, se fará a la Librariá occitana lo divendres 20 de març a 6 oras e demiá de l’enser. \n→ Ne’n saubre mai \nPer ne’n saubre mai :\nLibrariá occitana – 05 55 32 06 44 – libraria-occitana@ieo-lemosin.org \n
URL:http://ieo-lemosin.org/evenement/mostra-auseus-gravaduras-jan-marc-simeonin
LOCATION:Librariá occitana\, 42\, rua Viena Nauta – rue Haute-Vienne\, Limòtges – Limoges (87)
CATEGORIES:Libraria Occitana
END:VEVENT
BEGIN:VEVENT
DTSTART;TZID=Europe/Paris:20200307T150000
DTEND;TZID=Europe/Paris:20200307T170000
DTSTAMP:20260424T055149
CREATED:20180912T114236Z
LAST-MODIFIED:20191218T181320Z
UID:6857-1583593200-1583600400@ieo-lemosin.org
SUMMARY:« Cafè platussant » en compagnie de Monica Sarrasin #2.6
DESCRIPTION:« Je le comprends mais je le parle pas »\n« Je trouve (plus) personne pour parler » \nVenez donc passer un petit moment à la librairie pour platussar (bavarder) en occitan – « limousin » ou « patois » à votre guise.\nOn y parlera de tout et de rien\, on pourra raconter des histoires ou un bon souvenir\, chanter une chanson ou lire un texte\, et partager tout ça autour d’une tasse de thé ou de café. \n> Entrée libre. \nPer ne’n saubre mai – Renseignements\nLibrariá occitana – 05 55 32 06 44 \n
URL:http://ieo-lemosin.org/evenement/cafe-platussant-en-compagnie-de-monica-sarrasin-marc2020
LOCATION:Librariá occitana\, 42\, rua Viena Nauta – rue Haute-Vienne\, Limòtges – Limoges (87)
CATEGORIES:Libraria Occitana
END:VEVENT
BEGIN:VEVENT
DTSTART;TZID=Europe/Paris:20200307T203000
DTEND;TZID=Europe/Paris:20200307T203000
DTSTAMP:20260424T055149
CREATED:20200224T145629Z
LAST-MODIFIED:20200224T145629Z
UID:7098-1583613000-1583613000@ieo-lemosin.org
SUMMARY:Théâtre : Jackie élue-lu + L'Arche de Bluc – Troupe Bat-de-l'Aile
DESCRIPTION: \n« On dit parfois que la politique divise… Mais elle peut aussi permettre de se réconcilier ! Nous ferons une tentative dans la 1ère partie de ce spectacle avec « Jackie élue-lu ». Changement total d’univers en 2nde partie avec un voyage surprenant chez un couple atypique. Camille est cantinière\, Adrien taupier. Depuis 13 ans\, la vie est paisible\, mais parfois les choses s’emballent et il n’y a rien d’autre à faire que de se laisser guider vers l’inconnu…\nLa première partie de ce spectacle met en scène Jackie et Lulu dans une nouvelle aventure toujours plus endiablée que les précédentes. De nouveaux personnages sauront donner du piquant à la vie de nos deux inséparables Jackie et Lulu. La seconde partie mêle langue limousine\, français… et pas seulement. N’hésitez pas à franchir le pas de « l’arche de Bluc ».\nSpectacle comique\, parfois burlesque\, mais jamais sérieux. » \nPer ne’n saubre mai e se marcar – Renseignements et réservations\n05 55 37 58 57 – 06 42 05 32 97 \n  \n
URL:http://ieo-lemosin.org/evenement/theatre-jackie-elue-lu-larche-de-bluc-troupe-bat-de-laile
LOCATION:Sala de las festas – Salle des fêtes\, Flavinhac – Flavignac (87)
CATEGORIES:Occitan World
END:VEVENT
END:VCALENDAR