BEGIN:VCALENDAR
VERSION:2.0
PRODID:-//IEO Lemosin - ECPv4.9.9//NONSGML v1.0//EN
CALSCALE:GREGORIAN
METHOD:PUBLISH
X-WR-CALNAME:IEO Lemosin
X-ORIGINAL-URL:http://ieo-lemosin.org
X-WR-CALDESC:Events for IEO Lemosin
BEGIN:VTIMEZONE
TZID:Europe/Paris
BEGIN:DAYLIGHT
TZOFFSETFROM:+0100
TZOFFSETTO:+0200
TZNAME:CEST
DTSTART:20200329T010000
END:DAYLIGHT
BEGIN:STANDARD
TZOFFSETFROM:+0200
TZOFFSETTO:+0100
TZNAME:CET
DTSTART:20201025T010000
END:STANDARD
END:VTIMEZONE
BEGIN:VEVENT
DTSTART;VALUE=DATE:20200605
DTEND;VALUE=DATE:20200606
DTSTAMP:20260424T004609
CREATED:20160503T094143Z
LAST-MODIFIED:20200313T161752Z
UID:7110-1591315200-1591401599@ieo-lemosin.org
SUMMARY:« Pas res de neve Rien de neuf » : Conte per Monica Burg
DESCRIPTION:La conteuse\n \nMonique Burg est originaire du Périgord Noir. Elle est comédienne depuis 1989 et conteuse depuis 1996. Ses spectacles\, composés de contes du monde et de créations personnelles\, sont ponctués de son chant à voix nue. \nLe spectacle « Pas ren de neve Rien de neuf »\nDu pays de l’homme au bout du chemin\, en passant par l’ambition\, la fermentation\, la machine à laver et le 45ème parallèle\, il y a de quoi se perdre et se retrouver… comme l’Antoine. \n> Tout public à partir de 7 ans.\n> Durée : 1h15. \nPer ne’n saubre mai / Renseignements\nMédiathèque intercommunale Éric Rohmer (Avenue Winston Churchill – 19000 Tulle) – 05 55 20 21 48 – mediatheque@tulleagglo.fr \n
URL:http://ieo-lemosin.org/evenement/pas-res-de-neve-rien-de-neuf-conte-per-monica-burg-tula
LOCATION:Mediateca Intercomunala Eric Rohmer\, av. Winston Churchill\, Tula – Tulle (19)
CATEGORIES:Monde Occitan
END:VEVENT
END:VCALENDAR