BEGIN:VCALENDAR
VERSION:2.0
PRODID:-//IEO Lemosin - ECPv4.9.9//NONSGML v1.0//EN
CALSCALE:GREGORIAN
METHOD:PUBLISH
X-WR-CALNAME:IEO Lemosin
X-ORIGINAL-URL:http://ieo-lemosin.org
X-WR-CALDESC:Events for IEO Lemosin
BEGIN:VTIMEZONE
TZID:Europe/Paris
BEGIN:DAYLIGHT
TZOFFSETFROM:+0100
TZOFFSETTO:+0200
TZNAME:CEST
DTSTART:20200329T010000
END:DAYLIGHT
BEGIN:STANDARD
TZOFFSETFROM:+0200
TZOFFSETTO:+0100
TZNAME:CET
DTSTART:20201025T010000
END:STANDARD
END:VTIMEZONE
BEGIN:VEVENT
DTSTART;VALUE=DATE:20200916
DTEND;VALUE=DATE:20201017
DTSTAMP:20260423T185511
CREATED:20200924T105015Z
LAST-MODIFIED:20200924T105507Z
UID:7441-1600214400-1602892799@ieo-lemosin.org
SUMMARY:Concors d'escritura en occitan
DESCRIPTION:L’associacion Aquí l’òc de Sent Seren (46) organiza un concors d’escritura per los escolans mai per los beus d’Òlt e de Corresa.\nAvetz d’aiciant’ au 16 d’octòbre per vos marcar. \n→ Las reglas dau concors \nNe’n saubre mai\n06 73 62 64 63 – asso.aquiloc@gmail.com – https://www.espacioccitancarcinol.com/ \n
URL:http://ieo-lemosin.org/evenement/concors-descritura-en-occitan
CATEGORIES:Monde Occitan
END:VEVENT
END:VCALENDAR