BEGIN:VCALENDAR
VERSION:2.0
PRODID:-//IEO Lemosin - ECPv4.9.9//NONSGML v1.0//EN
CALSCALE:GREGORIAN
METHOD:PUBLISH
X-WR-CALNAME:IEO Lemosin
X-ORIGINAL-URL:http://ieo-lemosin.org
X-WR-CALDESC:Events for IEO Lemosin
BEGIN:VTIMEZONE
TZID:Europe/Paris
BEGIN:DAYLIGHT
TZOFFSETFROM:+0100
TZOFFSETTO:+0200
TZNAME:CEST
DTSTART:20200329T010000
END:DAYLIGHT
BEGIN:STANDARD
TZOFFSETFROM:+0200
TZOFFSETTO:+0100
TZNAME:CET
DTSTART:20201025T010000
END:STANDARD
END:VTIMEZONE
BEGIN:VEVENT
DTSTART;VALUE=DATE:20200916
DTEND;VALUE=DATE:20201017
DTSTAMP:20260423T185409
CREATED:20200924T105015Z
LAST-MODIFIED:20200924T105507Z
UID:7441-1600214400-1602892799@ieo-lemosin.org
SUMMARY:Concors d'escritura en occitan
DESCRIPTION:L’associacion Aquí l’òc de Sent Seren (46) organiza un concors d’escritura per los escolans mai per los beus d’Òlt e de Corresa.\nAvetz d’aiciant’ au 16 d’octòbre per vos marcar. \n→ Las reglas dau concors \nNe’n saubre mai\n06 73 62 64 63 – asso.aquiloc@gmail.com – https://www.espacioccitancarcinol.com/ \n
URL:http://ieo-lemosin.org/evenement/concors-descritura-en-occitan
CATEGORIES:Monde Occitan
END:VEVENT
BEGIN:VEVENT
DTSTART;VALUE=DATE:20201013
DTEND;VALUE=DATE:20201115
DTSTAMP:20260423T185409
CREATED:20201012T093121Z
LAST-MODIFIED:20201012T093353Z
UID:7488-1602547200-1605398399@ieo-lemosin.org
SUMMARY:« Faute de grives\, on mange des merles » – Mòstra / Exposition photographique de Lùna Mouries
DESCRIPTION:Fraîchement diplômée d’une licence aux Beaux-arts de Limoges\, j’ai fait de ma passion\, la photographie\, mon travail.\nJ’aime ce rapport à l’autre\, ce face à face photographe/photographié.\nMon travail se fait principalement en studio. Un endroit clos et quasi stérile qui donne vie à mon imaginaire.\nCe que j’aime dans la photographie c’est la mise en scène. Pouvoir raconter des histoires et choisir jusqu’aux moindres petits détails.\nBienvenue dans mon monde où tout est là\, tout est vrai mais où rien ne s’inscrit dans une réalité quotidienne. \n> Entrée libre aux heures d’ouverture de la librairie\, dans le respect des mesures sanitaires : masque\, lavage des mains à l’entrée\, distanciation. \nPer ne’n saubre mai – Renseignements :\nLibrariá occitana – 05 55 32 06 44 / libraria.occitana@ieo-lemosin.org \n \n
URL:http://ieo-lemosin.org/evenement/faute-de-grives-on-mange-des-merles-mostra-exposition-photographique-de-luna-mouries
LOCATION:Librariá occitana\, 42\, rua Viena Nauta – rue Haute-Vienne\, Limòtges – Limoges (87)
CATEGORIES:Libraria Occitana
END:VEVENT
BEGIN:VEVENT
DTSTART;TZID=Europe/Paris:20201014T150000
DTEND;TZID=Europe/Paris:20201014T173000
DTSTAMP:20260423T185409
CREATED:20190225T112243Z
LAST-MODIFIED:20201014T121753Z
UID:7343-1602687600-1602696600@ieo-lemosin.org
SUMMARY:Stage d’enluminure : « Créer son propre blason à la façon des blasons médiévaux » 1/2
DESCRIPTION:REPORTAT A LA PRIMA 2021 – REPORTÉ AU PRINTEMPS 2021 \nStage sur deux mercredis consécutifs : les 14 et 21 octobre 2020. \n  \nDeux séances d’enluminure pour construire un blason personnel qui représente des symboles familiaux\, professionnels ou simplement originaux\, dans la tradition médiévale. \nLe stage sera l’occasion d’appréhender la reproduction sur parchemin\, la pose de la feuille d’or\, le choix des couleurs de pigments\, leurs mélanges et leurs poses. Le résultat est toujours\, avec l’effet de l’or et les couleurs sur parchemin\, une satisfaction et une joie réelle… \nAprès le dessin textile\, l’illustration de livres jeunesse\, la décoration intérieure\, la peinture\, Véronique Dujardin\, diplômée des Beaux-Arts de Roubaix\, s’est découvert une véritable passion pour l’enluminure médiévale depuis quelques années. \n> Ouvert à tous à partir de 10 ans\, enfants accompagnés. Limité à 6 places\, inscription à la boutique (acompte demandé).\n> Tarif : 35 € la séance\, 70 € les deux (travail plus approfondi). \n> Matériel fourni. \nPer ne’n saubre mai e se marcar – Renseignements et réservations\nLibrariá occitana – 05 55 32 06 44 – libraria.occitana@ieo-lemosin.org \n
URL:http://ieo-lemosin.org/evenement/stage-denluminure-creer-son-propre-blason-a-la-facon-des-blasons-medievaux-1-2
LOCATION:Librariá occitana\, 42\, rua Viena Nauta – rue Haute-Vienne\, Limòtges – Limoges (87)
CATEGORIES:Libraria Occitana
END:VEVENT
END:VCALENDAR