BEGIN:VCALENDAR
VERSION:2.0
PRODID:-//IEO Lemosin - ECPv4.9.9//NONSGML v1.0//EN
CALSCALE:GREGORIAN
METHOD:PUBLISH
X-WR-CALNAME:IEO Lemosin
X-ORIGINAL-URL:http://ieo-lemosin.org
X-WR-CALDESC:Events for IEO Lemosin
BEGIN:VTIMEZONE
TZID:Europe/Paris
BEGIN:DAYLIGHT
TZOFFSETFROM:+0100
TZOFFSETTO:+0200
TZNAME:CEST
DTSTART:20210328T010000
END:DAYLIGHT
BEGIN:STANDARD
TZOFFSETFROM:+0200
TZOFFSETTO:+0100
TZNAME:CET
DTSTART:20211031T010000
END:STANDARD
END:VTIMEZONE
BEGIN:VEVENT
DTSTART;VALUE=DATE:20210116
DTEND;VALUE=DATE:20210118
DTSTAMP:20260423T141014
CREATED:20200729T095010Z
LAST-MODIFIED:20201209T093433Z
UID:7309-1610755200-1610927999@ieo-lemosin.org
SUMMARY:Estagi de chant
DESCRIPTION:ANULLAT A CAUSA DE LA SITUACION SANITÀRIA… \n  \n
URL:http://ieo-lemosin.org/evenement/estagi-de-chant
CATEGORIES:IEO Lemosin
END:VEVENT
END:VCALENDAR